BEGIN:VCALENDAR
VERSION:2.0
PRODID:-//Sovereign Grace URC - ECPv6.15.20//NONSGML v1.0//EN
CALSCALE:GREGORIAN
METHOD:PUBLISH
X-ORIGINAL-URL:https://sovereigngraceurc.org
X-WR-CALDESC:Events for Sovereign Grace URC
REFRESH-INTERVAL;VALUE=DURATION:PT1H
X-Robots-Tag:noindex
X-PUBLISHED-TTL:PT1H

BEGIN:VEVENT
DTSTART;TZID=America/Detroit:20171203T173000
DTEND;TZID=America/Detroit:20171203T173000
DTSTAMP:20260425T213141
CREATED:20171001T180627Z
LAST-MODIFIED:20171001T180627Z
UID:5381-1512322200-1512322200@sovereigngraceurc.org
SUMMARY:Sunday Evening Service
DESCRIPTION:
URL:https://sovereigngraceurc.org/event/sunday-evening-service-694
LOCATION:Sovereign Grace URC\, 62 Lamoreaux Drive NE\, Comstock Park\, MI\, 49321\, United States
CATEGORIES:PM Service
END:VEVENT
BEGIN:VEVENT
DTSTART;TZID=America/Detroit:20171126T173000
DTEND;TZID=America/Detroit:20171126T173000
DTSTAMP:20260425T213141
CREATED:20171001T180621Z
LAST-MODIFIED:20171001T180621Z
UID:5378-1511717400-1511717400@sovereigngraceurc.org
SUMMARY:Sunday Evening Service
DESCRIPTION:
URL:https://sovereigngraceurc.org/event/sunday-evening-service-693
LOCATION:Sovereign Grace URC\, 62 Lamoreaux Drive NE\, Comstock Park\, MI\, 49321\, United States
CATEGORIES:PM Service
END:VEVENT
BEGIN:VEVENT
DTSTART;TZID=America/Detroit:20171119T173000
DTEND;TZID=America/Detroit:20171119T173000
DTSTAMP:20260425T213141
CREATED:20171001T180617Z
LAST-MODIFIED:20171001T180617Z
UID:5375-1511112600-1511112600@sovereigngraceurc.org
SUMMARY:Sunday Evening Service
DESCRIPTION:
URL:https://sovereigngraceurc.org/event/sunday-evening-service-692
LOCATION:Sovereign Grace URC\, 62 Lamoreaux Drive NE\, Comstock Park\, MI\, 49321\, United States
CATEGORIES:PM Service
END:VEVENT
BEGIN:VEVENT
DTSTART;TZID=America/Detroit:20171112T173000
DTEND;TZID=America/Detroit:20171112T173000
DTSTAMP:20260425T213141
CREATED:20171001T180610Z
LAST-MODIFIED:20171001T180610Z
UID:5372-1510507800-1510507800@sovereigngraceurc.org
SUMMARY:Sunday Evening Service
DESCRIPTION:
URL:https://sovereigngraceurc.org/event/sunday-evening-service-691
LOCATION:Sovereign Grace URC\, 62 Lamoreaux Drive NE\, Comstock Park\, MI\, 49321\, United States
CATEGORIES:PM Service
END:VEVENT
BEGIN:VEVENT
DTSTART;TZID=America/Detroit:20171105T173000
DTEND;TZID=America/Detroit:20171105T173000
DTSTAMP:20260425T213141
CREATED:20171001T180606Z
LAST-MODIFIED:20171001T180606Z
UID:5369-1509903000-1509903000@sovereigngraceurc.org
SUMMARY:Sunday Evening Service
DESCRIPTION:
URL:https://sovereigngraceurc.org/event/sunday-evening-service-690
LOCATION:Sovereign Grace URC\, 62 Lamoreaux Drive NE\, Comstock Park\, MI\, 49321\, United States
CATEGORIES:PM Service
END:VEVENT
BEGIN:VEVENT
DTSTART;TZID=America/Detroit:20171029T173000
DTEND;TZID=America/Detroit:20171029T173000
DTSTAMP:20260425T213141
CREATED:20171001T180602Z
LAST-MODIFIED:20171001T180602Z
UID:5366-1509298200-1509298200@sovereigngraceurc.org
SUMMARY:Sunday Evening Service
DESCRIPTION:
URL:https://sovereigngraceurc.org/event/sunday-evening-service-689
LOCATION:Sovereign Grace URC\, 62 Lamoreaux Drive NE\, Comstock Park\, MI\, 49321\, United States
CATEGORIES:PM Service
END:VEVENT
BEGIN:VEVENT
DTSTART;TZID=America/Detroit:20171022T173000
DTEND;TZID=America/Detroit:20171022T173000
DTSTAMP:20260425T213141
CREATED:20171001T180555Z
LAST-MODIFIED:20171001T180555Z
UID:5363-1508693400-1508693400@sovereigngraceurc.org
SUMMARY:Sunday Evening Service
DESCRIPTION:
URL:https://sovereigngraceurc.org/event/sunday-evening-service-688
LOCATION:Sovereign Grace URC\, 62 Lamoreaux Drive NE\, Comstock Park\, MI\, 49321\, United States
CATEGORIES:PM Service
END:VEVENT
BEGIN:VEVENT
DTSTART;TZID=America/Detroit:20171015T173000
DTEND;TZID=America/Detroit:20171015T173000
DTSTAMP:20260425T213141
CREATED:20171001T180552Z
LAST-MODIFIED:20171001T180552Z
UID:5360-1508088600-1508088600@sovereigngraceurc.org
SUMMARY:Sunday Evening Service
DESCRIPTION:
URL:https://sovereigngraceurc.org/event/sunday-evening-service-687
LOCATION:Sovereign Grace URC\, 62 Lamoreaux Drive NE\, Comstock Park\, MI\, 49321\, United States
CATEGORIES:PM Service
END:VEVENT
BEGIN:VEVENT
DTSTART;TZID=America/Detroit:20171008T173000
DTEND;TZID=America/Detroit:20171008T173000
DTSTAMP:20260425T213141
CREATED:20171001T180546Z
LAST-MODIFIED:20171001T180546Z
UID:5357-1507483800-1507483800@sovereigngraceurc.org
SUMMARY:Sunday Evening Service
DESCRIPTION:
URL:https://sovereigngraceurc.org/event/sunday-evening-service-686
LOCATION:Sovereign Grace URC\, 62 Lamoreaux Drive NE\, Comstock Park\, MI\, 49321\, United States
CATEGORIES:PM Service
END:VEVENT
BEGIN:VEVENT
DTSTART;TZID=America/Detroit:20171001T173000
DTEND;TZID=America/Detroit:20171001T173000
DTSTAMP:20260425T213141
CREATED:20171001T180543Z
LAST-MODIFIED:20171001T180543Z
UID:5354-1506879000-1506879000@sovereigngraceurc.org
SUMMARY:Sunday Evening Service
DESCRIPTION:
URL:https://sovereigngraceurc.org/event/sunday-evening-service-685
LOCATION:Sovereign Grace URC\, 62 Lamoreaux Drive NE\, Comstock Park\, MI\, 49321\, United States
CATEGORIES:PM Service
END:VEVENT
BEGIN:VEVENT
DTSTART;TZID=America/Detroit:20170924T173000
DTEND;TZID=America/Detroit:20170924T173000
DTSTAMP:20260425T213141
CREATED:20171001T180533Z
LAST-MODIFIED:20171001T180533Z
UID:5351-1506274200-1506274200@sovereigngraceurc.org
SUMMARY:Sunday Evening Service
DESCRIPTION:
URL:https://sovereigngraceurc.org/event/sunday-evening-service-684
LOCATION:Sovereign Grace URC\, 62 Lamoreaux Drive NE\, Comstock Park\, MI\, 49321\, United States
CATEGORIES:PM Service
END:VEVENT
BEGIN:VEVENT
DTSTART;TZID=America/Detroit:20260425T213141
DTEND;TZID=America/Detroit:20260425T213141
DTSTAMP:20260425T213141
CREATED:20251130T162720Z
LAST-MODIFIED:20251130T162720Z
UID:16734-0-0@sovereigngraceurc.org
SUMMARY:Sunday Evening Worship Service
DESCRIPTION:
URL:https://sovereigngraceurc.org/event/sunday-evening-worship-service-89
LOCATION:MI
CATEGORIES:PM Service
END:VEVENT
BEGIN:VEVENT
DTSTART;TZID=America/Detroit:02060628T170000
DTEND;TZID=America/Detroit:02060628T170000
DTSTAMP:20260425T213141
CREATED:20251130T162833Z
LAST-MODIFIED:20251130T162833Z
UID:16745--55651042800--55651042800@sovereigngraceurc.org
SUMMARY:Sunday Evening Worship Service
DESCRIPTION:
URL:https://sovereigngraceurc.org/event/sunday-evening-worship-service-99
LOCATION:MI
CATEGORIES:PM Service
END:VEVENT
END:VCALENDAR