BEGIN:VCALENDAR
VERSION:2.0
PRODID:-//Sovereign Grace URC - ECPv6.15.20//NONSGML v1.0//EN
CALSCALE:GREGORIAN
METHOD:PUBLISH
X-WR-CALNAME:Sovereign Grace URC
X-ORIGINAL-URL:https://sovereigngraceurc.org
X-WR-CALDESC:Events for Sovereign Grace URC
REFRESH-INTERVAL;VALUE=DURATION:PT1H
X-Robots-Tag:noindex
X-PUBLISHED-TTL:PT1H
BEGIN:VTIMEZONE
TZID:America/Detroit
BEGIN:DAYLIGHT
TZOFFSETFROM:-0500
TZOFFSETTO:-0400
TZNAME:EDT
DTSTART:20160313T070000
END:DAYLIGHT
BEGIN:STANDARD
TZOFFSETFROM:-0400
TZOFFSETTO:-0500
TZNAME:EST
DTSTART:20161106T060000
END:STANDARD
BEGIN:DAYLIGHT
TZOFFSETFROM:-0500
TZOFFSETTO:-0400
TZNAME:EDT
DTSTART:20170312T070000
END:DAYLIGHT
BEGIN:STANDARD
TZOFFSETFROM:-0400
TZOFFSETTO:-0500
TZNAME:EST
DTSTART:20171105T060000
END:STANDARD
BEGIN:DAYLIGHT
TZOFFSETFROM:-0500
TZOFFSETTO:-0400
TZNAME:EDT
DTSTART:20180311T070000
END:DAYLIGHT
BEGIN:STANDARD
TZOFFSETFROM:-0400
TZOFFSETTO:-0500
TZNAME:EST
DTSTART:20181104T060000
END:STANDARD
BEGIN:DAYLIGHT
TZOFFSETFROM:-0500
TZOFFSETTO:-0400
TZNAME:EDT
DTSTART:20190310T070000
END:DAYLIGHT
BEGIN:STANDARD
TZOFFSETFROM:-0400
TZOFFSETTO:-0500
TZNAME:EST
DTSTART:20191103T060000
END:STANDARD
END:VTIMEZONE
BEGIN:VEVENT
DTSTART;TZID=America/Detroit:20180422T173000
DTEND;TZID=America/Detroit:20180422T173000
DTSTAMP:20260425T174942
CREATED:20171001T180807Z
LAST-MODIFIED:20171001T180807Z
UID:5441-1524418200-1524418200@sovereigngraceurc.org
SUMMARY:Sunday Evening Service
DESCRIPTION:
URL:https://sovereigngraceurc.org/event/sunday-evening-service-714
LOCATION:Sovereign Grace URC\, 62 Lamoreaux Drive NE\, Comstock Park\, MI\, 49321\, United States
CATEGORIES:PM Service
END:VEVENT
BEGIN:VEVENT
DTSTART;TZID=America/Detroit:20180415T173000
DTEND;TZID=America/Detroit:20180415T173000
DTSTAMP:20260425T174942
CREATED:20171001T180801Z
LAST-MODIFIED:20171001T180801Z
UID:5438-1523813400-1523813400@sovereigngraceurc.org
SUMMARY:Sunday Evening Service
DESCRIPTION:
URL:https://sovereigngraceurc.org/event/sunday-evening-service-713
LOCATION:Sovereign Grace URC\, 62 Lamoreaux Drive NE\, Comstock Park\, MI\, 49321\, United States
CATEGORIES:PM Service
END:VEVENT
BEGIN:VEVENT
DTSTART;TZID=America/Detroit:20180408T173000
DTEND;TZID=America/Detroit:20180408T173000
DTSTAMP:20260425T174942
CREATED:20171001T180757Z
LAST-MODIFIED:20171001T180757Z
UID:5435-1523208600-1523208600@sovereigngraceurc.org
SUMMARY:Sunday Evening Service
DESCRIPTION:
URL:https://sovereigngraceurc.org/event/sunday-evening-service-712
LOCATION:Sovereign Grace URC\, 62 Lamoreaux Drive NE\, Comstock Park\, MI\, 49321\, United States
CATEGORIES:PM Service
END:VEVENT
BEGIN:VEVENT
DTSTART;TZID=America/Detroit:20180401T173000
DTEND;TZID=America/Detroit:20180401T173000
DTSTAMP:20260425T174942
CREATED:20171001T180750Z
LAST-MODIFIED:20171001T180750Z
UID:5432-1522603800-1522603800@sovereigngraceurc.org
SUMMARY:Sunday Evening Service
DESCRIPTION:
URL:https://sovereigngraceurc.org/event/sunday-evening-service-711
LOCATION:Sovereign Grace URC\, 62 Lamoreaux Drive NE\, Comstock Park\, MI\, 49321\, United States
CATEGORIES:PM Service
END:VEVENT
BEGIN:VEVENT
DTSTART;TZID=America/Detroit:20180325T173000
DTEND;TZID=America/Detroit:20180325T173000
DTSTAMP:20260425T174942
CREATED:20171001T180746Z
LAST-MODIFIED:20171001T180746Z
UID:5429-1521999000-1521999000@sovereigngraceurc.org
SUMMARY:Sunday Evening Service
DESCRIPTION:
URL:https://sovereigngraceurc.org/event/sunday-evening-service-710
LOCATION:Sovereign Grace URC\, 62 Lamoreaux Drive NE\, Comstock Park\, MI\, 49321\, United States
CATEGORIES:PM Service
END:VEVENT
BEGIN:VEVENT
DTSTART;TZID=America/Detroit:20180318T173000
DTEND;TZID=America/Detroit:20180318T173000
DTSTAMP:20260425T174942
CREATED:20171001T180742Z
LAST-MODIFIED:20171001T180742Z
UID:5426-1521394200-1521394200@sovereigngraceurc.org
SUMMARY:Sunday Evening Service
DESCRIPTION:
URL:https://sovereigngraceurc.org/event/sunday-evening-service-709
LOCATION:Sovereign Grace URC\, 62 Lamoreaux Drive NE\, Comstock Park\, MI\, 49321\, United States
CATEGORIES:PM Service
END:VEVENT
BEGIN:VEVENT
DTSTART;TZID=America/Detroit:20180311T173000
DTEND;TZID=America/Detroit:20180311T173000
DTSTAMP:20260425T174942
CREATED:20171001T180736Z
LAST-MODIFIED:20171001T180736Z
UID:5423-1520789400-1520789400@sovereigngraceurc.org
SUMMARY:Sunday Evening Service
DESCRIPTION:
URL:https://sovereigngraceurc.org/event/sunday-evening-service-708
LOCATION:Sovereign Grace URC\, 62 Lamoreaux Drive NE\, Comstock Park\, MI\, 49321\, United States
CATEGORIES:PM Service
END:VEVENT
BEGIN:VEVENT
DTSTART;TZID=America/Detroit:20180304T173000
DTEND;TZID=America/Detroit:20180304T173000
DTSTAMP:20260425T174942
CREATED:20171001T180733Z
LAST-MODIFIED:20171001T180733Z
UID:5420-1520184600-1520184600@sovereigngraceurc.org
SUMMARY:Sunday Evening Service
DESCRIPTION:
URL:https://sovereigngraceurc.org/event/sunday-evening-service-707
LOCATION:Sovereign Grace URC\, 62 Lamoreaux Drive NE\, Comstock Park\, MI\, 49321\, United States
CATEGORIES:PM Service
END:VEVENT
BEGIN:VEVENT
DTSTART;TZID=America/Detroit:20180225T173000
DTEND;TZID=America/Detroit:20180225T173000
DTSTAMP:20260425T174942
CREATED:20171001T180728Z
LAST-MODIFIED:20171001T180728Z
UID:5417-1519579800-1519579800@sovereigngraceurc.org
SUMMARY:Sunday Evening Service
DESCRIPTION:
URL:https://sovereigngraceurc.org/event/sunday-evening-service-706
LOCATION:Sovereign Grace URC\, 62 Lamoreaux Drive NE\, Comstock Park\, MI\, 49321\, United States
CATEGORIES:PM Service
END:VEVENT
BEGIN:VEVENT
DTSTART;TZID=America/Detroit:20180218T173000
DTEND;TZID=America/Detroit:20180218T173000
DTSTAMP:20260425T174942
CREATED:20171001T180724Z
LAST-MODIFIED:20171001T180724Z
UID:5414-1518975000-1518975000@sovereigngraceurc.org
SUMMARY:Sunday Evening Service
DESCRIPTION:
URL:https://sovereigngraceurc.org/event/sunday-evening-service-705
LOCATION:Sovereign Grace URC\, 62 Lamoreaux Drive NE\, Comstock Park\, MI\, 49321\, United States
CATEGORIES:PM Service
END:VEVENT
BEGIN:VEVENT
DTSTART;TZID=America/Detroit:20180211T173000
DTEND;TZID=America/Detroit:20180211T173000
DTSTAMP:20260425T174942
CREATED:20171001T180719Z
LAST-MODIFIED:20171001T180719Z
UID:5411-1518370200-1518370200@sovereigngraceurc.org
SUMMARY:Sunday Evening Service
DESCRIPTION:
URL:https://sovereigngraceurc.org/event/sunday-evening-service-704
LOCATION:Sovereign Grace URC\, 62 Lamoreaux Drive NE\, Comstock Park\, MI\, 49321\, United States
CATEGORIES:PM Service
END:VEVENT
BEGIN:VEVENT
DTSTART;TZID=America/Detroit:20180204T173000
DTEND;TZID=America/Detroit:20180204T173000
DTSTAMP:20260425T174942
CREATED:20171001T180712Z
LAST-MODIFIED:20171001T180712Z
UID:5408-1517765400-1517765400@sovereigngraceurc.org
SUMMARY:Sunday Evening Service
DESCRIPTION:
URL:https://sovereigngraceurc.org/event/sunday-evening-service-703
LOCATION:Sovereign Grace URC\, 62 Lamoreaux Drive NE\, Comstock Park\, MI\, 49321\, United States
CATEGORIES:PM Service
END:VEVENT
BEGIN:VEVENT
DTSTART;TZID=America/Detroit:20180128T173000
DTEND;TZID=America/Detroit:20180128T173000
DTSTAMP:20260425T174942
CREATED:20171001T180708Z
LAST-MODIFIED:20171001T180708Z
UID:5405-1517160600-1517160600@sovereigngraceurc.org
SUMMARY:Sunday Evening Service
DESCRIPTION:
URL:https://sovereigngraceurc.org/event/sunday-evening-service-702
LOCATION:Sovereign Grace URC\, 62 Lamoreaux Drive NE\, Comstock Park\, MI\, 49321\, United States
CATEGORIES:PM Service
END:VEVENT
BEGIN:VEVENT
DTSTART;TZID=America/Detroit:20180121T173000
DTEND;TZID=America/Detroit:20180121T173000
DTSTAMP:20260425T174942
CREATED:20171001T180701Z
LAST-MODIFIED:20171001T180701Z
UID:5402-1516555800-1516555800@sovereigngraceurc.org
SUMMARY:Sunday Evening Service
DESCRIPTION:
URL:https://sovereigngraceurc.org/event/sunday-evening-service-701
LOCATION:Sovereign Grace URC\, 62 Lamoreaux Drive NE\, Comstock Park\, MI\, 49321\, United States
CATEGORIES:PM Service
END:VEVENT
BEGIN:VEVENT
DTSTART;TZID=America/Detroit:20180114T173000
DTEND;TZID=America/Detroit:20180114T173000
DTSTAMP:20260425T174942
CREATED:20171001T180657Z
LAST-MODIFIED:20171001T180657Z
UID:5399-1515951000-1515951000@sovereigngraceurc.org
SUMMARY:Sunday Evening Service
DESCRIPTION:
URL:https://sovereigngraceurc.org/event/sunday-evening-service-700
LOCATION:Sovereign Grace URC\, 62 Lamoreaux Drive NE\, Comstock Park\, MI\, 49321\, United States
CATEGORIES:PM Service
END:VEVENT
BEGIN:VEVENT
DTSTART;TZID=America/Detroit:20180107T173000
DTEND;TZID=America/Detroit:20180107T173000
DTSTAMP:20260425T174942
CREATED:20171001T180652Z
LAST-MODIFIED:20171001T180652Z
UID:5396-1515346200-1515346200@sovereigngraceurc.org
SUMMARY:Sunday Evening Service
DESCRIPTION:
URL:https://sovereigngraceurc.org/event/sunday-evening-service-699
LOCATION:Sovereign Grace URC\, 62 Lamoreaux Drive NE\, Comstock Park\, MI\, 49321\, United States
CATEGORIES:PM Service
END:VEVENT
BEGIN:VEVENT
DTSTART;TZID=America/Detroit:20171231T173000
DTEND;TZID=America/Detroit:20171231T173000
DTSTAMP:20260425T174942
CREATED:20171001T180646Z
LAST-MODIFIED:20171001T180646Z
UID:5393-1514741400-1514741400@sovereigngraceurc.org
SUMMARY:Sunday Evening Service
DESCRIPTION:
URL:https://sovereigngraceurc.org/event/sunday-evening-service-698
LOCATION:Sovereign Grace URC\, 62 Lamoreaux Drive NE\, Comstock Park\, MI\, 49321\, United States
CATEGORIES:PM Service
END:VEVENT
BEGIN:VEVENT
DTSTART;TZID=America/Detroit:20171224T173000
DTEND;TZID=America/Detroit:20171224T173000
DTSTAMP:20260425T174942
CREATED:20171001T180642Z
LAST-MODIFIED:20171001T180642Z
UID:5390-1514136600-1514136600@sovereigngraceurc.org
SUMMARY:Sunday Evening Service
DESCRIPTION:
URL:https://sovereigngraceurc.org/event/sunday-evening-service-697
LOCATION:Sovereign Grace URC\, 62 Lamoreaux Drive NE\, Comstock Park\, MI\, 49321\, United States
CATEGORIES:PM Service
END:VEVENT
BEGIN:VEVENT
DTSTART;TZID=America/Detroit:20171217T173000
DTEND;TZID=America/Detroit:20171217T173000
DTSTAMP:20260425T174942
CREATED:20171001T180638Z
LAST-MODIFIED:20171001T180638Z
UID:5387-1513531800-1513531800@sovereigngraceurc.org
SUMMARY:Sunday Evening Service
DESCRIPTION:
URL:https://sovereigngraceurc.org/event/sunday-evening-service-696
LOCATION:Sovereign Grace URC\, 62 Lamoreaux Drive NE\, Comstock Park\, MI\, 49321\, United States
CATEGORIES:PM Service
END:VEVENT
BEGIN:VEVENT
DTSTART;TZID=America/Detroit:20171210T173000
DTEND;TZID=America/Detroit:20171210T173000
DTSTAMP:20260425T174942
CREATED:20171001T180634Z
LAST-MODIFIED:20171001T180634Z
UID:5384-1512927000-1512927000@sovereigngraceurc.org
SUMMARY:Sunday Evening Service
DESCRIPTION:
URL:https://sovereigngraceurc.org/event/sunday-evening-service-695
LOCATION:Sovereign Grace URC\, 62 Lamoreaux Drive NE\, Comstock Park\, MI\, 49321\, United States
CATEGORIES:PM Service
END:VEVENT
BEGIN:VEVENT
DTSTART;TZID=America/Detroit:20171203T173000
DTEND;TZID=America/Detroit:20171203T173000
DTSTAMP:20260425T174942
CREATED:20171001T180627Z
LAST-MODIFIED:20171001T180627Z
UID:5381-1512322200-1512322200@sovereigngraceurc.org
SUMMARY:Sunday Evening Service
DESCRIPTION:
URL:https://sovereigngraceurc.org/event/sunday-evening-service-694
LOCATION:Sovereign Grace URC\, 62 Lamoreaux Drive NE\, Comstock Park\, MI\, 49321\, United States
CATEGORIES:PM Service
END:VEVENT
BEGIN:VEVENT
DTSTART;TZID=America/Detroit:20171126T173000
DTEND;TZID=America/Detroit:20171126T173000
DTSTAMP:20260425T174942
CREATED:20171001T180621Z
LAST-MODIFIED:20171001T180621Z
UID:5378-1511717400-1511717400@sovereigngraceurc.org
SUMMARY:Sunday Evening Service
DESCRIPTION:
URL:https://sovereigngraceurc.org/event/sunday-evening-service-693
LOCATION:Sovereign Grace URC\, 62 Lamoreaux Drive NE\, Comstock Park\, MI\, 49321\, United States
CATEGORIES:PM Service
END:VEVENT
BEGIN:VEVENT
DTSTART;TZID=America/Detroit:20171119T173000
DTEND;TZID=America/Detroit:20171119T173000
DTSTAMP:20260425T174942
CREATED:20171001T180617Z
LAST-MODIFIED:20171001T180617Z
UID:5375-1511112600-1511112600@sovereigngraceurc.org
SUMMARY:Sunday Evening Service
DESCRIPTION:
URL:https://sovereigngraceurc.org/event/sunday-evening-service-692
LOCATION:Sovereign Grace URC\, 62 Lamoreaux Drive NE\, Comstock Park\, MI\, 49321\, United States
CATEGORIES:PM Service
END:VEVENT
BEGIN:VEVENT
DTSTART;TZID=America/Detroit:20171112T173000
DTEND;TZID=America/Detroit:20171112T173000
DTSTAMP:20260425T174942
CREATED:20171001T180610Z
LAST-MODIFIED:20171001T180610Z
UID:5372-1510507800-1510507800@sovereigngraceurc.org
SUMMARY:Sunday Evening Service
DESCRIPTION:
URL:https://sovereigngraceurc.org/event/sunday-evening-service-691
LOCATION:Sovereign Grace URC\, 62 Lamoreaux Drive NE\, Comstock Park\, MI\, 49321\, United States
CATEGORIES:PM Service
END:VEVENT
BEGIN:VEVENT
DTSTART;TZID=America/Detroit:20171105T173000
DTEND;TZID=America/Detroit:20171105T173000
DTSTAMP:20260425T174942
CREATED:20171001T180606Z
LAST-MODIFIED:20171001T180606Z
UID:5369-1509903000-1509903000@sovereigngraceurc.org
SUMMARY:Sunday Evening Service
DESCRIPTION:
URL:https://sovereigngraceurc.org/event/sunday-evening-service-690
LOCATION:Sovereign Grace URC\, 62 Lamoreaux Drive NE\, Comstock Park\, MI\, 49321\, United States
CATEGORIES:PM Service
END:VEVENT
BEGIN:VEVENT
DTSTART;TZID=America/Detroit:20171029T173000
DTEND;TZID=America/Detroit:20171029T173000
DTSTAMP:20260425T174942
CREATED:20171001T180602Z
LAST-MODIFIED:20171001T180602Z
UID:5366-1509298200-1509298200@sovereigngraceurc.org
SUMMARY:Sunday Evening Service
DESCRIPTION:
URL:https://sovereigngraceurc.org/event/sunday-evening-service-689
LOCATION:Sovereign Grace URC\, 62 Lamoreaux Drive NE\, Comstock Park\, MI\, 49321\, United States
CATEGORIES:PM Service
END:VEVENT
BEGIN:VEVENT
DTSTART;TZID=America/Detroit:20171022T173000
DTEND;TZID=America/Detroit:20171022T173000
DTSTAMP:20260425T174942
CREATED:20171001T180555Z
LAST-MODIFIED:20171001T180555Z
UID:5363-1508693400-1508693400@sovereigngraceurc.org
SUMMARY:Sunday Evening Service
DESCRIPTION:
URL:https://sovereigngraceurc.org/event/sunday-evening-service-688
LOCATION:Sovereign Grace URC\, 62 Lamoreaux Drive NE\, Comstock Park\, MI\, 49321\, United States
CATEGORIES:PM Service
END:VEVENT
BEGIN:VEVENT
DTSTART;TZID=America/Detroit:20171015T173000
DTEND;TZID=America/Detroit:20171015T173000
DTSTAMP:20260425T174942
CREATED:20171001T180552Z
LAST-MODIFIED:20171001T180552Z
UID:5360-1508088600-1508088600@sovereigngraceurc.org
SUMMARY:Sunday Evening Service
DESCRIPTION:
URL:https://sovereigngraceurc.org/event/sunday-evening-service-687
LOCATION:Sovereign Grace URC\, 62 Lamoreaux Drive NE\, Comstock Park\, MI\, 49321\, United States
CATEGORIES:PM Service
END:VEVENT
BEGIN:VEVENT
DTSTART;TZID=America/Detroit:20171008T173000
DTEND;TZID=America/Detroit:20171008T173000
DTSTAMP:20260425T174942
CREATED:20171001T180546Z
LAST-MODIFIED:20171001T180546Z
UID:5357-1507483800-1507483800@sovereigngraceurc.org
SUMMARY:Sunday Evening Service
DESCRIPTION:
URL:https://sovereigngraceurc.org/event/sunday-evening-service-686
LOCATION:Sovereign Grace URC\, 62 Lamoreaux Drive NE\, Comstock Park\, MI\, 49321\, United States
CATEGORIES:PM Service
END:VEVENT
BEGIN:VEVENT
DTSTART;TZID=America/Detroit:20171001T173000
DTEND;TZID=America/Detroit:20171001T173000
DTSTAMP:20260425T174942
CREATED:20171001T180543Z
LAST-MODIFIED:20171001T180543Z
UID:5354-1506879000-1506879000@sovereigngraceurc.org
SUMMARY:Sunday Evening Service
DESCRIPTION:
URL:https://sovereigngraceurc.org/event/sunday-evening-service-685
LOCATION:Sovereign Grace URC\, 62 Lamoreaux Drive NE\, Comstock Park\, MI\, 49321\, United States
CATEGORIES:PM Service
END:VEVENT
END:VCALENDAR