BEGIN:VCALENDAR
VERSION:2.0
PRODID:-//Sovereign Grace URC - ECPv6.15.20//NONSGML v1.0//EN
CALSCALE:GREGORIAN
METHOD:PUBLISH
X-ORIGINAL-URL:https://sovereigngraceurc.org
X-WR-CALDESC:Events for Sovereign Grace URC
REFRESH-INTERVAL;VALUE=DURATION:PT1H
X-Robots-Tag:noindex
X-PUBLISHED-TTL:PT1H
BEGIN:VTIMEZONE
TZID:America/Detroit
BEGIN:DAYLIGHT
TZOFFSETFROM:-0500
TZOFFSETTO:-0400
TZNAME:EDT
DTSTART:20170312T070000
END:DAYLIGHT
BEGIN:STANDARD
TZOFFSETFROM:-0400
TZOFFSETTO:-0500
TZNAME:EST
DTSTART:20171105T060000
END:STANDARD
BEGIN:DAYLIGHT
TZOFFSETFROM:-0500
TZOFFSETTO:-0400
TZNAME:EDT
DTSTART:20180311T070000
END:DAYLIGHT
BEGIN:STANDARD
TZOFFSETFROM:-0400
TZOFFSETTO:-0500
TZNAME:EST
DTSTART:20181104T060000
END:STANDARD
BEGIN:DAYLIGHT
TZOFFSETFROM:-0500
TZOFFSETTO:-0400
TZNAME:EDT
DTSTART:20190310T070000
END:DAYLIGHT
BEGIN:STANDARD
TZOFFSETFROM:-0400
TZOFFSETTO:-0500
TZNAME:EST
DTSTART:20191103T060000
END:STANDARD
BEGIN:DAYLIGHT
TZOFFSETFROM:-0500
TZOFFSETTO:-0400
TZNAME:EDT
DTSTART:20200308T070000
END:DAYLIGHT
BEGIN:STANDARD
TZOFFSETFROM:-0400
TZOFFSETTO:-0500
TZNAME:EST
DTSTART:20201101T060000
END:STANDARD
END:VTIMEZONE
BEGIN:VEVENT
DTSTART;TZID=America/Detroit:20190421T173000
DTEND;TZID=America/Detroit:20190421T173000
DTSTAMP:20260425T123948
CREATED:20171001T181259Z
LAST-MODIFIED:20171001T181259Z
UID:5640-1555867800-1555867800@sovereigngraceurc.org
SUMMARY:Sunday Evening Service
DESCRIPTION:
URL:https://sovereigngraceurc.org/event/sunday-evening-service-766
LOCATION:Sovereign Grace URC\, 62 Lamoreaux Drive NE\, Comstock Park\, MI\, 49321\, United States
CATEGORIES:PM Service
END:VEVENT
BEGIN:VEVENT
DTSTART;TZID=America/Detroit:20190414T173000
DTEND;TZID=America/Detroit:20190414T173000
DTSTAMP:20260425T123948
CREATED:20171001T181255Z
LAST-MODIFIED:20171001T181255Z
UID:5637-1555263000-1555263000@sovereigngraceurc.org
SUMMARY:Sunday Evening Service
DESCRIPTION:
URL:https://sovereigngraceurc.org/event/sunday-evening-service-765
LOCATION:Sovereign Grace URC\, 62 Lamoreaux Drive NE\, Comstock Park\, MI\, 49321\, United States
CATEGORIES:PM Service
END:VEVENT
BEGIN:VEVENT
DTSTART;TZID=America/Detroit:20190407T173000
DTEND;TZID=America/Detroit:20190407T173000
DTSTAMP:20260425T123948
CREATED:20171001T181247Z
LAST-MODIFIED:20171001T181247Z
UID:5634-1554658200-1554658200@sovereigngraceurc.org
SUMMARY:Sunday Evening Service
DESCRIPTION:
URL:https://sovereigngraceurc.org/event/sunday-evening-service-764
LOCATION:Sovereign Grace URC\, 62 Lamoreaux Drive NE\, Comstock Park\, MI\, 49321\, United States
CATEGORIES:PM Service
END:VEVENT
BEGIN:VEVENT
DTSTART;TZID=America/Detroit:20190331T173000
DTEND;TZID=America/Detroit:20190331T173000
DTSTAMP:20260425T123948
CREATED:20171001T181241Z
LAST-MODIFIED:20171001T181241Z
UID:5631-1554053400-1554053400@sovereigngraceurc.org
SUMMARY:Sunday Evening Service
DESCRIPTION:
URL:https://sovereigngraceurc.org/event/sunday-evening-service-763
LOCATION:Sovereign Grace URC\, 62 Lamoreaux Drive NE\, Comstock Park\, MI\, 49321\, United States
CATEGORIES:PM Service
END:VEVENT
BEGIN:VEVENT
DTSTART;TZID=America/Detroit:20190324T173000
DTEND;TZID=America/Detroit:20190324T173000
DTSTAMP:20260425T123948
CREATED:20171001T181236Z
LAST-MODIFIED:20171001T181236Z
UID:5628-1553448600-1553448600@sovereigngraceurc.org
SUMMARY:Sunday Evening Service
DESCRIPTION:
URL:https://sovereigngraceurc.org/event/sunday-evening-service-762
LOCATION:Sovereign Grace URC\, 62 Lamoreaux Drive NE\, Comstock Park\, MI\, 49321\, United States
CATEGORIES:PM Service
END:VEVENT
BEGIN:VEVENT
DTSTART;TZID=America/Detroit:20190317T173000
DTEND;TZID=America/Detroit:20190317T173000
DTSTAMP:20260425T123948
CREATED:20171001T181230Z
LAST-MODIFIED:20171001T181233Z
UID:5620-1552843800-1552843800@sovereigngraceurc.org
SUMMARY:Sunday Evening Service
DESCRIPTION:
URL:https://sovereigngraceurc.org/event/sunday-evening-service-761
LOCATION:Sovereign Grace URC\, 62 Lamoreaux Drive NE\, Comstock Park\, MI\, 49321\, United States
CATEGORIES:PM Service
END:VEVENT
BEGIN:VEVENT
DTSTART;TZID=America/Detroit:20190310T173000
DTEND;TZID=America/Detroit:20190310T173000
DTSTAMP:20260425T123948
CREATED:20171001T181226Z
LAST-MODIFIED:20171001T181233Z
UID:5617-1552239000-1552239000@sovereigngraceurc.org
SUMMARY:Sunday Evening Service
DESCRIPTION:
URL:https://sovereigngraceurc.org/event/sunday-evening-service-760
LOCATION:Sovereign Grace URC\, 62 Lamoreaux Drive NE\, Comstock Park\, MI\, 49321\, United States
CATEGORIES:PM Service
END:VEVENT
BEGIN:VEVENT
DTSTART;TZID=America/Detroit:20190303T173000
DTEND;TZID=America/Detroit:20190303T173000
DTSTAMP:20260425T123948
CREATED:20171001T181220Z
LAST-MODIFIED:20171001T181220Z
UID:5614-1551634200-1551634200@sovereigngraceurc.org
SUMMARY:Sunday Evening Service
DESCRIPTION:
URL:https://sovereigngraceurc.org/event/sunday-evening-service-759
LOCATION:Sovereign Grace URC\, 62 Lamoreaux Drive NE\, Comstock Park\, MI\, 49321\, United States
CATEGORIES:PM Service
END:VEVENT
BEGIN:VEVENT
DTSTART;TZID=America/Detroit:20190210T173000
DTEND;TZID=America/Detroit:20190210T173000
DTSTAMP:20260425T123948
CREATED:20171001T181201Z
LAST-MODIFIED:20171001T181205Z
UID:5600-1549819800-1549819800@sovereigngraceurc.org
SUMMARY:Sunday Evening Service
DESCRIPTION:
URL:https://sovereigngraceurc.org/event/sunday-evening-service-756
LOCATION:Sovereign Grace URC\, 62 Lamoreaux Drive NE\, Comstock Park\, MI\, 49321\, United States
CATEGORIES:PM Service
END:VEVENT
BEGIN:VEVENT
DTSTART;TZID=America/Detroit:20190203T173000
DTEND;TZID=America/Detroit:20190203T173000
DTSTAMP:20260425T123948
CREATED:20171001T181156Z
LAST-MODIFIED:20171001T181205Z
UID:5597-1549215000-1549215000@sovereigngraceurc.org
SUMMARY:Sunday Evening Service
DESCRIPTION:
URL:https://sovereigngraceurc.org/event/sunday-evening-service-755
LOCATION:Sovereign Grace URC\, 62 Lamoreaux Drive NE\, Comstock Park\, MI\, 49321\, United States
CATEGORIES:PM Service
END:VEVENT
BEGIN:VEVENT
DTSTART;TZID=America/Detroit:20190127T173000
DTEND;TZID=America/Detroit:20190127T173000
DTSTAMP:20260425T123948
CREATED:20171001T181148Z
LAST-MODIFIED:20171001T181148Z
UID:5594-1548610200-1548610200@sovereigngraceurc.org
SUMMARY:Sunday Evening Service
DESCRIPTION:
URL:https://sovereigngraceurc.org/event/sunday-evening-service-754
LOCATION:Sovereign Grace URC\, 62 Lamoreaux Drive NE\, Comstock Park\, MI\, 49321\, United States
CATEGORIES:PM Service
END:VEVENT
BEGIN:VEVENT
DTSTART;TZID=America/Detroit:20190106T173000
DTEND;TZID=America/Detroit:20190106T173000
DTSTAMP:20260425T123948
CREATED:20171001T181129Z
LAST-MODIFIED:20171001T181133Z
UID:5580-1546795800-1546795800@sovereigngraceurc.org
SUMMARY:Sunday Evening Service
DESCRIPTION:
URL:https://sovereigngraceurc.org/event/sunday-evening-service-751
LOCATION:Sovereign Grace URC\, 62 Lamoreaux Drive NE\, Comstock Park\, MI\, 49321\, United States
CATEGORIES:PM Service
END:VEVENT
BEGIN:VEVENT
DTSTART;TZID=America/Detroit:20181230T173000
DTEND;TZID=America/Detroit:20181230T173000
DTSTAMP:20260425T123948
CREATED:20171001T181125Z
LAST-MODIFIED:20171001T181132Z
UID:5577-1546191000-1546191000@sovereigngraceurc.org
SUMMARY:Sunday Evening Service
DESCRIPTION:
URL:https://sovereigngraceurc.org/event/sunday-evening-service-750
LOCATION:Sovereign Grace URC\, 62 Lamoreaux Drive NE\, Comstock Park\, MI\, 49321\, United States
CATEGORIES:PM Service
END:VEVENT
BEGIN:VEVENT
DTSTART;TZID=America/Detroit:20181223T173000
DTEND;TZID=America/Detroit:20181223T173000
DTSTAMP:20260425T123948
CREATED:20171001T181119Z
LAST-MODIFIED:20171001T181124Z
UID:5569-1545586200-1545586200@sovereigngraceurc.org
SUMMARY:Sunday Evening Service
DESCRIPTION:
URL:https://sovereigngraceurc.org/event/sunday-evening-service-749
LOCATION:Sovereign Grace URC\, 62 Lamoreaux Drive NE\, Comstock Park\, MI\, 49321\, United States
CATEGORIES:PM Service
END:VEVENT
BEGIN:VEVENT
DTSTART;TZID=America/Detroit:20181118T173000
DTEND;TZID=America/Detroit:20181118T173000
DTSTAMP:20260425T123948
CREATED:20171001T181051Z
LAST-MODIFIED:20171001T181056Z
UID:5548-1542562200-1542562200@sovereigngraceurc.org
SUMMARY:Sunday Evening Service
DESCRIPTION:
URL:https://sovereigngraceurc.org/event/sunday-evening-service-744
LOCATION:Sovereign Grace URC\, 62 Lamoreaux Drive NE\, Comstock Park\, MI\, 49321\, United States
CATEGORIES:PM Service
END:VEVENT
BEGIN:VEVENT
DTSTART;TZID=America/Detroit:20181111T173000
DTEND;TZID=America/Detroit:20181111T173000
DTSTAMP:20260425T123948
CREATED:20171001T181046Z
LAST-MODIFIED:20171001T181046Z
UID:5545-1541957400-1541957400@sovereigngraceurc.org
SUMMARY:Sunday Evening Service
DESCRIPTION:
URL:https://sovereigngraceurc.org/event/sunday-evening-service-743
LOCATION:Sovereign Grace URC\, 62 Lamoreaux Drive NE\, Comstock Park\, MI\, 49321\, United States
CATEGORIES:PM Service
END:VEVENT
BEGIN:VEVENT
DTSTART;TZID=America/Detroit:20181104T173000
DTEND;TZID=America/Detroit:20181104T173000
DTSTAMP:20260425T123948
CREATED:20171001T181041Z
LAST-MODIFIED:20171001T181041Z
UID:5542-1541352600-1541352600@sovereigngraceurc.org
SUMMARY:Sunday Evening Service
DESCRIPTION:
URL:https://sovereigngraceurc.org/event/sunday-evening-service-742
LOCATION:Sovereign Grace URC\, 62 Lamoreaux Drive NE\, Comstock Park\, MI\, 49321\, United States
CATEGORIES:PM Service
END:VEVENT
BEGIN:VEVENT
DTSTART;TZID=America/Detroit:20181014T173000
DTEND;TZID=America/Detroit:20181014T173000
DTSTAMP:20260425T123948
CREATED:20171001T181024Z
LAST-MODIFIED:20171001T181029Z
UID:5528-1539538200-1539538200@sovereigngraceurc.org
SUMMARY:Sunday Evening Service
DESCRIPTION:
URL:https://sovereigngraceurc.org/event/sunday-evening-service-739
LOCATION:Sovereign Grace URC\, 62 Lamoreaux Drive NE\, Comstock Park\, MI\, 49321\, United States
CATEGORIES:PM Service
END:VEVENT
BEGIN:VEVENT
DTSTART;TZID=America/Detroit:20181007T173000
DTEND;TZID=America/Detroit:20181007T173000
DTSTAMP:20260425T123948
CREATED:20171001T181016Z
LAST-MODIFIED:20171001T181020Z
UID:5520-1538933400-1538933400@sovereigngraceurc.org
SUMMARY:Sunday Evening Service
DESCRIPTION:
URL:https://sovereigngraceurc.org/event/sunday-evening-service-738
LOCATION:Sovereign Grace URC\, 62 Lamoreaux Drive NE\, Comstock Park\, MI\, 49321\, United States
CATEGORIES:PM Service
END:VEVENT
BEGIN:VEVENT
DTSTART;TZID=America/Detroit:20180930T173000
DTEND;TZID=America/Detroit:20180930T173000
DTSTAMP:20260425T123948
CREATED:20171001T181011Z
LAST-MODIFIED:20171001T181019Z
UID:5517-1538328600-1538328600@sovereigngraceurc.org
SUMMARY:Sunday Evening Service
DESCRIPTION:
URL:https://sovereigngraceurc.org/event/sunday-evening-service-737
LOCATION:Sovereign Grace URC\, 62 Lamoreaux Drive NE\, Comstock Park\, MI\, 49321\, United States
CATEGORIES:PM Service
END:VEVENT
BEGIN:VEVENT
DTSTART;TZID=America/Detroit:20180909T173000
DTEND;TZID=America/Detroit:20180909T173000
DTSTAMP:20260425T123948
CREATED:20171001T180947Z
LAST-MODIFIED:20171001T180952Z
UID:5502-1536514200-1536514200@sovereigngraceurc.org
SUMMARY:Sunday Evening Service
DESCRIPTION:
URL:https://sovereigngraceurc.org/event/sunday-evening-service-734
LOCATION:Sovereign Grace URC\, 62 Lamoreaux Drive NE\, Comstock Park\, MI\, 49321\, United States
CATEGORIES:PM Service
END:VEVENT
BEGIN:VEVENT
DTSTART;TZID=America/Detroit:20180902T173000
DTEND;TZID=America/Detroit:20180902T173000
DTSTAMP:20260425T123948
CREATED:20171001T180939Z
LAST-MODIFIED:20171001T180939Z
UID:5499-1535909400-1535909400@sovereigngraceurc.org
SUMMARY:Sunday Evening Service
DESCRIPTION:
URL:https://sovereigngraceurc.org/event/sunday-evening-service-733
LOCATION:Sovereign Grace URC\, 62 Lamoreaux Drive NE\, Comstock Park\, MI\, 49321\, United States
CATEGORIES:PM Service
END:VEVENT
BEGIN:VEVENT
DTSTART;TZID=America/Detroit:20180826T173000
DTEND;TZID=America/Detroit:20180826T173000
DTSTAMP:20260425T123948
CREATED:20171001T180936Z
LAST-MODIFIED:20171001T180936Z
UID:5496-1535304600-1535304600@sovereigngraceurc.org
SUMMARY:Sunday Evening Service
DESCRIPTION:
URL:https://sovereigngraceurc.org/event/sunday-evening-service-732
LOCATION:Sovereign Grace URC\, 62 Lamoreaux Drive NE\, Comstock Park\, MI\, 49321\, United States
CATEGORIES:PM Service
END:VEVENT
BEGIN:VEVENT
DTSTART;TZID=America/Detroit:20180819T173000
DTEND;TZID=America/Detroit:20180819T173000
DTSTAMP:20260425T123948
CREATED:20171001T180929Z
LAST-MODIFIED:20171001T180929Z
UID:5493-1534699800-1534699800@sovereigngraceurc.org
SUMMARY:Sunday Evening Service
DESCRIPTION:
URL:https://sovereigngraceurc.org/event/sunday-evening-service-731
LOCATION:Sovereign Grace URC\, 62 Lamoreaux Drive NE\, Comstock Park\, MI\, 49321\, United States
CATEGORIES:PM Service
END:VEVENT
BEGIN:VEVENT
DTSTART;TZID=America/Detroit:20180812T173000
DTEND;TZID=America/Detroit:20180812T173000
DTSTAMP:20260425T123948
CREATED:20171001T180925Z
LAST-MODIFIED:20171001T180925Z
UID:5490-1534095000-1534095000@sovereigngraceurc.org
SUMMARY:Sunday Evening Service
DESCRIPTION:
URL:https://sovereigngraceurc.org/event/sunday-evening-service-730
LOCATION:Sovereign Grace URC\, 62 Lamoreaux Drive NE\, Comstock Park\, MI\, 49321\, United States
CATEGORIES:PM Service
END:VEVENT
BEGIN:VEVENT
DTSTART;TZID=America/Detroit:20180805T173000
DTEND;TZID=America/Detroit:20180805T173000
DTSTAMP:20260425T123948
CREATED:20171001T180921Z
LAST-MODIFIED:20171001T180921Z
UID:5487-1533490200-1533490200@sovereigngraceurc.org
SUMMARY:Sunday Evening Service
DESCRIPTION:
URL:https://sovereigngraceurc.org/event/sunday-evening-service-729
LOCATION:Sovereign Grace URC\, 62 Lamoreaux Drive NE\, Comstock Park\, MI\, 49321\, United States
CATEGORIES:PM Service
END:VEVENT
BEGIN:VEVENT
DTSTART;TZID=America/Detroit:20180729T173000
DTEND;TZID=America/Detroit:20180729T173000
DTSTAMP:20260425T123948
CREATED:20171001T180914Z
LAST-MODIFIED:20171001T180914Z
UID:5484-1532885400-1532885400@sovereigngraceurc.org
SUMMARY:Sunday Evening Service
DESCRIPTION:
URL:https://sovereigngraceurc.org/event/sunday-evening-service-728
LOCATION:Sovereign Grace URC\, 62 Lamoreaux Drive NE\, Comstock Park\, MI\, 49321\, United States
CATEGORIES:PM Service
END:VEVENT
BEGIN:VEVENT
DTSTART;TZID=America/Detroit:20180722T173000
DTEND;TZID=America/Detroit:20180722T173000
DTSTAMP:20260425T123948
CREATED:20171001T180910Z
LAST-MODIFIED:20171001T180910Z
UID:5481-1532280600-1532280600@sovereigngraceurc.org
SUMMARY:Sunday Evening Service
DESCRIPTION:
URL:https://sovereigngraceurc.org/event/sunday-evening-service-727
LOCATION:Sovereign Grace URC\, 62 Lamoreaux Drive NE\, Comstock Park\, MI\, 49321\, United States
CATEGORIES:PM Service
END:VEVENT
BEGIN:VEVENT
DTSTART;TZID=America/Detroit:20180715T173000
DTEND;TZID=America/Detroit:20180715T173000
DTSTAMP:20260425T123948
CREATED:20171001T180905Z
LAST-MODIFIED:20171001T180905Z
UID:5477-1531675800-1531675800@sovereigngraceurc.org
SUMMARY:Sunday Evening Service
DESCRIPTION:
URL:https://sovereigngraceurc.org/event/sunday-evening-service-726
LOCATION:Sovereign Grace URC\, 62 Lamoreaux Drive NE\, Comstock Park\, MI\, 49321\, United States
CATEGORIES:PM Service
END:VEVENT
BEGIN:VEVENT
DTSTART;TZID=America/Detroit:20180708T173000
DTEND;TZID=America/Detroit:20180708T173000
DTSTAMP:20260425T123948
CREATED:20171001T180901Z
LAST-MODIFIED:20171001T180901Z
UID:5474-1531071000-1531071000@sovereigngraceurc.org
SUMMARY:Sunday Evening Service
DESCRIPTION:
URL:https://sovereigngraceurc.org/event/sunday-evening-service-725
LOCATION:Sovereign Grace URC\, 62 Lamoreaux Drive NE\, Comstock Park\, MI\, 49321\, United States
CATEGORIES:PM Service
END:VEVENT
END:VCALENDAR