BEGIN:VCALENDAR
VERSION:2.0
PRODID:-//Sovereign Grace URC - ECPv6.15.20//NONSGML v1.0//EN
CALSCALE:GREGORIAN
METHOD:PUBLISH
X-WR-CALNAME:Sovereign Grace URC
X-ORIGINAL-URL:https://sovereigngraceurc.org
X-WR-CALDESC:Events for Sovereign Grace URC
REFRESH-INTERVAL;VALUE=DURATION:PT1H
X-Robots-Tag:noindex
X-PUBLISHED-TTL:PT1H
BEGIN:VTIMEZONE
TZID:America/Detroit
BEGIN:DAYLIGHT
TZOFFSETFROM:-0500
TZOFFSETTO:-0400
TZNAME:EDT
DTSTART:20180311T070000
END:DAYLIGHT
BEGIN:STANDARD
TZOFFSETFROM:-0400
TZOFFSETTO:-0500
TZNAME:EST
DTSTART:20181104T060000
END:STANDARD
BEGIN:DAYLIGHT
TZOFFSETFROM:-0500
TZOFFSETTO:-0400
TZNAME:EDT
DTSTART:20190310T070000
END:DAYLIGHT
BEGIN:STANDARD
TZOFFSETFROM:-0400
TZOFFSETTO:-0500
TZNAME:EST
DTSTART:20191103T060000
END:STANDARD
BEGIN:DAYLIGHT
TZOFFSETFROM:-0500
TZOFFSETTO:-0400
TZNAME:EDT
DTSTART:20200308T070000
END:DAYLIGHT
BEGIN:STANDARD
TZOFFSETFROM:-0400
TZOFFSETTO:-0500
TZNAME:EST
DTSTART:20201101T060000
END:STANDARD
BEGIN:DAYLIGHT
TZOFFSETFROM:-0500
TZOFFSETTO:-0400
TZNAME:EDT
DTSTART:20210314T070000
END:DAYLIGHT
BEGIN:STANDARD
TZOFFSETFROM:-0400
TZOFFSETTO:-0500
TZNAME:EST
DTSTART:20211107T060000
END:STANDARD
END:VTIMEZONE
BEGIN:VEVENT
DTSTART;TZID=America/Detroit:20200802T173000
DTEND;TZID=America/Detroit:20200802T173000
DTSTAMP:20260425T072647
CREATED:20171001T181936Z
LAST-MODIFIED:20171001T181936Z
UID:5906-1596389400-1596389400@sovereigngraceurc.org
SUMMARY:Sunday Evening Service
DESCRIPTION:
URL:https://sovereigngraceurc.org/event/sunday-evening-service-833
LOCATION:Sovereign Grace URC\, 62 Lamoreaux Drive NE\, Comstock Park\, MI\, 49321\, United States
CATEGORIES:PM Service
END:VEVENT
BEGIN:VEVENT
DTSTART;TZID=America/Detroit:20200726T173000
DTEND;TZID=America/Detroit:20200726T173000
DTSTAMP:20260425T072647
CREATED:20171001T181931Z
LAST-MODIFIED:20171001T181931Z
UID:5903-1595784600-1595784600@sovereigngraceurc.org
SUMMARY:Sunday Evening Service
DESCRIPTION:
URL:https://sovereigngraceurc.org/event/sunday-evening-service-832
LOCATION:Sovereign Grace URC\, 62 Lamoreaux Drive NE\, Comstock Park\, MI\, 49321\, United States
CATEGORIES:PM Service
END:VEVENT
BEGIN:VEVENT
DTSTART;TZID=America/Detroit:20200719T173000
DTEND;TZID=America/Detroit:20200719T173000
DTSTAMP:20260425T072647
CREATED:20171001T181925Z
LAST-MODIFIED:20171001T181928Z
UID:5895-1595179800-1595179800@sovereigngraceurc.org
SUMMARY:Sunday Evening Service
DESCRIPTION:
URL:https://sovereigngraceurc.org/event/sunday-evening-service-831
LOCATION:Sovereign Grace URC\, 62 Lamoreaux Drive NE\, Comstock Park\, MI\, 49321\, United States
CATEGORIES:PM Service
END:VEVENT
BEGIN:VEVENT
DTSTART;TZID=America/Detroit:20200712T173000
DTEND;TZID=America/Detroit:20200712T173000
DTSTAMP:20260425T072647
CREATED:20171001T181920Z
LAST-MODIFIED:20171001T181928Z
UID:5892-1594575000-1594575000@sovereigngraceurc.org
SUMMARY:Sunday Evening Service
DESCRIPTION:
URL:https://sovereigngraceurc.org/event/sunday-evening-service-830
LOCATION:Sovereign Grace URC\, 62 Lamoreaux Drive NE\, Comstock Park\, MI\, 49321\, United States
CATEGORIES:PM Service
END:VEVENT
BEGIN:VEVENT
DTSTART;TZID=America/Detroit:20200705T173000
DTEND;TZID=America/Detroit:20200705T173000
DTSTAMP:20260425T072647
CREATED:20171001T181911Z
LAST-MODIFIED:20171001T181917Z
UID:5884-1593970200-1593970200@sovereigngraceurc.org
SUMMARY:Sunday Evening Service
DESCRIPTION:
URL:https://sovereigngraceurc.org/event/sunday-evening-service-829
LOCATION:Sovereign Grace URC\, 62 Lamoreaux Drive NE\, Comstock Park\, MI\, 49321\, United States
CATEGORIES:PM Service
END:VEVENT
BEGIN:VEVENT
DTSTART;TZID=America/Detroit:20200614T173000
DTEND;TZID=America/Detroit:20200614T173000
DTSTAMP:20260425T072647
CREATED:20171001T181850Z
LAST-MODIFIED:20171001T181854Z
UID:5870-1592155800-1592155800@sovereigngraceurc.org
SUMMARY:Sunday Evening Service
DESCRIPTION:
URL:https://sovereigngraceurc.org/event/sunday-evening-service-826
LOCATION:Sovereign Grace URC\, 62 Lamoreaux Drive NE\, Comstock Park\, MI\, 49321\, United States
CATEGORIES:PM Service
END:VEVENT
BEGIN:VEVENT
DTSTART;TZID=America/Detroit:20200607T173000
DTEND;TZID=America/Detroit:20200607T173000
DTSTAMP:20260425T072647
CREATED:20171001T181845Z
LAST-MODIFIED:20171001T181853Z
UID:5867-1591551000-1591551000@sovereigngraceurc.org
SUMMARY:Sunday Evening Service
DESCRIPTION:
URL:https://sovereigngraceurc.org/event/sunday-evening-service-825
LOCATION:Sovereign Grace URC\, 62 Lamoreaux Drive NE\, Comstock Park\, MI\, 49321\, United States
CATEGORIES:PM Service
END:VEVENT
BEGIN:VEVENT
DTSTART;TZID=America/Detroit:20200524T173000
DTEND;TZID=America/Detroit:20200524T173000
DTSTAMP:20260425T072647
CREATED:20171001T181832Z
LAST-MODIFIED:20171001T181835Z
UID:5856-1590341400-1590341400@sovereigngraceurc.org
SUMMARY:Sunday Evening Service
DESCRIPTION:
URL:https://sovereigngraceurc.org/event/sunday-evening-service-823
LOCATION:Sovereign Grace URC\, 62 Lamoreaux Drive NE\, Comstock Park\, MI\, 49321\, United States
CATEGORIES:PM Service
END:VEVENT
BEGIN:VEVENT
DTSTART;TZID=America/Detroit:20200517T173000
DTEND;TZID=America/Detroit:20200517T173000
DTSTAMP:20260425T072647
CREATED:20171001T181828Z
LAST-MODIFIED:20171001T181835Z
UID:5853-1589736600-1589736600@sovereigngraceurc.org
SUMMARY:Sunday Evening Service
DESCRIPTION:
URL:https://sovereigngraceurc.org/event/sunday-evening-service-822
LOCATION:Sovereign Grace URC\, 62 Lamoreaux Drive NE\, Comstock Park\, MI\, 49321\, United States
CATEGORIES:PM Service
END:VEVENT
BEGIN:VEVENT
DTSTART;TZID=America/Detroit:20200510T173000
DTEND;TZID=America/Detroit:20200510T173000
DTSTAMP:20260425T072647
CREATED:20171001T181820Z
LAST-MODIFIED:20171001T181824Z
UID:5845-1589131800-1589131800@sovereigngraceurc.org
SUMMARY:Sunday Evening Service
DESCRIPTION:
URL:https://sovereigngraceurc.org/event/sunday-evening-service-821
LOCATION:Sovereign Grace URC\, 62 Lamoreaux Drive NE\, Comstock Park\, MI\, 49321\, United States
CATEGORIES:PM Service
END:VEVENT
BEGIN:VEVENT
DTSTART;TZID=America/Detroit:20200503T173000
DTEND;TZID=America/Detroit:20200503T173000
DTSTAMP:20260425T072647
CREATED:20171001T181816Z
LAST-MODIFIED:20200501T120238Z
UID:5842-1588527000-1588527000@sovereigngraceurc.org
SUMMARY:Sunday Evening Service
DESCRIPTION:Join us Sunday May 3 as we resume meeting together in person.  Due to Kuyper College being closed at this time\, we will be meeting at 4060 Leonard NE.  Visitors are welcome. \n*Please bring your own chairs. \n*We plan on keeping “social-distancing” by having folks sit by individuals and by families\, at least 6 feet apart. \n*For now\, anyway\, we shall observe a new “normal” of greeting one another: no handshakes\, hugs\, or kisses.  Smiles\, hellos\, and air shakes should suffice. \nIf you are unable to join us in person\, feel free to join us for our broadcast at 11:30 AM and 7:30 PM.  You can listen via our website or by calling the SermonAudio phone line at 712-432-3410.  Choose option  2 and enter the church code 54454.
URL:https://sovereigngraceurc.org/event/sunday-evening-service-820
LOCATION:Sovereign Grace URC\, 62 Lamoreaux Drive NE\, Comstock Park\, MI\, 49321\, United States
CATEGORIES:PM Service
END:VEVENT
BEGIN:VEVENT
DTSTART;TZID=America/Detroit:20200322T173000
DTEND;TZID=America/Detroit:20200322T173000
DTSTAMP:20260425T072647
CREATED:20171001T181740Z
LAST-MODIFIED:20200320T153648Z
UID:5819-1584898200-1584898200@sovereigngraceurc.org
SUMMARY:Sunday Evening Worship Service - Online
DESCRIPTION:We are meeting online this week.  You can listen via our website or by calling the SermonAudio phone line at 712-432-3410.  Choose option  2 and enter the church code 54454.
URL:https://sovereigngraceurc.org/event/sunday-evening-service-814
LOCATION:Sovereign Grace URC\, 62 Lamoreaux Drive NE\, Comstock Park\, MI\, 49321\, United States
CATEGORIES:PM Service
END:VEVENT
BEGIN:VEVENT
DTSTART;TZID=America/Detroit:20200315T173000
DTEND;TZID=America/Detroit:20200315T173000
DTSTAMP:20260425T072647
CREATED:20171001T181734Z
LAST-MODIFIED:20171001T181734Z
UID:5816-1584293400-1584293400@sovereigngraceurc.org
SUMMARY:Sunday Evening Service
DESCRIPTION:
URL:https://sovereigngraceurc.org/event/sunday-evening-service-813
LOCATION:Sovereign Grace URC\, 62 Lamoreaux Drive NE\, Comstock Park\, MI\, 49321\, United States
CATEGORIES:PM Service
END:VEVENT
BEGIN:VEVENT
DTSTART;TZID=America/Detroit:20200308T173000
DTEND;TZID=America/Detroit:20200308T173000
DTSTAMP:20260425T072647
CREATED:20171001T181730Z
LAST-MODIFIED:20171001T181730Z
UID:5813-1583688600-1583688600@sovereigngraceurc.org
SUMMARY:Sunday Evening Service
DESCRIPTION:
URL:https://sovereigngraceurc.org/event/sunday-evening-service-812
LOCATION:Sovereign Grace URC\, 62 Lamoreaux Drive NE\, Comstock Park\, MI\, 49321\, United States
CATEGORIES:PM Service
END:VEVENT
BEGIN:VEVENT
DTSTART;TZID=America/Detroit:20200301T173000
DTEND;TZID=America/Detroit:20200301T173000
DTSTAMP:20260425T072647
CREATED:20171001T181725Z
LAST-MODIFIED:20171001T181728Z
UID:5805-1583083800-1583083800@sovereigngraceurc.org
SUMMARY:Sunday Evening Service
DESCRIPTION:
URL:https://sovereigngraceurc.org/event/sunday-evening-service-811
LOCATION:Sovereign Grace URC\, 62 Lamoreaux Drive NE\, Comstock Park\, MI\, 49321\, United States
CATEGORIES:PM Service
END:VEVENT
BEGIN:VEVENT
DTSTART;TZID=America/Detroit:20200223T173000
DTEND;TZID=America/Detroit:20200223T173000
DTSTAMP:20260425T072647
CREATED:20171001T181720Z
LAST-MODIFIED:20171001T181728Z
UID:5802-1582479000-1582479000@sovereigngraceurc.org
SUMMARY:Sunday Evening Service
DESCRIPTION:
URL:https://sovereigngraceurc.org/event/sunday-evening-service-810
LOCATION:Sovereign Grace URC\, 62 Lamoreaux Drive NE\, Comstock Park\, MI\, 49321\, United States
CATEGORIES:PM Service
END:VEVENT
BEGIN:VEVENT
DTSTART;TZID=America/Detroit:20200216T173000
DTEND;TZID=America/Detroit:20200216T173000
DTSTAMP:20260425T072647
CREATED:20171001T181713Z
LAST-MODIFIED:20171001T181718Z
UID:5794-1581874200-1581874200@sovereigngraceurc.org
SUMMARY:Sunday Evening Service
DESCRIPTION:
URL:https://sovereigngraceurc.org/event/sunday-evening-service-809
LOCATION:Sovereign Grace URC\, 62 Lamoreaux Drive NE\, Comstock Park\, MI\, 49321\, United States
CATEGORIES:PM Service
END:VEVENT
BEGIN:VEVENT
DTSTART;TZID=America/Detroit:20200126T173000
DTEND;TZID=America/Detroit:20200126T173000
DTSTAMP:20260425T072647
CREATED:20171001T181655Z
LAST-MODIFIED:20171001T181655Z
UID:5785-1580059800-1580059800@sovereigngraceurc.org
SUMMARY:Sunday Evening Service
DESCRIPTION:
URL:https://sovereigngraceurc.org/event/sunday-evening-service-806
LOCATION:Sovereign Grace URC\, 62 Lamoreaux Drive NE\, Comstock Park\, MI\, 49321\, United States
CATEGORIES:PM Service
END:VEVENT
BEGIN:VEVENT
DTSTART;TZID=America/Detroit:20200119T173000
DTEND;TZID=America/Detroit:20200119T173000
DTSTAMP:20260425T072647
CREATED:20171001T181651Z
LAST-MODIFIED:20171001T181651Z
UID:5782-1579455000-1579455000@sovereigngraceurc.org
SUMMARY:Sunday Evening Service
DESCRIPTION:
URL:https://sovereigngraceurc.org/event/sunday-evening-service-805
LOCATION:Sovereign Grace URC\, 62 Lamoreaux Drive NE\, Comstock Park\, MI\, 49321\, United States
CATEGORIES:PM Service
END:VEVENT
BEGIN:VEVENT
DTSTART;TZID=America/Detroit:20200112T173000
DTEND;TZID=America/Detroit:20200112T173000
DTSTAMP:20260425T072647
CREATED:20171001T181645Z
LAST-MODIFIED:20171001T181645Z
UID:5779-1578850200-1578850200@sovereigngraceurc.org
SUMMARY:Sunday Evening Service
DESCRIPTION:
URL:https://sovereigngraceurc.org/event/sunday-evening-service-804
LOCATION:Sovereign Grace URC\, 62 Lamoreaux Drive NE\, Comstock Park\, MI\, 49321\, United States
CATEGORIES:PM Service
END:VEVENT
BEGIN:VEVENT
DTSTART;TZID=America/Detroit:20191208T173000
DTEND;TZID=America/Detroit:20191208T173000
DTSTAMP:20260425T072647
CREATED:20171001T181617Z
LAST-MODIFIED:20171001T181617Z
UID:5764-1575826200-1575826200@sovereigngraceurc.org
SUMMARY:Sunday Evening Service
DESCRIPTION:
URL:https://sovereigngraceurc.org/event/sunday-evening-service-799
LOCATION:Sovereign Grace URC\, 62 Lamoreaux Drive NE\, Comstock Park\, MI\, 49321\, United States
CATEGORIES:PM Service
END:VEVENT
BEGIN:VEVENT
DTSTART;TZID=America/Detroit:20191103T173000
DTEND;TZID=America/Detroit:20191103T173000
DTSTAMP:20260425T072647
CREATED:20171001T181547Z
LAST-MODIFIED:20171001T181553Z
UID:5744-1572802200-1572802200@sovereigngraceurc.org
SUMMARY:Sunday Evening Service
DESCRIPTION:
URL:https://sovereigngraceurc.org/event/sunday-evening-service-794
LOCATION:Sovereign Grace URC\, 62 Lamoreaux Drive NE\, Comstock Park\, MI\, 49321\, United States
CATEGORIES:PM Service
END:VEVENT
BEGIN:VEVENT
DTSTART;TZID=America/Detroit:20190908T173000
DTEND;TZID=America/Detroit:20190908T173000
DTSTAMP:20260425T072647
CREATED:20171001T181451Z
LAST-MODIFIED:20171001T181454Z
UID:5715-1567963800-1567963800@sovereigngraceurc.org
SUMMARY:Sunday Evening Service
DESCRIPTION:
URL:https://sovereigngraceurc.org/event/sunday-evening-service-786
LOCATION:Sovereign Grace URC\, 62 Lamoreaux Drive NE\, Comstock Park\, MI\, 49321\, United States
CATEGORIES:PM Service
END:VEVENT
BEGIN:VEVENT
DTSTART;TZID=America/Detroit:20190901T173000
DTEND;TZID=America/Detroit:20190901T173000
DTSTAMP:20260425T072647
CREATED:20171001T181446Z
LAST-MODIFIED:20171001T181454Z
UID:5712-1567359000-1567359000@sovereigngraceurc.org
SUMMARY:Sunday Evening Service
DESCRIPTION:
URL:https://sovereigngraceurc.org/event/sunday-evening-service-785
LOCATION:Sovereign Grace URC\, 62 Lamoreaux Drive NE\, Comstock Park\, MI\, 49321\, United States
CATEGORIES:PM Service
END:VEVENT
BEGIN:VEVENT
DTSTART;TZID=America/Detroit:20190825T173000
DTEND;TZID=America/Detroit:20190825T173000
DTSTAMP:20260425T072647
CREATED:20171001T181437Z
LAST-MODIFIED:20171001T181443Z
UID:5704-1566754200-1566754200@sovereigngraceurc.org
SUMMARY:Sunday Evening Service
DESCRIPTION:
URL:https://sovereigngraceurc.org/event/sunday-evening-service-784
LOCATION:Sovereign Grace URC\, 62 Lamoreaux Drive NE\, Comstock Park\, MI\, 49321\, United States
CATEGORIES:PM Service
END:VEVENT
BEGIN:VEVENT
DTSTART;TZID=America/Detroit:20190818T173000
DTEND;TZID=America/Detroit:20190818T173000
DTSTAMP:20260425T072647
CREATED:20171001T181429Z
LAST-MODIFIED:20171001T181432Z
UID:5696-1566149400-1566149400@sovereigngraceurc.org
SUMMARY:Sunday Evening Service
DESCRIPTION:
URL:https://sovereigngraceurc.org/event/sunday-evening-service-783
LOCATION:Sovereign Grace URC\, 62 Lamoreaux Drive NE\, Comstock Park\, MI\, 49321\, United States
CATEGORIES:PM Service
END:VEVENT
BEGIN:VEVENT
DTSTART;TZID=America/Detroit:20190811T173000
DTEND;TZID=America/Detroit:20190811T173000
DTSTAMP:20260425T072647
CREATED:20171001T181425Z
LAST-MODIFIED:20171001T181432Z
UID:5693-1565544600-1565544600@sovereigngraceurc.org
SUMMARY:Sunday Evening Service
DESCRIPTION:
URL:https://sovereigngraceurc.org/event/sunday-evening-service-782
LOCATION:Sovereign Grace URC\, 62 Lamoreaux Drive NE\, Comstock Park\, MI\, 49321\, United States
CATEGORIES:PM Service
END:VEVENT
BEGIN:VEVENT
DTSTART;TZID=America/Detroit:20190721T173000
DTEND;TZID=America/Detroit:20190721T173000
DTSTAMP:20260425T072647
CREATED:20171001T181409Z
LAST-MODIFIED:20171001T181413Z
UID:5679-1563730200-1563730200@sovereigngraceurc.org
SUMMARY:Sunday Evening Service
DESCRIPTION:
URL:https://sovereigngraceurc.org/event/sunday-evening-service-779
LOCATION:Sovereign Grace URC\, 62 Lamoreaux Drive NE\, Comstock Park\, MI\, 49321\, United States
CATEGORIES:PM Service
END:VEVENT
BEGIN:VEVENT
DTSTART;TZID=America/Detroit:20190526T173000
DTEND;TZID=America/Detroit:20190526T173000
DTSTAMP:20260425T072647
CREATED:20171001T181331Z
LAST-MODIFIED:20171001T181331Z
UID:5655-1558891800-1558891800@sovereigngraceurc.org
SUMMARY:Sunday Evening Service
DESCRIPTION:
URL:https://sovereigngraceurc.org/event/sunday-evening-service-771
LOCATION:Sovereign Grace URC\, 62 Lamoreaux Drive NE\, Comstock Park\, MI\, 49321\, United States
CATEGORIES:PM Service
END:VEVENT
BEGIN:VEVENT
DTSTART;TZID=America/Detroit:20190519T173000
DTEND;TZID=America/Detroit:20190519T173000
DTSTAMP:20260425T072647
CREATED:20171001T181327Z
LAST-MODIFIED:20171001T181327Z
UID:5652-1558287000-1558287000@sovereigngraceurc.org
SUMMARY:Sunday Evening Service
DESCRIPTION:
URL:https://sovereigngraceurc.org/event/sunday-evening-service-770
LOCATION:Sovereign Grace URC\, 62 Lamoreaux Drive NE\, Comstock Park\, MI\, 49321\, United States
CATEGORIES:PM Service
END:VEVENT
END:VCALENDAR