BEGIN:VCALENDAR
VERSION:2.0
PRODID:-//Sovereign Grace URC - ECPv6.15.20//NONSGML v1.0//EN
CALSCALE:GREGORIAN
METHOD:PUBLISH
X-WR-CALNAME:Sovereign Grace URC
X-ORIGINAL-URL:https://sovereigngraceurc.org
X-WR-CALDESC:Events for Sovereign Grace URC
REFRESH-INTERVAL;VALUE=DURATION:PT1H
X-Robots-Tag:noindex
X-PUBLISHED-TTL:PT1H
BEGIN:VTIMEZONE
TZID:America/Detroit
BEGIN:DAYLIGHT
TZOFFSETFROM:-0500
TZOFFSETTO:-0400
TZNAME:EDT
DTSTART:20250309T070000
END:DAYLIGHT
BEGIN:STANDARD
TZOFFSETFROM:-0400
TZOFFSETTO:-0500
TZNAME:EST
DTSTART:20251102T060000
END:STANDARD
BEGIN:DAYLIGHT
TZOFFSETFROM:-0500
TZOFFSETTO:-0400
TZNAME:EDT
DTSTART:20260308T070000
END:DAYLIGHT
BEGIN:STANDARD
TZOFFSETFROM:-0400
TZOFFSETTO:-0500
TZNAME:EST
DTSTART:20261101T060000
END:STANDARD
BEGIN:DAYLIGHT
TZOFFSETFROM:-0500
TZOFFSETTO:-0400
TZNAME:EDT
DTSTART:20270314T070000
END:DAYLIGHT
BEGIN:STANDARD
TZOFFSETFROM:-0400
TZOFFSETTO:-0500
TZNAME:EST
DTSTART:20271107T060000
END:STANDARD
END:VTIMEZONE
BEGIN:VEVENT
DTSTART;TZID=America/Detroit:20260719T170000
DTEND;TZID=America/Detroit:20260719T170000
DTSTAMP:20260423T161955
CREATED:20251130T162834Z
LAST-MODIFIED:20251130T162834Z
UID:16748-1784480400-1784480400@sovereigngraceurc.org
SUMMARY:Sunday Evening Worship Service
DESCRIPTION:
URL:https://sovereigngraceurc.org/event/sunday-evening-worship-service-102
CATEGORIES:PM Service
END:VEVENT
BEGIN:VEVENT
DTSTART;TZID=America/Detroit:20260726T170000
DTEND;TZID=America/Detroit:20260726T170000
DTSTAMP:20260423T161955
CREATED:20251130T162834Z
LAST-MODIFIED:20251130T162834Z
UID:16749-1785085200-1785085200@sovereigngraceurc.org
SUMMARY:Sunday Evening Worship Service
DESCRIPTION:
URL:https://sovereigngraceurc.org/event/sunday-evening-worship-service-103
CATEGORIES:PM Service
END:VEVENT
BEGIN:VEVENT
DTSTART;TZID=America/Detroit:20260802T170000
DTEND;TZID=America/Detroit:20260802T170000
DTSTAMP:20260423T161955
CREATED:20251130T162848Z
LAST-MODIFIED:20251130T162848Z
UID:16750-1785690000-1785690000@sovereigngraceurc.org
SUMMARY:Sunday Evening Worship Service
DESCRIPTION:
URL:https://sovereigngraceurc.org/event/sunday-evening-worship-service-104
CATEGORIES:PM Service
END:VEVENT
BEGIN:VEVENT
DTSTART;TZID=America/Detroit:20260809T170000
DTEND;TZID=America/Detroit:20260809T170000
DTSTAMP:20260423T161955
CREATED:20251130T162849Z
LAST-MODIFIED:20251130T162849Z
UID:16751-1786294800-1786294800@sovereigngraceurc.org
SUMMARY:Sunday Evening Worship Service
DESCRIPTION:
URL:https://sovereigngraceurc.org/event/sunday-evening-worship-service-105
CATEGORIES:PM Service
END:VEVENT
BEGIN:VEVENT
DTSTART;TZID=America/Detroit:20260816T170000
DTEND;TZID=America/Detroit:20260816T170000
DTSTAMP:20260423T161955
CREATED:20251130T162849Z
LAST-MODIFIED:20251130T162849Z
UID:16752-1786899600-1786899600@sovereigngraceurc.org
SUMMARY:Sunday Evening Worship Service
DESCRIPTION:
URL:https://sovereigngraceurc.org/event/sunday-evening-worship-service-106
CATEGORIES:PM Service
END:VEVENT
BEGIN:VEVENT
DTSTART;TZID=America/Detroit:20260823T170000
DTEND;TZID=America/Detroit:20260823T170000
DTSTAMP:20260423T161955
CREATED:20251130T162849Z
LAST-MODIFIED:20251130T162849Z
UID:16753-1787504400-1787504400@sovereigngraceurc.org
SUMMARY:Sunday Evening Worship Service
DESCRIPTION:
URL:https://sovereigngraceurc.org/event/sunday-evening-worship-service-107
CATEGORIES:PM Service
END:VEVENT
BEGIN:VEVENT
DTSTART;TZID=America/Detroit:20260830T170000
DTEND;TZID=America/Detroit:20260830T170000
DTSTAMP:20260423T161955
CREATED:20251130T162850Z
LAST-MODIFIED:20251130T162850Z
UID:16754-1788109200-1788109200@sovereigngraceurc.org
SUMMARY:Sunday Evening Worship Service
DESCRIPTION:
URL:https://sovereigngraceurc.org/event/sunday-evening-worship-service-108
CATEGORIES:PM Service
END:VEVENT
BEGIN:VEVENT
DTSTART;TZID=America/Detroit:20260906T170000
DTEND;TZID=America/Detroit:20260906T170000
DTSTAMP:20260423T161955
CREATED:20251130T162903Z
LAST-MODIFIED:20251130T162903Z
UID:16755-1788714000-1788714000@sovereigngraceurc.org
SUMMARY:Sunday Evening Worship Service
DESCRIPTION:
URL:https://sovereigngraceurc.org/event/sunday-evening-worship-service-109
CATEGORIES:PM Service
END:VEVENT
BEGIN:VEVENT
DTSTART;TZID=America/Detroit:20260913T170000
DTEND;TZID=America/Detroit:20260913T170000
DTSTAMP:20260423T161955
CREATED:20251130T162904Z
LAST-MODIFIED:20251130T162904Z
UID:16756-1789318800-1789318800@sovereigngraceurc.org
SUMMARY:Sunday Evening Worship Service
DESCRIPTION:
URL:https://sovereigngraceurc.org/event/sunday-evening-worship-service-110
CATEGORIES:PM Service
END:VEVENT
BEGIN:VEVENT
DTSTART;TZID=America/Detroit:20260920T170000
DTEND;TZID=America/Detroit:20260920T170000
DTSTAMP:20260423T161955
CREATED:20251130T162904Z
LAST-MODIFIED:20251130T162904Z
UID:16757-1789923600-1789923600@sovereigngraceurc.org
SUMMARY:Sunday Evening Worship Service
DESCRIPTION:
URL:https://sovereigngraceurc.org/event/sunday-evening-worship-service-111
CATEGORIES:PM Service
END:VEVENT
BEGIN:VEVENT
DTSTART;TZID=America/Detroit:20260927T170000
DTEND;TZID=America/Detroit:20260927T170000
DTSTAMP:20260423T161955
CREATED:20251130T162904Z
LAST-MODIFIED:20251130T162904Z
UID:16758-1790528400-1790528400@sovereigngraceurc.org
SUMMARY:Sunday Evening Worship Service
DESCRIPTION:
URL:https://sovereigngraceurc.org/event/sunday-evening-worship-service-112
CATEGORIES:PM Service
END:VEVENT
BEGIN:VEVENT
DTSTART;TZID=America/Detroit:20261004T170000
DTEND;TZID=America/Detroit:20261004T170000
DTSTAMP:20260423T161955
CREATED:20251130T162905Z
LAST-MODIFIED:20251130T162905Z
UID:16759-1791133200-1791133200@sovereigngraceurc.org
SUMMARY:Sunday Evening Worship Service
DESCRIPTION:
URL:https://sovereigngraceurc.org/event/sunday-evening-worship-service-113
CATEGORIES:PM Service
END:VEVENT
BEGIN:VEVENT
DTSTART;TZID=America/Detroit:20261011T170000
DTEND;TZID=America/Detroit:20261011T170000
DTSTAMP:20260423T161955
CREATED:20251130T162937Z
LAST-MODIFIED:20251130T162937Z
UID:16761-1791738000-1791738000@sovereigngraceurc.org
SUMMARY:Sunday Evening Worship Service
DESCRIPTION:
URL:https://sovereigngraceurc.org/event/sunday-evening-worship-service-114
CATEGORIES:PM Service
END:VEVENT
BEGIN:VEVENT
DTSTART;TZID=America/Detroit:20261018T170000
DTEND;TZID=America/Detroit:20261018T170000
DTSTAMP:20260423T161955
CREATED:20251130T162938Z
LAST-MODIFIED:20251130T162938Z
UID:16762-1792342800-1792342800@sovereigngraceurc.org
SUMMARY:Sunday Evening Worship Service
DESCRIPTION:
URL:https://sovereigngraceurc.org/event/sunday-evening-worship-service-115
CATEGORIES:PM Service
END:VEVENT
BEGIN:VEVENT
DTSTART;TZID=America/Detroit:20261025T170000
DTEND;TZID=America/Detroit:20261025T170000
DTSTAMP:20260423T161955
CREATED:20251130T162938Z
LAST-MODIFIED:20251130T162938Z
UID:16763-1792947600-1792947600@sovereigngraceurc.org
SUMMARY:Sunday Evening Worship Service
DESCRIPTION:
URL:https://sovereigngraceurc.org/event/sunday-evening-worship-service-116
CATEGORIES:PM Service
END:VEVENT
BEGIN:VEVENT
DTSTART;TZID=America/Detroit:20261101T170000
DTEND;TZID=America/Detroit:20261101T170000
DTSTAMP:20260423T161955
CREATED:20251130T162938Z
LAST-MODIFIED:20251130T162938Z
UID:16764-1793552400-1793552400@sovereigngraceurc.org
SUMMARY:Sunday Evening Worship Service
DESCRIPTION:
URL:https://sovereigngraceurc.org/event/sunday-evening-worship-service-117
CATEGORIES:PM Service
END:VEVENT
BEGIN:VEVENT
DTSTART;TZID=America/Detroit:20261108T170000
DTEND;TZID=America/Detroit:20261108T170000
DTSTAMP:20260423T161955
CREATED:20251130T162938Z
LAST-MODIFIED:20251130T162938Z
UID:16765-1794157200-1794157200@sovereigngraceurc.org
SUMMARY:Sunday Evening Worship Service
DESCRIPTION:
URL:https://sovereigngraceurc.org/event/sunday-evening-worship-service-118
CATEGORIES:PM Service
END:VEVENT
BEGIN:VEVENT
DTSTART;TZID=America/Detroit:20261115T170000
DTEND;TZID=America/Detroit:20261115T170000
DTSTAMP:20260423T161955
CREATED:20251130T162943Z
LAST-MODIFIED:20251130T162943Z
UID:16766-1794762000-1794762000@sovereigngraceurc.org
SUMMARY:Sunday Evening Worship Service
DESCRIPTION:
URL:https://sovereigngraceurc.org/event/sunday-evening-worship-service-119
CATEGORIES:PM Service
END:VEVENT
BEGIN:VEVENT
DTSTART;TZID=America/Detroit:20261122T170000
DTEND;TZID=America/Detroit:20261122T170000
DTSTAMP:20260423T161955
CREATED:20251130T162945Z
LAST-MODIFIED:20251130T162945Z
UID:16767-1795366800-1795366800@sovereigngraceurc.org
SUMMARY:Sunday Evening Worship Service
DESCRIPTION:
URL:https://sovereigngraceurc.org/event/sunday-evening-worship-service-120
CATEGORIES:PM Service
END:VEVENT
BEGIN:VEVENT
DTSTART;TZID=America/Detroit:20261129T170000
DTEND;TZID=America/Detroit:20261129T170000
DTSTAMP:20260423T161955
CREATED:20251130T162945Z
LAST-MODIFIED:20251130T162945Z
UID:16768-1795971600-1795971600@sovereigngraceurc.org
SUMMARY:Sunday Evening Worship Service
DESCRIPTION:
URL:https://sovereigngraceurc.org/event/sunday-evening-worship-service-121
CATEGORIES:PM Service
END:VEVENT
BEGIN:VEVENT
DTSTART;TZID=America/Detroit:20261206T170000
DTEND;TZID=America/Detroit:20261206T170000
DTSTAMP:20260423T161955
CREATED:20251130T162950Z
LAST-MODIFIED:20251130T162950Z
UID:16769-1796576400-1796576400@sovereigngraceurc.org
SUMMARY:Sunday Evening Worship Service
DESCRIPTION:
URL:https://sovereigngraceurc.org/event/sunday-evening-worship-service-122
CATEGORIES:PM Service
END:VEVENT
BEGIN:VEVENT
DTSTART;TZID=America/Detroit:20261213T170000
DTEND;TZID=America/Detroit:20261213T170000
DTSTAMP:20260423T161955
CREATED:20251130T162950Z
LAST-MODIFIED:20251130T162950Z
UID:16770-1797181200-1797181200@sovereigngraceurc.org
SUMMARY:Sunday Evening Worship Service
DESCRIPTION:
URL:https://sovereigngraceurc.org/event/sunday-evening-worship-service-123
CATEGORIES:PM Service
END:VEVENT
BEGIN:VEVENT
DTSTART;TZID=America/Detroit:20261220T170000
DTEND;TZID=America/Detroit:20261220T170000
DTSTAMP:20260423T161955
CREATED:20251130T162958Z
LAST-MODIFIED:20251130T163003Z
UID:16771-1797786000-1797786000@sovereigngraceurc.org
SUMMARY:Sunday Evening Worship Service
DESCRIPTION:
URL:https://sovereigngraceurc.org/event/sunday-evening-worship-service-124
CATEGORIES:PM Service
END:VEVENT
END:VCALENDAR