BEGIN:VCALENDAR
VERSION:2.0
PRODID:-//Sovereign Grace URC - ECPv6.15.20//NONSGML v1.0//EN
CALSCALE:GREGORIAN
METHOD:PUBLISH
X-WR-CALNAME:Sovereign Grace URC
X-ORIGINAL-URL:https://sovereigngraceurc.org
X-WR-CALDESC:Events for Sovereign Grace URC
REFRESH-INTERVAL;VALUE=DURATION:PT1H
X-Robots-Tag:noindex
X-PUBLISHED-TTL:PT1H
BEGIN:VTIMEZONE
TZID:America/Detroit
BEGIN:DAYLIGHT
TZOFFSETFROM:-0500
TZOFFSETTO:-0400
TZNAME:EDT
DTSTART:20190310T070000
END:DAYLIGHT
BEGIN:STANDARD
TZOFFSETFROM:-0400
TZOFFSETTO:-0500
TZNAME:EST
DTSTART:20191103T060000
END:STANDARD
BEGIN:DAYLIGHT
TZOFFSETFROM:-0500
TZOFFSETTO:-0400
TZNAME:EDT
DTSTART:20200308T070000
END:DAYLIGHT
BEGIN:STANDARD
TZOFFSETFROM:-0400
TZOFFSETTO:-0500
TZNAME:EST
DTSTART:20201101T060000
END:STANDARD
BEGIN:DAYLIGHT
TZOFFSETFROM:-0500
TZOFFSETTO:-0400
TZNAME:EDT
DTSTART:20210314T070000
END:DAYLIGHT
BEGIN:STANDARD
TZOFFSETFROM:-0400
TZOFFSETTO:-0500
TZNAME:EST
DTSTART:20211107T060000
END:STANDARD
BEGIN:DAYLIGHT
TZOFFSETFROM:-0500
TZOFFSETTO:-0400
TZNAME:EDT
DTSTART:20220313T070000
END:DAYLIGHT
BEGIN:STANDARD
TZOFFSETFROM:-0400
TZOFFSETTO:-0500
TZNAME:EST
DTSTART:20221106T060000
END:STANDARD
BEGIN:DAYLIGHT
TZOFFSETFROM:-0500
TZOFFSETTO:-0400
TZNAME:EDT
DTSTART:20230312T070000
END:DAYLIGHT
BEGIN:STANDARD
TZOFFSETFROM:-0400
TZOFFSETTO:-0500
TZNAME:EST
DTSTART:20231105T060000
END:STANDARD
END:VTIMEZONE
BEGIN:VEVENT
DTSTART;TZID=America/Detroit:20220102T173000
DTEND;TZID=America/Detroit:20220102T173000
DTSTAMP:20260424T220720
CREATED:20171001T182706Z
LAST-MODIFIED:20171001T182712Z
UID:6203-1641144600-1641144600@sovereigngraceurc.org
SUMMARY:Sunday Evening Service
DESCRIPTION:
URL:https://sovereigngraceurc.org/event/sunday-evening-service-907
LOCATION:Sovereign Grace URC\, 62 Lamoreaux Drive NE\, Comstock Park\, MI\, 49321\, United States
CATEGORIES:PM Service
END:VEVENT
BEGIN:VEVENT
DTSTART;TZID=America/Detroit:20211121T173000
DTEND;TZID=America/Detroit:20211121T173000
DTSTAMP:20260424T220720
CREATED:20171001T182632Z
LAST-MODIFIED:20171001T182635Z
UID:6180-1637515800-1637515800@sovereigngraceurc.org
SUMMARY:Sunday Evening Service
DESCRIPTION:
URL:https://sovereigngraceurc.org/event/sunday-evening-service-901
LOCATION:Sovereign Grace URC\, 62 Lamoreaux Drive NE\, Comstock Park\, MI\, 49321\, United States
CATEGORIES:PM Service
END:VEVENT
BEGIN:VEVENT
DTSTART;TZID=America/Detroit:20211114T173000
DTEND;TZID=America/Detroit:20211114T173000
DTSTAMP:20260424T220720
CREATED:20171001T182627Z
LAST-MODIFIED:20171001T182635Z
UID:6177-1636911000-1636911000@sovereigngraceurc.org
SUMMARY:Sunday Evening Service
DESCRIPTION:
URL:https://sovereigngraceurc.org/event/sunday-evening-service-900
LOCATION:Sovereign Grace URC\, 62 Lamoreaux Drive NE\, Comstock Park\, MI\, 49321\, United States
CATEGORIES:PM Service
END:VEVENT
BEGIN:VEVENT
DTSTART;TZID=America/Detroit:20211107T173000
DTEND;TZID=America/Detroit:20211107T173000
DTSTAMP:20260424T220720
CREATED:20171001T182620Z
LAST-MODIFIED:20171001T182625Z
UID:6169-1636306200-1636306200@sovereigngraceurc.org
SUMMARY:Sunday Evening Service
DESCRIPTION:
URL:https://sovereigngraceurc.org/event/sunday-evening-service-899
LOCATION:Sovereign Grace URC\, 62 Lamoreaux Drive NE\, Comstock Park\, MI\, 49321\, United States
CATEGORIES:PM Service
END:VEVENT
BEGIN:VEVENT
DTSTART;TZID=America/Detroit:20211031T173000
DTEND;TZID=America/Detroit:20211031T173000
DTSTAMP:20260424T220720
CREATED:20171001T182612Z
LAST-MODIFIED:20171001T182615Z
UID:6161-1635701400-1635701400@sovereigngraceurc.org
SUMMARY:Sunday Evening Service
DESCRIPTION:
URL:https://sovereigngraceurc.org/event/sunday-evening-service-898
LOCATION:Sovereign Grace URC\, 62 Lamoreaux Drive NE\, Comstock Park\, MI\, 49321\, United States
CATEGORIES:PM Service
END:VEVENT
BEGIN:VEVENT
DTSTART;TZID=America/Detroit:20211024T173000
DTEND;TZID=America/Detroit:20211024T173000
DTSTAMP:20260424T220720
CREATED:20171001T182608Z
LAST-MODIFIED:20171001T182614Z
UID:6158-1635096600-1635096600@sovereigngraceurc.org
SUMMARY:Sunday Evening Service
DESCRIPTION:
URL:https://sovereigngraceurc.org/event/sunday-evening-service-897
LOCATION:Sovereign Grace URC\, 62 Lamoreaux Drive NE\, Comstock Park\, MI\, 49321\, United States
CATEGORIES:PM Service
END:VEVENT
BEGIN:VEVENT
DTSTART;TZID=America/Detroit:20211017T173000
DTEND;TZID=America/Detroit:20211017T173000
DTSTAMP:20260424T220720
CREATED:20171001T182601Z
LAST-MODIFIED:20171001T182605Z
UID:6150-1634491800-1634491800@sovereigngraceurc.org
SUMMARY:Sunday Evening Service
DESCRIPTION:
URL:https://sovereigngraceurc.org/event/sunday-evening-service-896
LOCATION:Sovereign Grace URC\, 62 Lamoreaux Drive NE\, Comstock Park\, MI\, 49321\, United States
CATEGORIES:PM Service
END:VEVENT
BEGIN:VEVENT
DTSTART;TZID=America/Detroit:20211010T173000
DTEND;TZID=America/Detroit:20211010T173000
DTSTAMP:20260424T220720
CREATED:20171001T182556Z
LAST-MODIFIED:20171001T182604Z
UID:6147-1633887000-1633887000@sovereigngraceurc.org
SUMMARY:Sunday Evening Service
DESCRIPTION:
URL:https://sovereigngraceurc.org/event/sunday-evening-service-895
LOCATION:Sovereign Grace URC\, 62 Lamoreaux Drive NE\, Comstock Park\, MI\, 49321\, United States
CATEGORIES:PM Service
END:VEVENT
BEGIN:VEVENT
DTSTART;TZID=America/Detroit:20210822T173000
DTEND;TZID=America/Detroit:20210822T173000
DTSTAMP:20260424T220720
CREATED:20171001T182508Z
LAST-MODIFIED:20171001T182510Z
UID:6121-1629653400-1629653400@sovereigngraceurc.org
SUMMARY:Sunday Evening Service
DESCRIPTION:
URL:https://sovereigngraceurc.org/event/sunday-evening-service-888
LOCATION:Sovereign Grace URC\, 62 Lamoreaux Drive NE\, Comstock Park\, MI\, 49321\, United States
CATEGORIES:PM Service
END:VEVENT
BEGIN:VEVENT
DTSTART;TZID=America/Detroit:20210815T173000
DTEND;TZID=America/Detroit:20210815T173000
DTSTAMP:20260424T220720
CREATED:20171001T182503Z
LAST-MODIFIED:20171001T182510Z
UID:6118-1629048600-1629048600@sovereigngraceurc.org
SUMMARY:Sunday Evening Service
DESCRIPTION:
URL:https://sovereigngraceurc.org/event/sunday-evening-service-887
LOCATION:Sovereign Grace URC\, 62 Lamoreaux Drive NE\, Comstock Park\, MI\, 49321\, United States
CATEGORIES:PM Service
END:VEVENT
BEGIN:VEVENT
DTSTART;TZID=America/Detroit:20210725T173000
DTEND;TZID=America/Detroit:20210725T173000
DTSTAMP:20260424T220720
CREATED:20171001T182442Z
LAST-MODIFIED:20171001T182446Z
UID:6104-1627234200-1627234200@sovereigngraceurc.org
SUMMARY:Sunday Evening Service
DESCRIPTION:
URL:https://sovereigngraceurc.org/event/sunday-evening-service-884
LOCATION:Sovereign Grace URC\, 62 Lamoreaux Drive NE\, Comstock Park\, MI\, 49321\, United States
CATEGORIES:PM Service
END:VEVENT
BEGIN:VEVENT
DTSTART;TZID=America/Detroit:20210718T173000
DTEND;TZID=America/Detroit:20210718T173000
DTSTAMP:20260424T220720
CREATED:20171001T182436Z
LAST-MODIFIED:20171001T182438Z
UID:6096-1626629400-1626629400@sovereigngraceurc.org
SUMMARY:Sunday Evening Service
DESCRIPTION:
URL:https://sovereigngraceurc.org/event/sunday-evening-service-883
LOCATION:Sovereign Grace URC\, 62 Lamoreaux Drive NE\, Comstock Park\, MI\, 49321\, United States
CATEGORIES:PM Service
END:VEVENT
BEGIN:VEVENT
DTSTART;TZID=America/Detroit:20210711T173000
DTEND;TZID=America/Detroit:20210711T173000
DTSTAMP:20260424T220720
CREATED:20171001T182432Z
LAST-MODIFIED:20171001T182437Z
UID:6093-1626024600-1626024600@sovereigngraceurc.org
SUMMARY:Sunday Evening Service
DESCRIPTION:
URL:https://sovereigngraceurc.org/event/sunday-evening-service-882
LOCATION:Sovereign Grace URC\, 62 Lamoreaux Drive NE\, Comstock Park\, MI\, 49321\, United States
CATEGORIES:PM Service
END:VEVENT
BEGIN:VEVENT
DTSTART;TZID=America/Detroit:20210704T173000
DTEND;TZID=America/Detroit:20210704T173000
DTSTAMP:20260424T220720
CREATED:20171001T182417Z
LAST-MODIFIED:20171001T182420Z
UID:6085-1625419800-1625419800@sovereigngraceurc.org
SUMMARY:Sunday Evening Service
DESCRIPTION:
URL:https://sovereigngraceurc.org/event/sunday-evening-service-881
LOCATION:Sovereign Grace URC\, 62 Lamoreaux Drive NE\, Comstock Park\, MI\, 49321\, United States
CATEGORIES:PM Service
END:VEVENT
BEGIN:VEVENT
DTSTART;TZID=America/Detroit:20210627T173000
DTEND;TZID=America/Detroit:20210627T173000
DTSTAMP:20260424T220720
CREATED:20171001T182412Z
LAST-MODIFIED:20171001T182419Z
UID:6082-1624815000-1624815000@sovereigngraceurc.org
SUMMARY:Sunday Evening Service
DESCRIPTION:
URL:https://sovereigngraceurc.org/event/sunday-evening-service-880
LOCATION:Sovereign Grace URC\, 62 Lamoreaux Drive NE\, Comstock Park\, MI\, 49321\, United States
CATEGORIES:PM Service
END:VEVENT
BEGIN:VEVENT
DTSTART;TZID=America/Detroit:20210620T173000
DTEND;TZID=America/Detroit:20210620T173000
DTSTAMP:20260424T220720
CREATED:20171001T182406Z
LAST-MODIFIED:20171001T182406Z
UID:6079-1624210200-1624210200@sovereigngraceurc.org
SUMMARY:Sunday Evening Service
DESCRIPTION:
URL:https://sovereigngraceurc.org/event/sunday-evening-service-879
LOCATION:Sovereign Grace URC\, 62 Lamoreaux Drive NE\, Comstock Park\, MI\, 49321\, United States
CATEGORIES:PM Service
END:VEVENT
BEGIN:VEVENT
DTSTART;TZID=America/Detroit:20210516T173000
DTEND;TZID=America/Detroit:20210516T173000
DTSTAMP:20260424T220720
CREATED:20171001T182339Z
LAST-MODIFIED:20171001T182339Z
UID:6064-1621186200-1621186200@sovereigngraceurc.org
SUMMARY:Sunday Evening Service
DESCRIPTION:
URL:https://sovereigngraceurc.org/event/sunday-evening-service-874
LOCATION:Sovereign Grace URC\, 62 Lamoreaux Drive NE\, Comstock Park\, MI\, 49321\, United States
CATEGORIES:PM Service
END:VEVENT
BEGIN:VEVENT
DTSTART;TZID=America/Detroit:20210425T173000
DTEND;TZID=America/Detroit:20210425T173000
DTSTAMP:20260424T220720
CREATED:20171001T182324Z
LAST-MODIFIED:20171001T182327Z
UID:6050-1619371800-1619371800@sovereigngraceurc.org
SUMMARY:Sunday Evening Service
DESCRIPTION:
URL:https://sovereigngraceurc.org/event/sunday-evening-service-871
LOCATION:Sovereign Grace URC\, 62 Lamoreaux Drive NE\, Comstock Park\, MI\, 49321\, United States
CATEGORIES:PM Service
END:VEVENT
BEGIN:VEVENT
DTSTART;TZID=America/Detroit:20210418T173000
DTEND;TZID=America/Detroit:20210418T173000
DTSTAMP:20260424T220720
CREATED:20171001T182318Z
LAST-MODIFIED:20171001T182327Z
UID:6047-1618767000-1618767000@sovereigngraceurc.org
SUMMARY:Sunday Evening Service
DESCRIPTION:
URL:https://sovereigngraceurc.org/event/sunday-evening-service-870
LOCATION:Sovereign Grace URC\, 62 Lamoreaux Drive NE\, Comstock Park\, MI\, 49321\, United States
CATEGORIES:PM Service
END:VEVENT
BEGIN:VEVENT
DTSTART;TZID=America/Detroit:20210321T173000
DTEND;TZID=America/Detroit:20210321T173000
DTSTAMP:20260424T220720
CREATED:20171001T182250Z
LAST-MODIFIED:20171001T182250Z
UID:6035-1616347800-1616347800@sovereigngraceurc.org
SUMMARY:Sunday Evening Service
DESCRIPTION:
URL:https://sovereigngraceurc.org/event/sunday-evening-service-866
LOCATION:Sovereign Grace URC\, 62 Lamoreaux Drive NE\, Comstock Park\, MI\, 49321\, United States
CATEGORIES:PM Service
END:VEVENT
BEGIN:VEVENT
DTSTART;TZID=America/Detroit:20210314T173000
DTEND;TZID=America/Detroit:20210314T173000
DTSTAMP:20260424T220720
CREATED:20171001T182246Z
LAST-MODIFIED:20171001T182246Z
UID:6032-1615743000-1615743000@sovereigngraceurc.org
SUMMARY:Sunday Evening Service
DESCRIPTION:
URL:https://sovereigngraceurc.org/event/sunday-evening-service-865
LOCATION:Sovereign Grace URC\, 62 Lamoreaux Drive NE\, Comstock Park\, MI\, 49321\, United States
CATEGORIES:PM Service
END:VEVENT
BEGIN:VEVENT
DTSTART;TZID=America/Detroit:20210228T173000
DTEND;TZID=America/Detroit:20210228T173000
DTSTAMP:20260424T220720
CREATED:20171001T182234Z
LAST-MODIFIED:20171001T182237Z
UID:6021-1614533400-1614533400@sovereigngraceurc.org
SUMMARY:Sunday Evening Service
DESCRIPTION:
URL:https://sovereigngraceurc.org/event/sunday-evening-service-863
LOCATION:Sovereign Grace URC\, 62 Lamoreaux Drive NE\, Comstock Park\, MI\, 49321\, United States
CATEGORIES:PM Service
END:VEVENT
BEGIN:VEVENT
DTSTART;TZID=America/Detroit:20210221T173000
DTEND;TZID=America/Detroit:20210221T173000
DTSTAMP:20260424T220720
CREATED:20171001T182230Z
LAST-MODIFIED:20171001T182236Z
UID:6018-1613928600-1613928600@sovereigngraceurc.org
SUMMARY:Sunday Evening Service
DESCRIPTION:
URL:https://sovereigngraceurc.org/event/sunday-evening-service-862
LOCATION:Sovereign Grace URC\, 62 Lamoreaux Drive NE\, Comstock Park\, MI\, 49321\, United States
CATEGORIES:PM Service
END:VEVENT
BEGIN:VEVENT
DTSTART;TZID=America/Detroit:20210214T173000
DTEND;TZID=America/Detroit:20210214T173000
DTSTAMP:20260424T220720
CREATED:20171001T182223Z
LAST-MODIFIED:20171001T182227Z
UID:6010-1613323800-1613323800@sovereigngraceurc.org
SUMMARY:Sunday Evening Service
DESCRIPTION:
URL:https://sovereigngraceurc.org/event/sunday-evening-service-861
LOCATION:Sovereign Grace URC\, 62 Lamoreaux Drive NE\, Comstock Park\, MI\, 49321\, United States
CATEGORIES:PM Service
END:VEVENT
BEGIN:VEVENT
DTSTART;TZID=America/Detroit:20210207T173000
DTEND;TZID=America/Detroit:20210207T173000
DTSTAMP:20260424T220720
CREATED:20171001T182219Z
LAST-MODIFIED:20171001T182226Z
UID:6007-1612719000-1612719000@sovereigngraceurc.org
SUMMARY:Sunday Evening Service
DESCRIPTION:
URL:https://sovereigngraceurc.org/event/sunday-evening-service-860
LOCATION:Sovereign Grace URC\, 62 Lamoreaux Drive NE\, Comstock Park\, MI\, 49321\, United States
CATEGORIES:PM Service
END:VEVENT
BEGIN:VEVENT
DTSTART;TZID=America/Detroit:20210131T173000
DTEND;TZID=America/Detroit:20210131T173000
DTSTAMP:20260424T220720
CREATED:20171001T182212Z
LAST-MODIFIED:20171001T182212Z
UID:6004-1612114200-1612114200@sovereigngraceurc.org
SUMMARY:Sunday Evening Service
DESCRIPTION:
URL:https://sovereigngraceurc.org/event/sunday-evening-service-859
LOCATION:Sovereign Grace URC\, 62 Lamoreaux Drive NE\, Comstock Park\, MI\, 49321\, United States
CATEGORIES:PM Service
END:VEVENT
BEGIN:VEVENT
DTSTART;TZID=America/Detroit:20210110T173000
DTEND;TZID=America/Detroit:20210110T173000
DTSTAMP:20260424T220720
CREATED:20171001T182157Z
LAST-MODIFIED:20171001T182157Z
UID:5995-1610299800-1610299800@sovereigngraceurc.org
SUMMARY:Sunday Evening Service
DESCRIPTION:
URL:https://sovereigngraceurc.org/event/sunday-evening-service-856
LOCATION:Sovereign Grace URC\, 62 Lamoreaux Drive NE\, Comstock Park\, MI\, 49321\, United States
CATEGORIES:PM Service
END:VEVENT
BEGIN:VEVENT
DTSTART;TZID=America/Detroit:20210103T173000
DTEND;TZID=America/Detroit:20210103T173000
DTSTAMP:20260424T220720
CREATED:20171001T182153Z
LAST-MODIFIED:20171001T182153Z
UID:5992-1609695000-1609695000@sovereigngraceurc.org
SUMMARY:Sunday Evening Service
DESCRIPTION:
URL:https://sovereigngraceurc.org/event/sunday-evening-service-855
LOCATION:Sovereign Grace URC\, 62 Lamoreaux Drive NE\, Comstock Park\, MI\, 49321\, United States
CATEGORIES:PM Service
END:VEVENT
BEGIN:VEVENT
DTSTART;TZID=America/Detroit:20201206T173000
DTEND;TZID=America/Detroit:20201206T173000
DTSTAMP:20260424T220720
CREATED:20171001T182125Z
LAST-MODIFIED:20171001T182128Z
UID:5975-1607275800-1607275800@sovereigngraceurc.org
SUMMARY:Sunday Evening Service
DESCRIPTION:
URL:https://sovereigngraceurc.org/event/sunday-evening-service-851
LOCATION:Sovereign Grace URC\, 62 Lamoreaux Drive NE\, Comstock Park\, MI\, 49321\, United States
CATEGORIES:PM Service
END:VEVENT
BEGIN:VEVENT
DTSTART;TZID=America/Detroit:20201129T173000
DTEND;TZID=America/Detroit:20201129T173000
DTSTAMP:20260424T220720
CREATED:20171001T182121Z
LAST-MODIFIED:20171001T182128Z
UID:5972-1606671000-1606671000@sovereigngraceurc.org
SUMMARY:Sunday Evening Service
DESCRIPTION:
URL:https://sovereigngraceurc.org/event/sunday-evening-service-850
LOCATION:Sovereign Grace URC\, 62 Lamoreaux Drive NE\, Comstock Park\, MI\, 49321\, United States
CATEGORIES:PM Service
END:VEVENT
END:VCALENDAR