BEGIN:VCALENDAR
VERSION:2.0
PRODID:-//Sovereign Grace URC - ECPv6.15.20//NONSGML v1.0//EN
CALSCALE:GREGORIAN
METHOD:PUBLISH
X-ORIGINAL-URL:https://sovereigngraceurc.org
X-WR-CALDESC:Events for Sovereign Grace URC
REFRESH-INTERVAL;VALUE=DURATION:PT1H
X-Robots-Tag:noindex
X-PUBLISHED-TTL:PT1H
BEGIN:VTIMEZONE
TZID:America/Detroit
BEGIN:DAYLIGHT
TZOFFSETFROM:-0500
TZOFFSETTO:-0400
TZNAME:EDT
DTSTART:20210314T070000
END:DAYLIGHT
BEGIN:STANDARD
TZOFFSETFROM:-0400
TZOFFSETTO:-0500
TZNAME:EST
DTSTART:20211107T060000
END:STANDARD
BEGIN:DAYLIGHT
TZOFFSETFROM:-0500
TZOFFSETTO:-0400
TZNAME:EDT
DTSTART:20220313T070000
END:DAYLIGHT
BEGIN:STANDARD
TZOFFSETFROM:-0400
TZOFFSETTO:-0500
TZNAME:EST
DTSTART:20221106T060000
END:STANDARD
BEGIN:DAYLIGHT
TZOFFSETFROM:-0500
TZOFFSETTO:-0400
TZNAME:EDT
DTSTART:20230312T070000
END:DAYLIGHT
BEGIN:STANDARD
TZOFFSETFROM:-0400
TZOFFSETTO:-0500
TZNAME:EST
DTSTART:20231105T060000
END:STANDARD
BEGIN:DAYLIGHT
TZOFFSETFROM:-0500
TZOFFSETTO:-0400
TZNAME:EDT
DTSTART:20240310T070000
END:DAYLIGHT
BEGIN:STANDARD
TZOFFSETFROM:-0400
TZOFFSETTO:-0500
TZNAME:EST
DTSTART:20241103T060000
END:STANDARD
END:VTIMEZONE
BEGIN:VEVENT
DTSTART;TZID=America/Detroit:20230115T170000
DTEND;TZID=America/Detroit:20230115T170000
DTSTAMP:20260424T135449
CREATED:20221210T221408Z
LAST-MODIFIED:20221210T221408Z
UID:13322-1673802000-1673802000@sovereigngraceurc.org
SUMMARY:Sunday Evening Service Service
DESCRIPTION:
URL:https://sovereigngraceurc.org/event/sunday-evening-service-service-3
CATEGORIES:PM Service
END:VEVENT
BEGIN:VEVENT
DTSTART;TZID=America/Detroit:20230108T170000
DTEND;TZID=America/Detroit:20230108T170000
DTSTAMP:20260424T135449
CREATED:20221210T221355Z
LAST-MODIFIED:20221210T221355Z
UID:13321-1673197200-1673197200@sovereigngraceurc.org
SUMMARY:Sunday Evening Service Service
DESCRIPTION:
URL:https://sovereigngraceurc.org/event/sunday-evening-service-service-2
CATEGORIES:PM Service
END:VEVENT
BEGIN:VEVENT
DTSTART;TZID=America/Detroit:20230101T170000
DTEND;TZID=America/Detroit:20230101T170000
DTSTAMP:20260424T135449
CREATED:20221210T221354Z
LAST-MODIFIED:20221210T221354Z
UID:13320-1672592400-1672592400@sovereigngraceurc.org
SUMMARY:Sunday Evening Service Service
DESCRIPTION:
URL:https://sovereigngraceurc.org/event/sunday-evening-service-service
CATEGORIES:PM Service
END:VEVENT
BEGIN:VEVENT
DTSTART;TZID=America/Detroit:20221225T173000
DTEND;TZID=America/Detroit:20221225T173000
DTSTAMP:20260424T135449
CREATED:20171001T183259Z
LAST-MODIFIED:20171001T183301Z
UID:6438-1671989400-1671989400@sovereigngraceurc.org
SUMMARY:Sunday Evening Service
DESCRIPTION:
URL:https://sovereigngraceurc.org/event/sunday-evening-service-958
LOCATION:Sovereign Grace URC\, 62 Lamoreaux Drive NE\, Comstock Park\, MI\, 49321\, United States
CATEGORIES:PM Service
END:VEVENT
BEGIN:VEVENT
DTSTART;TZID=America/Detroit:20221218T173000
DTEND;TZID=America/Detroit:20221218T173000
DTSTAMP:20260424T135449
CREATED:20171001T183254Z
LAST-MODIFIED:20171001T183301Z
UID:6435-1671384600-1671384600@sovereigngraceurc.org
SUMMARY:Sunday Evening Service
DESCRIPTION:
URL:https://sovereigngraceurc.org/event/sunday-evening-service-957
LOCATION:Sovereign Grace URC\, 62 Lamoreaux Drive NE\, Comstock Park\, MI\, 49321\, United States
CATEGORIES:PM Service
END:VEVENT
BEGIN:VEVENT
DTSTART;TZID=America/Detroit:20221211T173000
DTEND;TZID=America/Detroit:20221211T173000
DTSTAMP:20260424T135449
CREATED:20171001T183247Z
LAST-MODIFIED:20171001T183251Z
UID:6427-1670779800-1670779800@sovereigngraceurc.org
SUMMARY:Sunday Evening Service
DESCRIPTION:
URL:https://sovereigngraceurc.org/event/sunday-evening-service-956
LOCATION:Sovereign Grace URC\, 62 Lamoreaux Drive NE\, Comstock Park\, MI\, 49321\, United States
CATEGORIES:PM Service
END:VEVENT
BEGIN:VEVENT
DTSTART;TZID=America/Detroit:20221204T173000
DTEND;TZID=America/Detroit:20221204T173000
DTSTAMP:20260424T135449
CREATED:20171001T183242Z
LAST-MODIFIED:20171001T183250Z
UID:6424-1670175000-1670175000@sovereigngraceurc.org
SUMMARY:Sunday Evening Service
DESCRIPTION:
URL:https://sovereigngraceurc.org/event/sunday-evening-service-955
LOCATION:Sovereign Grace URC\, 62 Lamoreaux Drive NE\, Comstock Park\, MI\, 49321\, United States
CATEGORIES:PM Service
END:VEVENT
BEGIN:VEVENT
DTSTART;TZID=America/Detroit:20221127T173000
DTEND;TZID=America/Detroit:20221127T173000
DTSTAMP:20260424T135449
CREATED:20171001T183235Z
LAST-MODIFIED:20171001T183235Z
UID:6421-1669570200-1669570200@sovereigngraceurc.org
SUMMARY:Sunday Evening Service
DESCRIPTION:
URL:https://sovereigngraceurc.org/event/sunday-evening-service-954
LOCATION:Sovereign Grace URC\, 62 Lamoreaux Drive NE\, Comstock Park\, MI\, 49321\, United States
CATEGORIES:PM Service
END:VEVENT
BEGIN:VEVENT
DTSTART;TZID=America/Detroit:20221120T173000
DTEND;TZID=America/Detroit:20221120T173000
DTSTAMP:20260424T135449
CREATED:20171001T183228Z
LAST-MODIFIED:20171001T183231Z
UID:6413-1668965400-1668965400@sovereigngraceurc.org
SUMMARY:Sunday Evening Service
DESCRIPTION:
URL:https://sovereigngraceurc.org/event/sunday-evening-service-953
LOCATION:Sovereign Grace URC\, 62 Lamoreaux Drive NE\, Comstock Park\, MI\, 49321\, United States
CATEGORIES:PM Service
END:VEVENT
BEGIN:VEVENT
DTSTART;TZID=America/Detroit:20221113T173000
DTEND;TZID=America/Detroit:20221113T173000
DTSTAMP:20260424T135449
CREATED:20171001T183223Z
LAST-MODIFIED:20171001T183231Z
UID:6410-1668360600-1668360600@sovereigngraceurc.org
SUMMARY:Sunday Evening Service
DESCRIPTION:
URL:https://sovereigngraceurc.org/event/sunday-evening-service-952
LOCATION:Sovereign Grace URC\, 62 Lamoreaux Drive NE\, Comstock Park\, MI\, 49321\, United States
CATEGORIES:PM Service
END:VEVENT
BEGIN:VEVENT
DTSTART;TZID=America/Detroit:20221023T173000
DTEND;TZID=America/Detroit:20221023T173000
DTSTAMP:20260424T135449
CREATED:20171001T183201Z
LAST-MODIFIED:20171001T183207Z
UID:6396-1666546200-1666546200@sovereigngraceurc.org
SUMMARY:Sunday Evening Service
DESCRIPTION:
URL:https://sovereigngraceurc.org/event/sunday-evening-service-949
LOCATION:Sovereign Grace URC\, 62 Lamoreaux Drive NE\, Comstock Park\, MI\, 49321\, United States
CATEGORIES:PM Service
END:VEVENT
BEGIN:VEVENT
DTSTART;TZID=America/Detroit:20221016T173000
DTEND;TZID=America/Detroit:20221016T173000
DTSTAMP:20260424T135449
CREATED:20171001T183149Z
LAST-MODIFIED:20171001T183153Z
UID:6388-1665941400-1665941400@sovereigngraceurc.org
SUMMARY:Sunday Evening Service
DESCRIPTION:
URL:https://sovereigngraceurc.org/event/sunday-evening-service-948
LOCATION:Sovereign Grace URC\, 62 Lamoreaux Drive NE\, Comstock Park\, MI\, 49321\, United States
CATEGORIES:PM Service
END:VEVENT
BEGIN:VEVENT
DTSTART;TZID=America/Detroit:20221009T173000
DTEND;TZID=America/Detroit:20221009T173000
DTSTAMP:20260424T135449
CREATED:20171001T183145Z
LAST-MODIFIED:20171001T183151Z
UID:6385-1665336600-1665336600@sovereigngraceurc.org
SUMMARY:Sunday Evening Service
DESCRIPTION:
URL:https://sovereigngraceurc.org/event/sunday-evening-service-947
LOCATION:Sovereign Grace URC\, 62 Lamoreaux Drive NE\, Comstock Park\, MI\, 49321\, United States
CATEGORIES:PM Service
END:VEVENT
BEGIN:VEVENT
DTSTART;TZID=America/Detroit:20221002T173000
DTEND;TZID=America/Detroit:20221002T173000
DTSTAMP:20260424T135449
CREATED:20171001T183136Z
LAST-MODIFIED:20171001T183141Z
UID:6377-1664731800-1664731800@sovereigngraceurc.org
SUMMARY:Sunday Evening Service
DESCRIPTION:
URL:https://sovereigngraceurc.org/event/sunday-evening-service-946
LOCATION:Sovereign Grace URC\, 62 Lamoreaux Drive NE\, Comstock Park\, MI\, 49321\, United States
CATEGORIES:PM Service
END:VEVENT
BEGIN:VEVENT
DTSTART;TZID=America/Detroit:20220925T173000
DTEND;TZID=America/Detroit:20220925T173000
DTSTAMP:20260424T135449
CREATED:20171001T183132Z
LAST-MODIFIED:20171001T183139Z
UID:6374-1664127000-1664127000@sovereigngraceurc.org
SUMMARY:Sunday Evening Service
DESCRIPTION:
URL:https://sovereigngraceurc.org/event/sunday-evening-service-945
LOCATION:Sovereign Grace URC\, 62 Lamoreaux Drive NE\, Comstock Park\, MI\, 49321\, United States
CATEGORIES:PM Service
END:VEVENT
BEGIN:VEVENT
DTSTART;TZID=America/Detroit:20220911T173000
DTEND;TZID=America/Detroit:20220911T173000
DTSTAMP:20260424T135449
CREATED:20171001T183116Z
LAST-MODIFIED:20220911T190808Z
UID:6368-1662917400-1662917400@sovereigngraceurc.org
SUMMARY:Sunday Evening Service
DESCRIPTION:
URL:https://sovereigngraceurc.org/event/sunday-evening-service-943
LOCATION:Sovereign Grace URC\, 62 Lamoreaux Drive NE\, Comstock Park\, MI\, 49321\, United States
CATEGORIES:PM Service
END:VEVENT
BEGIN:VEVENT
DTSTART;TZID=America/Detroit:20220904T173000
DTEND;TZID=America/Detroit:20220904T173000
DTSTAMP:20260424T135449
CREATED:20171001T183110Z
LAST-MODIFIED:20171001T183110Z
UID:6365-1662312600-1662312600@sovereigngraceurc.org
SUMMARY:Sunday Evening Service
DESCRIPTION:
URL:https://sovereigngraceurc.org/event/sunday-evening-service-942
LOCATION:Sovereign Grace URC\, 62 Lamoreaux Drive NE\, Comstock Park\, MI\, 49321\, United States
CATEGORIES:PM Service
END:VEVENT
BEGIN:VEVENT
DTSTART;TZID=America/Detroit:20220814T173000
DTEND;TZID=America/Detroit:20220814T173000
DTSTAMP:20260424T135449
CREATED:20171001T183050Z
LAST-MODIFIED:20171001T183056Z
UID:6351-1660498200-1660498200@sovereigngraceurc.org
SUMMARY:Sunday Evening Service
DESCRIPTION:
URL:https://sovereigngraceurc.org/event/sunday-evening-service-939
LOCATION:Sovereign Grace URC\, 62 Lamoreaux Drive NE\, Comstock Park\, MI\, 49321\, United States
CATEGORIES:PM Service
END:VEVENT
BEGIN:VEVENT
DTSTART;TZID=America/Detroit:20220807T173000
DTEND;TZID=America/Detroit:20220807T173000
DTSTAMP:20260424T135449
CREATED:20171001T183043Z
LAST-MODIFIED:20171001T183043Z
UID:6348-1659893400-1659893400@sovereigngraceurc.org
SUMMARY:Sunday Evening Service
DESCRIPTION:
URL:https://sovereigngraceurc.org/event/sunday-evening-service-938
LOCATION:Sovereign Grace URC\, 62 Lamoreaux Drive NE\, Comstock Park\, MI\, 49321\, United States
CATEGORIES:PM Service
END:VEVENT
BEGIN:VEVENT
DTSTART;TZID=America/Detroit:20220731T173000
DTEND;TZID=America/Detroit:20220731T173000
DTSTAMP:20260424T135449
CREATED:20171001T183039Z
LAST-MODIFIED:20171001T183039Z
UID:6344-1659288600-1659288600@sovereigngraceurc.org
SUMMARY:Sunday Evening Service
DESCRIPTION:
URL:https://sovereigngraceurc.org/event/sunday-evening-service-937
LOCATION:Sovereign Grace URC\, 62 Lamoreaux Drive NE\, Comstock Park\, MI\, 49321\, United States
CATEGORIES:PM Service
END:VEVENT
BEGIN:VEVENT
DTSTART;TZID=America/Detroit:20220724T173000
DTEND;TZID=America/Detroit:20220724T173000
DTSTAMP:20260424T135449
CREATED:20171001T183029Z
LAST-MODIFIED:20171001T183034Z
UID:6336-1658683800-1658683800@sovereigngraceurc.org
SUMMARY:Sunday Evening Service
DESCRIPTION:
URL:https://sovereigngraceurc.org/event/sunday-evening-service-936
LOCATION:Sovereign Grace URC\, 62 Lamoreaux Drive NE\, Comstock Park\, MI\, 49321\, United States
CATEGORIES:PM Service
END:VEVENT
BEGIN:VEVENT
DTSTART;TZID=America/Detroit:20220717T173000
DTEND;TZID=America/Detroit:20220717T173000
DTSTAMP:20260424T135449
CREATED:20171001T183024Z
LAST-MODIFIED:20171001T183032Z
UID:6333-1658079000-1658079000@sovereigngraceurc.org
SUMMARY:Sunday Evening Service
DESCRIPTION:
URL:https://sovereigngraceurc.org/event/sunday-evening-service-935
LOCATION:Sovereign Grace URC\, 62 Lamoreaux Drive NE\, Comstock Park\, MI\, 49321\, United States
CATEGORIES:PM Service
END:VEVENT
BEGIN:VEVENT
DTSTART;TZID=America/Detroit:20220529T173000
DTEND;TZID=America/Detroit:20220529T173000
DTSTAMP:20260424T135449
CREATED:20171001T182931Z
LAST-MODIFIED:20171001T182937Z
UID:6307-1653845400-1653845400@sovereigngraceurc.org
SUMMARY:Sunday Evening Service
DESCRIPTION:
URL:https://sovereigngraceurc.org/event/sunday-evening-service-928
LOCATION:Sovereign Grace URC\, 62 Lamoreaux Drive NE\, Comstock Park\, MI\, 49321\, United States
CATEGORIES:PM Service
END:VEVENT
BEGIN:VEVENT
DTSTART;TZID=America/Detroit:20220522T173000
DTEND;TZID=America/Detroit:20220522T173000
DTSTAMP:20260424T135449
CREATED:20171001T182926Z
LAST-MODIFIED:20171001T182935Z
UID:6304-1653240600-1653240600@sovereigngraceurc.org
SUMMARY:Sunday Evening Service
DESCRIPTION:
URL:https://sovereigngraceurc.org/event/sunday-evening-service-927
LOCATION:Sovereign Grace URC\, 62 Lamoreaux Drive NE\, Comstock Park\, MI\, 49321\, United States
CATEGORIES:PM Service
END:VEVENT
BEGIN:VEVENT
DTSTART;TZID=America/Detroit:20220515T173000
DTEND;TZID=America/Detroit:20220515T173000
DTSTAMP:20260424T135449
CREATED:20171001T182917Z
LAST-MODIFIED:20171001T182922Z
UID:6295-1652635800-1652635800@sovereigngraceurc.org
SUMMARY:Sunday Evening Service
DESCRIPTION:
URL:https://sovereigngraceurc.org/event/sunday-evening-service-926
LOCATION:Sovereign Grace URC\, 62 Lamoreaux Drive NE\, Comstock Park\, MI\, 49321\, United States
CATEGORIES:PM Service
END:VEVENT
BEGIN:VEVENT
DTSTART;TZID=America/Detroit:20220508T173000
DTEND;TZID=America/Detroit:20220508T173000
DTSTAMP:20260424T135449
CREATED:20171001T182912Z
LAST-MODIFIED:20171001T182921Z
UID:6292-1652031000-1652031000@sovereigngraceurc.org
SUMMARY:Sunday Evening Service
DESCRIPTION:
URL:https://sovereigngraceurc.org/event/sunday-evening-service-925
LOCATION:Sovereign Grace URC\, 62 Lamoreaux Drive NE\, Comstock Park\, MI\, 49321\, United States
CATEGORIES:PM Service
END:VEVENT
BEGIN:VEVENT
DTSTART;TZID=America/Detroit:20220424T173000
DTEND;TZID=America/Detroit:20220424T173000
DTSTAMP:20260424T135449
CREATED:20171001T182854Z
LAST-MODIFIED:20171001T182859Z
UID:6281-1650821400-1650821400@sovereigngraceurc.org
SUMMARY:Sunday Evening Service
DESCRIPTION:
URL:https://sovereigngraceurc.org/event/sunday-evening-service-923
LOCATION:Sovereign Grace URC\, 62 Lamoreaux Drive NE\, Comstock Park\, MI\, 49321\, United States
CATEGORIES:PM Service
END:VEVENT
BEGIN:VEVENT
DTSTART;TZID=America/Detroit:20220417T173000
DTEND;TZID=America/Detroit:20220417T173000
DTSTAMP:20260424T135449
CREATED:20171001T182850Z
LAST-MODIFIED:20171001T182857Z
UID:6278-1650216600-1650216600@sovereigngraceurc.org
SUMMARY:Sunday Evening Service
DESCRIPTION:
URL:https://sovereigngraceurc.org/event/sunday-evening-service-922
LOCATION:Sovereign Grace URC\, 62 Lamoreaux Drive NE\, Comstock Park\, MI\, 49321\, United States
CATEGORIES:PM Service
END:VEVENT
BEGIN:VEVENT
DTSTART;TZID=America/Detroit:20220327T173000
DTEND;TZID=America/Detroit:20220327T173000
DTSTAMP:20260424T135449
CREATED:20171001T182831Z
LAST-MODIFIED:20171001T182831Z
UID:6269-1648402200-1648402200@sovereigngraceurc.org
SUMMARY:Sunday Evening Service
DESCRIPTION:
URL:https://sovereigngraceurc.org/event/sunday-evening-service-919
LOCATION:Sovereign Grace URC\, 62 Lamoreaux Drive NE\, Comstock Park\, MI\, 49321\, United States
CATEGORIES:PM Service
END:VEVENT
BEGIN:VEVENT
DTSTART;TZID=America/Detroit:20220320T173000
DTEND;TZID=America/Detroit:20220320T173000
DTSTAMP:20260424T135449
CREATED:20171001T182821Z
LAST-MODIFIED:20171001T182824Z
UID:6261-1647797400-1647797400@sovereigngraceurc.org
SUMMARY:Sunday Evening Service
DESCRIPTION:
URL:https://sovereigngraceurc.org/event/sunday-evening-service-918
LOCATION:Sovereign Grace URC\, 62 Lamoreaux Drive NE\, Comstock Park\, MI\, 49321\, United States
CATEGORIES:PM Service
END:VEVENT
END:VCALENDAR