BEGIN:VCALENDAR
VERSION:2.0
PRODID:-//Sovereign Grace URC - ECPv6.15.20//NONSGML v1.0//EN
CALSCALE:GREGORIAN
METHOD:PUBLISH
X-ORIGINAL-URL:https://sovereigngraceurc.org
X-WR-CALDESC:Events for Sovereign Grace URC
REFRESH-INTERVAL;VALUE=DURATION:PT1H
X-Robots-Tag:noindex
X-PUBLISHED-TTL:PT1H
BEGIN:VTIMEZONE
TZID:America/Detroit
BEGIN:DAYLIGHT
TZOFFSETFROM:-0500
TZOFFSETTO:-0400
TZNAME:EDT
DTSTART:20220313T070000
END:DAYLIGHT
BEGIN:STANDARD
TZOFFSETFROM:-0400
TZOFFSETTO:-0500
TZNAME:EST
DTSTART:20221106T060000
END:STANDARD
BEGIN:DAYLIGHT
TZOFFSETFROM:-0500
TZOFFSETTO:-0400
TZNAME:EDT
DTSTART:20230312T070000
END:DAYLIGHT
BEGIN:STANDARD
TZOFFSETFROM:-0400
TZOFFSETTO:-0500
TZNAME:EST
DTSTART:20231105T060000
END:STANDARD
BEGIN:DAYLIGHT
TZOFFSETFROM:-0500
TZOFFSETTO:-0400
TZNAME:EDT
DTSTART:20240310T070000
END:DAYLIGHT
BEGIN:STANDARD
TZOFFSETFROM:-0400
TZOFFSETTO:-0500
TZNAME:EST
DTSTART:20241103T060000
END:STANDARD
END:VTIMEZONE
BEGIN:VEVENT
DTSTART;TZID=America/Detroit:20230813T170000
DTEND;TZID=America/Detroit:20230813T170000
DTSTAMP:20260424T075717
CREATED:20221210T221725Z
LAST-MODIFIED:20221210T221725Z
UID:13352-1691946000-1691946000@sovereigngraceurc.org
SUMMARY:Sunday Evening Service Service
DESCRIPTION:
URL:https://sovereigngraceurc.org/event/sunday-evening-service-service-33
CATEGORIES:PM Service
END:VEVENT
BEGIN:VEVENT
DTSTART;TZID=America/Detroit:20230806T170000
DTEND;TZID=America/Detroit:20230806T170000
DTSTAMP:20260424T075717
CREATED:20221210T221525Z
LAST-MODIFIED:20221210T221525Z
UID:13351-1691341200-1691341200@sovereigngraceurc.org
SUMMARY:Sunday Evening Service Service
DESCRIPTION:
URL:https://sovereigngraceurc.org/event/sunday-evening-service-service-32
CATEGORIES:PM Service
END:VEVENT
BEGIN:VEVENT
DTSTART;TZID=America/Detroit:20230730T170000
DTEND;TZID=America/Detroit:20230730T170000
DTSTAMP:20260424T075717
CREATED:20221210T221525Z
LAST-MODIFIED:20221210T221525Z
UID:13350-1690736400-1690736400@sovereigngraceurc.org
SUMMARY:Sunday Evening Service Service
DESCRIPTION:
URL:https://sovereigngraceurc.org/event/sunday-evening-service-service-31
CATEGORIES:PM Service
END:VEVENT
BEGIN:VEVENT
DTSTART;TZID=America/Detroit:20230723T170000
DTEND;TZID=America/Detroit:20230723T170000
DTSTAMP:20260424T075717
CREATED:20221210T221525Z
LAST-MODIFIED:20221210T221525Z
UID:13349-1690131600-1690131600@sovereigngraceurc.org
SUMMARY:Sunday Evening Service Service
DESCRIPTION:
URL:https://sovereigngraceurc.org/event/sunday-evening-service-service-30
CATEGORIES:PM Service
END:VEVENT
BEGIN:VEVENT
DTSTART;TZID=America/Detroit:20230716T170000
DTEND;TZID=America/Detroit:20230716T170000
DTSTAMP:20260424T075717
CREATED:20221210T221524Z
LAST-MODIFIED:20221210T221524Z
UID:13348-1689526800-1689526800@sovereigngraceurc.org
SUMMARY:Sunday Evening Service Service
DESCRIPTION:
URL:https://sovereigngraceurc.org/event/sunday-evening-service-service-29
CATEGORIES:PM Service
END:VEVENT
BEGIN:VEVENT
DTSTART;TZID=America/Detroit:20230709T170000
DTEND;TZID=America/Detroit:20230709T170000
DTSTAMP:20260424T075717
CREATED:20221210T221524Z
LAST-MODIFIED:20221210T221524Z
UID:13347-1688922000-1688922000@sovereigngraceurc.org
SUMMARY:Sunday Evening Service Service
DESCRIPTION:
URL:https://sovereigngraceurc.org/event/sunday-evening-service-service-28
CATEGORIES:PM Service
END:VEVENT
BEGIN:VEVENT
DTSTART;TZID=America/Detroit:20230702T170000
DTEND;TZID=America/Detroit:20230702T170000
DTSTAMP:20260424T075717
CREATED:20221210T221509Z
LAST-MODIFIED:20221210T221509Z
UID:13346-1688317200-1688317200@sovereigngraceurc.org
SUMMARY:Sunday Evening Service Service
DESCRIPTION:
URL:https://sovereigngraceurc.org/event/sunday-evening-service-service-27
CATEGORIES:PM Service
END:VEVENT
BEGIN:VEVENT
DTSTART;TZID=America/Detroit:20230625T170000
DTEND;TZID=America/Detroit:20230625T170000
DTSTAMP:20260424T075717
CREATED:20221210T221509Z
LAST-MODIFIED:20221210T221509Z
UID:13345-1687712400-1687712400@sovereigngraceurc.org
SUMMARY:Sunday Evening Service Service
DESCRIPTION:
URL:https://sovereigngraceurc.org/event/sunday-evening-service-service-26
CATEGORIES:PM Service
END:VEVENT
BEGIN:VEVENT
DTSTART;TZID=America/Detroit:20230618T170000
DTEND;TZID=America/Detroit:20230618T170000
DTSTAMP:20260424T075717
CREATED:20221210T221509Z
LAST-MODIFIED:20221210T221509Z
UID:13344-1687107600-1687107600@sovereigngraceurc.org
SUMMARY:Sunday Evening Service Service
DESCRIPTION:
URL:https://sovereigngraceurc.org/event/sunday-evening-service-service-25
CATEGORIES:PM Service
END:VEVENT
BEGIN:VEVENT
DTSTART;TZID=America/Detroit:20230611T170000
DTEND;TZID=America/Detroit:20230611T170000
DTSTAMP:20260424T075717
CREATED:20221210T221509Z
LAST-MODIFIED:20221210T221509Z
UID:13343-1686502800-1686502800@sovereigngraceurc.org
SUMMARY:Sunday Evening Service Service
DESCRIPTION:
URL:https://sovereigngraceurc.org/event/sunday-evening-service-service-24
CATEGORIES:PM Service
END:VEVENT
BEGIN:VEVENT
DTSTART;TZID=America/Detroit:20230604T170000
DTEND;TZID=America/Detroit:20230604T170000
DTSTAMP:20260424T075717
CREATED:20221210T221508Z
LAST-MODIFIED:20221210T221508Z
UID:13342-1685898000-1685898000@sovereigngraceurc.org
SUMMARY:Sunday Evening Service Service
DESCRIPTION:
URL:https://sovereigngraceurc.org/event/sunday-evening-service-service-23
CATEGORIES:PM Service
END:VEVENT
BEGIN:VEVENT
DTSTART;TZID=America/Detroit:20230528T170000
DTEND;TZID=America/Detroit:20230528T170000
DTSTAMP:20260424T075717
CREATED:20221210T221454Z
LAST-MODIFIED:20221210T221454Z
UID:13341-1685293200-1685293200@sovereigngraceurc.org
SUMMARY:Sunday Evening Service Service
DESCRIPTION:
URL:https://sovereigngraceurc.org/event/sunday-evening-service-service-22
CATEGORIES:PM Service
END:VEVENT
BEGIN:VEVENT
DTSTART;TZID=America/Detroit:20230521T170000
DTEND;TZID=America/Detroit:20230521T170000
DTSTAMP:20260424T075717
CREATED:20221210T221454Z
LAST-MODIFIED:20221210T221454Z
UID:13340-1684688400-1684688400@sovereigngraceurc.org
SUMMARY:Sunday Evening Service Service
DESCRIPTION:
URL:https://sovereigngraceurc.org/event/sunday-evening-service-service-21
CATEGORIES:PM Service
END:VEVENT
BEGIN:VEVENT
DTSTART;TZID=America/Detroit:20230514T170000
DTEND;TZID=America/Detroit:20230514T170000
DTSTAMP:20260424T075717
CREATED:20221210T221454Z
LAST-MODIFIED:20221210T221454Z
UID:13339-1684083600-1684083600@sovereigngraceurc.org
SUMMARY:Sunday Evening Service Service
DESCRIPTION:
URL:https://sovereigngraceurc.org/event/sunday-evening-service-service-20
CATEGORIES:PM Service
END:VEVENT
BEGIN:VEVENT
DTSTART;TZID=America/Detroit:20230507T170000
DTEND;TZID=America/Detroit:20230507T170000
DTSTAMP:20260424T075717
CREATED:20221210T221454Z
LAST-MODIFIED:20221210T221454Z
UID:13338-1683478800-1683478800@sovereigngraceurc.org
SUMMARY:Sunday Evening Service Service
DESCRIPTION:
URL:https://sovereigngraceurc.org/event/sunday-evening-service-service-19
CATEGORIES:PM Service
END:VEVENT
BEGIN:VEVENT
DTSTART;TZID=America/Detroit:20230430T170000
DTEND;TZID=America/Detroit:20230430T170000
DTSTAMP:20260424T075717
CREATED:20221210T221453Z
LAST-MODIFIED:20221210T221453Z
UID:13337-1682874000-1682874000@sovereigngraceurc.org
SUMMARY:Sunday Evening Service Service
DESCRIPTION:
URL:https://sovereigngraceurc.org/event/sunday-evening-service-service-18
CATEGORIES:PM Service
END:VEVENT
BEGIN:VEVENT
DTSTART;TZID=America/Detroit:20230423T170000
DTEND;TZID=America/Detroit:20230423T170000
DTSTAMP:20260424T075717
CREATED:20221210T221439Z
LAST-MODIFIED:20221210T221439Z
UID:13336-1682269200-1682269200@sovereigngraceurc.org
SUMMARY:Sunday Evening Service Service
DESCRIPTION:
URL:https://sovereigngraceurc.org/event/sunday-evening-service-service-17
CATEGORIES:PM Service
END:VEVENT
BEGIN:VEVENT
DTSTART;TZID=America/Detroit:20230416T170000
DTEND;TZID=America/Detroit:20230416T170000
DTSTAMP:20260424T075717
CREATED:20221210T221439Z
LAST-MODIFIED:20221210T221439Z
UID:13335-1681664400-1681664400@sovereigngraceurc.org
SUMMARY:Sunday Evening Service Service
DESCRIPTION:
URL:https://sovereigngraceurc.org/event/sunday-evening-service-service-16
CATEGORIES:PM Service
END:VEVENT
BEGIN:VEVENT
DTSTART;TZID=America/Detroit:20230409T170000
DTEND;TZID=America/Detroit:20230409T170000
DTSTAMP:20260424T075717
CREATED:20221210T221439Z
LAST-MODIFIED:20221210T221439Z
UID:13334-1681059600-1681059600@sovereigngraceurc.org
SUMMARY:Sunday Evening Service Service
DESCRIPTION:
URL:https://sovereigngraceurc.org/event/sunday-evening-service-service-15
CATEGORIES:PM Service
END:VEVENT
BEGIN:VEVENT
DTSTART;TZID=America/Detroit:20230402T170000
DTEND;TZID=America/Detroit:20230402T170000
DTSTAMP:20260424T075717
CREATED:20221210T221439Z
LAST-MODIFIED:20221210T221439Z
UID:13333-1680454800-1680454800@sovereigngraceurc.org
SUMMARY:Sunday Evening Service Service
DESCRIPTION:
URL:https://sovereigngraceurc.org/event/sunday-evening-service-service-14
CATEGORIES:PM Service
END:VEVENT
BEGIN:VEVENT
DTSTART;TZID=America/Detroit:20230326T170000
DTEND;TZID=America/Detroit:20230326T170000
DTSTAMP:20260424T075717
CREATED:20221210T221438Z
LAST-MODIFIED:20221210T221438Z
UID:13332-1679850000-1679850000@sovereigngraceurc.org
SUMMARY:Sunday Evening Service Service
DESCRIPTION:
URL:https://sovereigngraceurc.org/event/sunday-evening-service-service-13
CATEGORIES:PM Service
END:VEVENT
BEGIN:VEVENT
DTSTART;TZID=America/Detroit:20230319T170000
DTEND;TZID=America/Detroit:20230319T170000
DTSTAMP:20260424T075717
CREATED:20221210T221426Z
LAST-MODIFIED:20221210T221426Z
UID:13331-1679245200-1679245200@sovereigngraceurc.org
SUMMARY:Sunday Evening Service Service
DESCRIPTION:
URL:https://sovereigngraceurc.org/event/sunday-evening-service-service-12
CATEGORIES:PM Service
END:VEVENT
BEGIN:VEVENT
DTSTART;TZID=America/Detroit:20230312T170000
DTEND;TZID=America/Detroit:20230312T170000
DTSTAMP:20260424T075717
CREATED:20221210T221426Z
LAST-MODIFIED:20221210T221426Z
UID:13330-1678640400-1678640400@sovereigngraceurc.org
SUMMARY:Sunday Evening Service Service
DESCRIPTION:
URL:https://sovereigngraceurc.org/event/sunday-evening-service-service-11
CATEGORIES:PM Service
END:VEVENT
BEGIN:VEVENT
DTSTART;TZID=America/Detroit:20230305T170000
DTEND;TZID=America/Detroit:20230305T170000
DTSTAMP:20260424T075717
CREATED:20221210T221426Z
LAST-MODIFIED:20221210T221426Z
UID:13329-1678035600-1678035600@sovereigngraceurc.org
SUMMARY:Sunday Evening Service Service
DESCRIPTION:
URL:https://sovereigngraceurc.org/event/sunday-evening-service-service-10
CATEGORIES:PM Service
END:VEVENT
BEGIN:VEVENT
DTSTART;TZID=America/Detroit:20230226T170000
DTEND;TZID=America/Detroit:20230226T170000
DTSTAMP:20260424T075717
CREATED:20221210T221426Z
LAST-MODIFIED:20221210T221426Z
UID:13328-1677430800-1677430800@sovereigngraceurc.org
SUMMARY:Sunday Evening Service Service
DESCRIPTION:
URL:https://sovereigngraceurc.org/event/sunday-evening-service-service-9
CATEGORIES:PM Service
END:VEVENT
BEGIN:VEVENT
DTSTART;TZID=America/Detroit:20230219T170000
DTEND;TZID=America/Detroit:20230219T170000
DTSTAMP:20260424T075717
CREATED:20221210T221423Z
LAST-MODIFIED:20221210T221423Z
UID:13327-1676826000-1676826000@sovereigngraceurc.org
SUMMARY:Sunday Evening Service Service
DESCRIPTION:
URL:https://sovereigngraceurc.org/event/sunday-evening-service-service-8
CATEGORIES:PM Service
END:VEVENT
BEGIN:VEVENT
DTSTART;TZID=America/Detroit:20230212T170000
DTEND;TZID=America/Detroit:20230212T170000
DTSTAMP:20260424T075717
CREATED:20221210T221410Z
LAST-MODIFIED:20221210T221410Z
UID:13326-1676221200-1676221200@sovereigngraceurc.org
SUMMARY:Sunday Evening Service Service
DESCRIPTION:
URL:https://sovereigngraceurc.org/event/sunday-evening-service-service-7
CATEGORIES:PM Service
END:VEVENT
BEGIN:VEVENT
DTSTART;TZID=America/Detroit:20230205T170000
DTEND;TZID=America/Detroit:20230205T170000
DTSTAMP:20260424T075717
CREATED:20221210T221409Z
LAST-MODIFIED:20221210T221409Z
UID:13325-1675616400-1675616400@sovereigngraceurc.org
SUMMARY:Sunday Evening Service Service
DESCRIPTION:
URL:https://sovereigngraceurc.org/event/sunday-evening-service-service-6
CATEGORIES:PM Service
END:VEVENT
BEGIN:VEVENT
DTSTART;TZID=America/Detroit:20230129T170000
DTEND;TZID=America/Detroit:20230129T170000
DTSTAMP:20260424T075717
CREATED:20221210T221409Z
LAST-MODIFIED:20221210T221409Z
UID:13324-1675011600-1675011600@sovereigngraceurc.org
SUMMARY:Sunday Evening Service Service
DESCRIPTION:
URL:https://sovereigngraceurc.org/event/sunday-evening-service-service-5
CATEGORIES:PM Service
END:VEVENT
BEGIN:VEVENT
DTSTART;TZID=America/Detroit:20230122T170000
DTEND;TZID=America/Detroit:20230122T170000
DTSTAMP:20260424T075717
CREATED:20221210T221409Z
LAST-MODIFIED:20221210T221409Z
UID:13323-1674406800-1674406800@sovereigngraceurc.org
SUMMARY:Sunday Evening Service Service
DESCRIPTION:
URL:https://sovereigngraceurc.org/event/sunday-evening-service-service-4
CATEGORIES:PM Service
END:VEVENT
END:VCALENDAR