BEGIN:VCALENDAR
VERSION:2.0
PRODID:-//Sovereign Grace URC - ECPv6.15.20//NONSGML v1.0//EN
CALSCALE:GREGORIAN
METHOD:PUBLISH
X-ORIGINAL-URL:https://sovereigngraceurc.org
X-WR-CALDESC:Events for Sovereign Grace URC
REFRESH-INTERVAL;VALUE=DURATION:PT1H
X-Robots-Tag:noindex
X-PUBLISHED-TTL:PT1H
BEGIN:VTIMEZONE
TZID:America/Detroit
BEGIN:DAYLIGHT
TZOFFSETFROM:-0500
TZOFFSETTO:-0400
TZNAME:EDT
DTSTART:20230312T070000
END:DAYLIGHT
BEGIN:STANDARD
TZOFFSETFROM:-0400
TZOFFSETTO:-0500
TZNAME:EST
DTSTART:20231105T060000
END:STANDARD
BEGIN:DAYLIGHT
TZOFFSETFROM:-0500
TZOFFSETTO:-0400
TZNAME:EDT
DTSTART:20240310T070000
END:DAYLIGHT
BEGIN:STANDARD
TZOFFSETFROM:-0400
TZOFFSETTO:-0500
TZNAME:EST
DTSTART:20241103T060000
END:STANDARD
BEGIN:DAYLIGHT
TZOFFSETFROM:-0500
TZOFFSETTO:-0400
TZNAME:EDT
DTSTART:20250309T070000
END:DAYLIGHT
BEGIN:STANDARD
TZOFFSETFROM:-0400
TZOFFSETTO:-0500
TZNAME:EST
DTSTART:20251102T060000
END:STANDARD
END:VTIMEZONE
BEGIN:VEVENT
DTSTART;TZID=America/Detroit:20240407T170000
DTEND;TZID=America/Detroit:20240407T170000
DTSTAMP:20260425T072647
CREATED:20240102T034029Z
LAST-MODIFIED:20240102T034029Z
UID:14304-1712509200-1712509200@sovereigngraceurc.org
SUMMARY:Sunday Evening Worship Service
DESCRIPTION:
URL:https://sovereigngraceurc.org/event/sunday-evening-worship-service-14
CATEGORIES:PM Service
END:VEVENT
BEGIN:VEVENT
DTSTART;TZID=America/Detroit:20240414T170000
DTEND;TZID=America/Detroit:20240414T170000
DTSTAMP:20260425T072647
CREATED:20240102T034029Z
LAST-MODIFIED:20240102T034029Z
UID:14305-1713114000-1713114000@sovereigngraceurc.org
SUMMARY:Sunday Evening Worship Service
DESCRIPTION:
URL:https://sovereigngraceurc.org/event/sunday-evening-worship-service-15
CATEGORIES:PM Service
END:VEVENT
BEGIN:VEVENT
DTSTART;TZID=America/Detroit:20240421T170000
DTEND;TZID=America/Detroit:20240421T170000
DTSTAMP:20260425T072647
CREATED:20240102T034030Z
LAST-MODIFIED:20240102T034030Z
UID:14306-1713718800-1713718800@sovereigngraceurc.org
SUMMARY:Sunday Evening Worship Service
DESCRIPTION:
URL:https://sovereigngraceurc.org/event/sunday-evening-worship-service-16
CATEGORIES:PM Service
END:VEVENT
BEGIN:VEVENT
DTSTART;TZID=America/Detroit:20240428T170000
DTEND;TZID=America/Detroit:20240428T170000
DTSTAMP:20260425T072647
CREATED:20240102T034030Z
LAST-MODIFIED:20240102T034030Z
UID:14307-1714323600-1714323600@sovereigngraceurc.org
SUMMARY:Sunday Evening Worship Service
DESCRIPTION:
URL:https://sovereigngraceurc.org/event/sunday-evening-worship-service-17
CATEGORIES:PM Service
END:VEVENT
END:VCALENDAR