BEGIN:VCALENDAR
VERSION:2.0
PRODID:-//Sovereign Grace URC - ECPv6.15.20//NONSGML v1.0//EN
CALSCALE:GREGORIAN
METHOD:PUBLISH
X-WR-CALNAME:Sovereign Grace URC
X-ORIGINAL-URL:https://sovereigngraceurc.org
X-WR-CALDESC:Events for Sovereign Grace URC
REFRESH-INTERVAL;VALUE=DURATION:PT1H
X-Robots-Tag:noindex
X-PUBLISHED-TTL:PT1H
BEGIN:VTIMEZONE
TZID:America/Detroit
BEGIN:DAYLIGHT
TZOFFSETFROM:-0500
TZOFFSETTO:-0400
TZNAME:EDT
DTSTART:20230312T070000
END:DAYLIGHT
BEGIN:STANDARD
TZOFFSETFROM:-0400
TZOFFSETTO:-0500
TZNAME:EST
DTSTART:20231105T060000
END:STANDARD
BEGIN:DAYLIGHT
TZOFFSETFROM:-0500
TZOFFSETTO:-0400
TZNAME:EDT
DTSTART:20240310T070000
END:DAYLIGHT
BEGIN:STANDARD
TZOFFSETFROM:-0400
TZOFFSETTO:-0500
TZNAME:EST
DTSTART:20241103T060000
END:STANDARD
BEGIN:DAYLIGHT
TZOFFSETFROM:-0500
TZOFFSETTO:-0400
TZNAME:EDT
DTSTART:20250309T070000
END:DAYLIGHT
BEGIN:STANDARD
TZOFFSETFROM:-0400
TZOFFSETTO:-0500
TZNAME:EST
DTSTART:20251102T060000
END:STANDARD
BEGIN:DAYLIGHT
TZOFFSETFROM:-0500
TZOFFSETTO:-0400
TZNAME:EDT
DTSTART:20260308T070000
END:DAYLIGHT
BEGIN:STANDARD
TZOFFSETFROM:-0400
TZOFFSETTO:-0500
TZNAME:EST
DTSTART:20261101T060000
END:STANDARD
END:VTIMEZONE
BEGIN:VEVENT
DTSTART;TZID=America/Detroit:20250504T093000
DTEND;TZID=America/Detroit:20250504T093000
DTSTAMP:20260424T021652
CREATED:20250104T014912Z
LAST-MODIFIED:20250104T014912Z
UID:15427-1746351000-1746351000@sovereigngraceurc.org
SUMMARY:Sunday Morning Worship Service
DESCRIPTION:
URL:https://sovereigngraceurc.org/event/sunday-morning-worship-service-123
CATEGORIES:AM Service
END:VEVENT
BEGIN:VEVENT
DTSTART;TZID=America/Detroit:20250427T093000
DTEND;TZID=America/Detroit:20250427T093000
DTSTAMP:20260424T021652
CREATED:20250104T014912Z
LAST-MODIFIED:20250104T014912Z
UID:15426-1745746200-1745746200@sovereigngraceurc.org
SUMMARY:Sunday Morning Worship Service
DESCRIPTION:
URL:https://sovereigngraceurc.org/event/sunday-morning-worship-service-122
CATEGORIES:AM Service
END:VEVENT
BEGIN:VEVENT
DTSTART;TZID=America/Detroit:20250420T093000
DTEND;TZID=America/Detroit:20250420T093000
DTSTAMP:20260424T021652
CREATED:20250104T014905Z
LAST-MODIFIED:20250104T014905Z
UID:15425-1745141400-1745141400@sovereigngraceurc.org
SUMMARY:Sunday Morning Worship Service
DESCRIPTION:
URL:https://sovereigngraceurc.org/event/sunday-morning-worship-service-121
CATEGORIES:AM Service
END:VEVENT
BEGIN:VEVENT
DTSTART;TZID=America/Detroit:20250413T093000
DTEND;TZID=America/Detroit:20250413T093000
DTSTAMP:20260424T021652
CREATED:20250104T014904Z
LAST-MODIFIED:20250104T014904Z
UID:15424-1744536600-1744536600@sovereigngraceurc.org
SUMMARY:Sunday Morning Worship Service
DESCRIPTION:
URL:https://sovereigngraceurc.org/event/sunday-morning-worship-service-120
CATEGORIES:AM Service
END:VEVENT
BEGIN:VEVENT
DTSTART;TZID=America/Detroit:20250406T093000
DTEND;TZID=America/Detroit:20250406T093000
DTSTAMP:20260424T021652
CREATED:20250104T014904Z
LAST-MODIFIED:20250104T014904Z
UID:15423-1743931800-1743931800@sovereigngraceurc.org
SUMMARY:Sunday Morning Worship Service
DESCRIPTION:
URL:https://sovereigngraceurc.org/event/sunday-morning-worship-service-119
CATEGORIES:AM Service
END:VEVENT
BEGIN:VEVENT
DTSTART;TZID=America/Detroit:20250330T093000
DTEND;TZID=America/Detroit:20250330T093000
DTSTAMP:20260424T021653
CREATED:20250104T014903Z
LAST-MODIFIED:20250104T014903Z
UID:15422-1743327000-1743327000@sovereigngraceurc.org
SUMMARY:Sunday Morning Worship Service
DESCRIPTION:
URL:https://sovereigngraceurc.org/event/sunday-morning-worship-service-118
CATEGORIES:AM Service
END:VEVENT
BEGIN:VEVENT
DTSTART;TZID=America/Detroit:20250323T093000
DTEND;TZID=America/Detroit:20250323T093000
DTSTAMP:20260424T021653
CREATED:20250104T014902Z
LAST-MODIFIED:20250104T014902Z
UID:15421-1742722200-1742722200@sovereigngraceurc.org
SUMMARY:Sunday Morning Worship Service
DESCRIPTION:
URL:https://sovereigngraceurc.org/event/sunday-morning-worship-service-117
CATEGORIES:AM Service
END:VEVENT
BEGIN:VEVENT
DTSTART;TZID=America/Detroit:20250316T093000
DTEND;TZID=America/Detroit:20250316T093000
DTSTAMP:20260424T021653
CREATED:20250104T014853Z
LAST-MODIFIED:20250104T014853Z
UID:15420-1742117400-1742117400@sovereigngraceurc.org
SUMMARY:Sunday Morning Worship Service
DESCRIPTION:
URL:https://sovereigngraceurc.org/event/sunday-morning-worship-service-116
CATEGORIES:AM Service
END:VEVENT
BEGIN:VEVENT
DTSTART;TZID=America/Detroit:20250309T093000
DTEND;TZID=America/Detroit:20250309T093000
DTSTAMP:20260424T021653
CREATED:20250104T014853Z
LAST-MODIFIED:20250104T014853Z
UID:15419-1741512600-1741512600@sovereigngraceurc.org
SUMMARY:Sunday Morning Worship Service
DESCRIPTION:
URL:https://sovereigngraceurc.org/event/sunday-morning-worship-service-115
CATEGORIES:AM Service
END:VEVENT
BEGIN:VEVENT
DTSTART;TZID=America/Detroit:20250302T093000
DTEND;TZID=America/Detroit:20250302T093000
DTSTAMP:20260424T021653
CREATED:20250104T014852Z
LAST-MODIFIED:20250104T014852Z
UID:15418-1740907800-1740907800@sovereigngraceurc.org
SUMMARY:Sunday Morning Worship Service
DESCRIPTION:
URL:https://sovereigngraceurc.org/event/sunday-morning-worship-service-114
CATEGORIES:AM Service
END:VEVENT
BEGIN:VEVENT
DTSTART;TZID=America/Detroit:20250223T093000
DTEND;TZID=America/Detroit:20250223T093000
DTSTAMP:20260424T021653
CREATED:20250104T014852Z
LAST-MODIFIED:20250104T014852Z
UID:15417-1740303000-1740303000@sovereigngraceurc.org
SUMMARY:Sunday Morning Worship Service
DESCRIPTION:
URL:https://sovereigngraceurc.org/event/sunday-morning-worship-service-113
CATEGORIES:AM Service
END:VEVENT
BEGIN:VEVENT
DTSTART;TZID=America/Detroit:20250216T093000
DTEND;TZID=America/Detroit:20250216T093000
DTSTAMP:20260424T021653
CREATED:20250104T014852Z
LAST-MODIFIED:20250104T014852Z
UID:15416-1739698200-1739698200@sovereigngraceurc.org
SUMMARY:Sunday Morning Worship Service
DESCRIPTION:
URL:https://sovereigngraceurc.org/event/sunday-morning-worship-service-112
CATEGORIES:AM Service
END:VEVENT
BEGIN:VEVENT
DTSTART;TZID=America/Detroit:20250209T093000
DTEND;TZID=America/Detroit:20250209T093000
DTSTAMP:20260424T021653
CREATED:20250104T014843Z
LAST-MODIFIED:20250104T014843Z
UID:15415-1739093400-1739093400@sovereigngraceurc.org
SUMMARY:Sunday Morning Worship Service
DESCRIPTION:
URL:https://sovereigngraceurc.org/event/sunday-morning-worship-service-111
CATEGORIES:AM Service
END:VEVENT
BEGIN:VEVENT
DTSTART;TZID=America/Detroit:20250202T093000
DTEND;TZID=America/Detroit:20250202T093000
DTSTAMP:20260424T021653
CREATED:20250104T014842Z
LAST-MODIFIED:20250104T014842Z
UID:15414-1738488600-1738488600@sovereigngraceurc.org
SUMMARY:Sunday Morning Worship Service
DESCRIPTION:
URL:https://sovereigngraceurc.org/event/sunday-morning-worship-service-110
CATEGORIES:AM Service
END:VEVENT
BEGIN:VEVENT
DTSTART;TZID=America/Detroit:20250126T093000
DTEND;TZID=America/Detroit:20250126T093000
DTSTAMP:20260424T021653
CREATED:20250104T014842Z
LAST-MODIFIED:20250104T014842Z
UID:15413-1737883800-1737883800@sovereigngraceurc.org
SUMMARY:Sunday Morning Worship Service
DESCRIPTION:
URL:https://sovereigngraceurc.org/event/sunday-morning-worship-service-109
CATEGORIES:AM Service
END:VEVENT
BEGIN:VEVENT
DTSTART;TZID=America/Detroit:20250119T093000
DTEND;TZID=America/Detroit:20250119T093000
DTSTAMP:20260424T021653
CREATED:20250104T014842Z
LAST-MODIFIED:20250104T014842Z
UID:15412-1737279000-1737279000@sovereigngraceurc.org
SUMMARY:Sunday Morning Worship Service
DESCRIPTION:
URL:https://sovereigngraceurc.org/event/sunday-morning-worship-service-108
CATEGORIES:AM Service
END:VEVENT
BEGIN:VEVENT
DTSTART;TZID=America/Detroit:20250112T093000
DTEND;TZID=America/Detroit:20250112T093000
DTSTAMP:20260424T021653
CREATED:20250104T014841Z
LAST-MODIFIED:20250104T014841Z
UID:15411-1736674200-1736674200@sovereigngraceurc.org
SUMMARY:Sunday Morning Worship Service
DESCRIPTION:
URL:https://sovereigngraceurc.org/event/sunday-morning-worship-service-107
CATEGORIES:AM Service
END:VEVENT
BEGIN:VEVENT
DTSTART;TZID=America/Detroit:20250105T093000
DTEND;TZID=America/Detroit:20250105T093000
DTSTAMP:20260424T021653
CREATED:20250104T014833Z
LAST-MODIFIED:20250104T014833Z
UID:15410-1736069400-1736069400@sovereigngraceurc.org
SUMMARY:Sunday Morning Worship Service
DESCRIPTION:
URL:https://sovereigngraceurc.org/event/sunday-morning-worship-service-106
CATEGORIES:AM Service
END:VEVENT
BEGIN:VEVENT
DTSTART;TZID=America/Detroit:20241229T093000
DTEND;TZID=America/Detroit:20241229T093000
DTSTAMP:20260424T021653
CREATED:20240102T032530Z
LAST-MODIFIED:20240102T032530Z
UID:14290-1735464600-1735464600@sovereigngraceurc.org
SUMMARY:Sunday Morning Worship Service
DESCRIPTION:
URL:https://sovereigngraceurc.org/event/sunday-morning-worship-service-105
CATEGORIES:AM Service
END:VEVENT
BEGIN:VEVENT
DTSTART;TZID=America/Detroit:20241222T093000
DTEND;TZID=America/Detroit:20241222T093000
DTSTAMP:20260424T021653
CREATED:20240102T032530Z
LAST-MODIFIED:20240102T032530Z
UID:14289-1734859800-1734859800@sovereigngraceurc.org
SUMMARY:Sunday Morning Worship Service
DESCRIPTION:
URL:https://sovereigngraceurc.org/event/sunday-morning-worship-service-104
CATEGORIES:AM Service
END:VEVENT
BEGIN:VEVENT
DTSTART;TZID=America/Detroit:20241208T093000
DTEND;TZID=America/Detroit:20241208T093000
DTSTAMP:20260424T021653
CREATED:20240102T032344Z
LAST-MODIFIED:20240102T032344Z
UID:14287-1733650200-1733650200@sovereigngraceurc.org
SUMMARY:Sunday Morning Worship Service
DESCRIPTION:
URL:https://sovereigngraceurc.org/event/sunday-morning-worship-service-102
CATEGORIES:AM Service
END:VEVENT
BEGIN:VEVENT
DTSTART;TZID=America/Detroit:20241201T093000
DTEND;TZID=America/Detroit:20241201T093000
DTSTAMP:20260424T021653
CREATED:20240102T032343Z
LAST-MODIFIED:20240102T032343Z
UID:14286-1733045400-1733045400@sovereigngraceurc.org
SUMMARY:Sunday Morning Worship Service
DESCRIPTION:
URL:https://sovereigngraceurc.org/event/sunday-morning-worship-service-101
CATEGORIES:AM Service
END:VEVENT
BEGIN:VEVENT
DTSTART;TZID=America/Detroit:20241124T093000
DTEND;TZID=America/Detroit:20241124T093000
DTSTAMP:20260424T021653
CREATED:20240102T032343Z
LAST-MODIFIED:20240102T032343Z
UID:14285-1732440600-1732440600@sovereigngraceurc.org
SUMMARY:Sunday Morning Worship Service
DESCRIPTION:
URL:https://sovereigngraceurc.org/event/sunday-morning-worship-service-100
CATEGORIES:AM Service
END:VEVENT
BEGIN:VEVENT
DTSTART;TZID=America/Detroit:20241117T093000
DTEND;TZID=America/Detroit:20241117T093000
DTSTAMP:20260424T021653
CREATED:20240102T032342Z
LAST-MODIFIED:20240102T032342Z
UID:14284-1731835800-1731835800@sovereigngraceurc.org
SUMMARY:Sunday Morning Worship Service
DESCRIPTION:
URL:https://sovereigngraceurc.org/event/sunday-morning-worship-service-99
CATEGORIES:AM Service
END:VEVENT
BEGIN:VEVENT
DTSTART;TZID=America/Detroit:20241110T093000
DTEND;TZID=America/Detroit:20241110T093000
DTSTAMP:20260424T021653
CREATED:20240102T032133Z
LAST-MODIFIED:20240102T032133Z
UID:14283-1731231000-1731231000@sovereigngraceurc.org
SUMMARY:Sunday Morning Worship Service
DESCRIPTION:
URL:https://sovereigngraceurc.org/event/sunday-morning-worship-service-98
CATEGORIES:AM Service
END:VEVENT
BEGIN:VEVENT
DTSTART;TZID=America/Detroit:20241103T093000
DTEND;TZID=America/Detroit:20241103T093000
DTSTAMP:20260424T021653
CREATED:20240102T032132Z
LAST-MODIFIED:20240102T032132Z
UID:14282-1730626200-1730626200@sovereigngraceurc.org
SUMMARY:Sunday Morning Worship Service
DESCRIPTION:
URL:https://sovereigngraceurc.org/event/sunday-morning-worship-service-97
CATEGORIES:AM Service
END:VEVENT
BEGIN:VEVENT
DTSTART;TZID=America/Detroit:20241027T093000
DTEND;TZID=America/Detroit:20241027T093000
DTSTAMP:20260424T021653
CREATED:20240102T032132Z
LAST-MODIFIED:20240102T032132Z
UID:14281-1730021400-1730021400@sovereigngraceurc.org
SUMMARY:Sunday Morning Worship Service
DESCRIPTION:
URL:https://sovereigngraceurc.org/event/sunday-morning-worship-service-96
CATEGORIES:AM Service
END:VEVENT
BEGIN:VEVENT
DTSTART;TZID=America/Detroit:20241020T093000
DTEND;TZID=America/Detroit:20241020T093000
DTSTAMP:20260424T021653
CREATED:20240102T032132Z
LAST-MODIFIED:20240102T032132Z
UID:14280-1729416600-1729416600@sovereigngraceurc.org
SUMMARY:Sunday Morning Worship Service
DESCRIPTION:
URL:https://sovereigngraceurc.org/event/sunday-morning-worship-service-95
CATEGORIES:AM Service
END:VEVENT
BEGIN:VEVENT
DTSTART;TZID=America/Detroit:20241013T093000
DTEND;TZID=America/Detroit:20241013T093000
DTSTAMP:20260424T021653
CREATED:20240102T032132Z
LAST-MODIFIED:20240102T032132Z
UID:14279-1728811800-1728811800@sovereigngraceurc.org
SUMMARY:Sunday Morning Worship Service
DESCRIPTION:
URL:https://sovereigngraceurc.org/event/sunday-morning-worship-service-94
CATEGORIES:AM Service
END:VEVENT
BEGIN:VEVENT
DTSTART;TZID=America/Detroit:20241006T093000
DTEND;TZID=America/Detroit:20241006T093000
DTSTAMP:20260424T021653
CREATED:20240102T031931Z
LAST-MODIFIED:20240102T031931Z
UID:14278-1728207000-1728207000@sovereigngraceurc.org
SUMMARY:Sunday Morning Worship Service
DESCRIPTION:
URL:https://sovereigngraceurc.org/event/sunday-morning-worship-service-93
CATEGORIES:AM Service
END:VEVENT
END:VCALENDAR