BEGIN:VCALENDAR
VERSION:2.0
PRODID:-//Sovereign Grace URC - ECPv6.15.20//NONSGML v1.0//EN
CALSCALE:GREGORIAN
METHOD:PUBLISH
X-ORIGINAL-URL:https://sovereigngraceurc.org
X-WR-CALDESC:Events for Sovereign Grace URC
REFRESH-INTERVAL;VALUE=DURATION:PT1H
X-Robots-Tag:noindex
X-PUBLISHED-TTL:PT1H
BEGIN:VTIMEZONE
TZID:America/Detroit
BEGIN:DAYLIGHT
TZOFFSETFROM:-0500
TZOFFSETTO:-0400
TZNAME:EDT
DTSTART:20240310T070000
END:DAYLIGHT
BEGIN:STANDARD
TZOFFSETFROM:-0400
TZOFFSETTO:-0500
TZNAME:EST
DTSTART:20241103T060000
END:STANDARD
BEGIN:DAYLIGHT
TZOFFSETFROM:-0500
TZOFFSETTO:-0400
TZNAME:EDT
DTSTART:20250309T070000
END:DAYLIGHT
BEGIN:STANDARD
TZOFFSETFROM:-0400
TZOFFSETTO:-0500
TZNAME:EST
DTSTART:20251102T060000
END:STANDARD
BEGIN:DAYLIGHT
TZOFFSETFROM:-0500
TZOFFSETTO:-0400
TZNAME:EDT
DTSTART:20260308T070000
END:DAYLIGHT
BEGIN:STANDARD
TZOFFSETFROM:-0400
TZOFFSETTO:-0500
TZNAME:EST
DTSTART:20261101T060000
END:STANDARD
END:VTIMEZONE
BEGIN:VEVENT
DTSTART;TZID=America/Detroit:20250921T093000
DTEND;TZID=America/Detroit:20250921T093000
DTSTAMP:20260423T225638
CREATED:20250104T020006Z
LAST-MODIFIED:20250104T020006Z
UID:15467-1758447000-1758447000@sovereigngraceurc.org
SUMMARY:Sunday Morning Worship Service
DESCRIPTION:
URL:https://sovereigngraceurc.org/event/sunday-morning-worship-service-143
CATEGORIES:AM Service
END:VEVENT
BEGIN:VEVENT
DTSTART;TZID=America/Detroit:20250914T093000
DTEND;TZID=America/Detroit:20250914T093000
DTSTAMP:20260423T225638
CREATED:20250104T020005Z
LAST-MODIFIED:20250104T020005Z
UID:15466-1757842200-1757842200@sovereigngraceurc.org
SUMMARY:Sunday Morning Worship Service
DESCRIPTION:
URL:https://sovereigngraceurc.org/event/sunday-morning-worship-service-142
CATEGORIES:AM Service
END:VEVENT
BEGIN:VEVENT
DTSTART;TZID=America/Detroit:20250907T093000
DTEND;TZID=America/Detroit:20250907T093000
DTSTAMP:20260423T225638
CREATED:20250104T015048Z
LAST-MODIFIED:20250104T015048Z
UID:15445-1757237400-1757237400@sovereigngraceurc.org
SUMMARY:Sunday Morning Worship Service
DESCRIPTION:
URL:https://sovereigngraceurc.org/event/sunday-morning-worship-service-141
CATEGORIES:AM Service
END:VEVENT
BEGIN:VEVENT
DTSTART;TZID=America/Detroit:20250831T093000
DTEND;TZID=America/Detroit:20250831T093000
DTSTAMP:20260423T225638
CREATED:20250104T015048Z
LAST-MODIFIED:20250104T015048Z
UID:15444-1756632600-1756632600@sovereigngraceurc.org
SUMMARY:Sunday Morning Worship Service
DESCRIPTION:
URL:https://sovereigngraceurc.org/event/sunday-morning-worship-service-140
CATEGORIES:AM Service
END:VEVENT
BEGIN:VEVENT
DTSTART;TZID=America/Detroit:20250824T093000
DTEND;TZID=America/Detroit:20250824T093000
DTSTAMP:20260423T225638
CREATED:20250104T015047Z
LAST-MODIFIED:20250104T015047Z
UID:15443-1756027800-1756027800@sovereigngraceurc.org
SUMMARY:Sunday Morning Worship Service
DESCRIPTION:
URL:https://sovereigngraceurc.org/event/sunday-morning-worship-service-139
CATEGORIES:AM Service
END:VEVENT
BEGIN:VEVENT
DTSTART;TZID=America/Detroit:20250817T093000
DTEND;TZID=America/Detroit:20250817T093000
DTSTAMP:20260423T225638
CREATED:20250104T015047Z
LAST-MODIFIED:20250104T015047Z
UID:15442-1755423000-1755423000@sovereigngraceurc.org
SUMMARY:Sunday Morning Worship Service
DESCRIPTION:
URL:https://sovereigngraceurc.org/event/sunday-morning-worship-service-138
CATEGORIES:AM Service
END:VEVENT
BEGIN:VEVENT
DTSTART;TZID=America/Detroit:20250810T093000
DTEND;TZID=America/Detroit:20250810T093000
DTSTAMP:20260423T225638
CREATED:20250104T015046Z
LAST-MODIFIED:20250104T015046Z
UID:15441-1754818200-1754818200@sovereigngraceurc.org
SUMMARY:Sunday Morning Worship Service
DESCRIPTION:
URL:https://sovereigngraceurc.org/event/sunday-morning-worship-service-137
CATEGORIES:AM Service
END:VEVENT
BEGIN:VEVENT
DTSTART;TZID=America/Detroit:20250803T093000
DTEND;TZID=America/Detroit:20250803T093000
DTSTAMP:20260423T225638
CREATED:20250104T014933Z
LAST-MODIFIED:20250104T014933Z
UID:15440-1754213400-1754213400@sovereigngraceurc.org
SUMMARY:Sunday Morning Worship Service
DESCRIPTION:
URL:https://sovereigngraceurc.org/event/sunday-morning-worship-service-136
CATEGORIES:AM Service
END:VEVENT
BEGIN:VEVENT
DTSTART;TZID=America/Detroit:20250727T093000
DTEND;TZID=America/Detroit:20250727T093000
DTSTAMP:20260423T225638
CREATED:20250104T014933Z
LAST-MODIFIED:20250104T014933Z
UID:15439-1753608600-1753608600@sovereigngraceurc.org
SUMMARY:Sunday Morning Worship Service
DESCRIPTION:
URL:https://sovereigngraceurc.org/event/sunday-morning-worship-service-135
CATEGORIES:AM Service
END:VEVENT
BEGIN:VEVENT
DTSTART;TZID=America/Detroit:20250720T093000
DTEND;TZID=America/Detroit:20250720T093000
DTSTAMP:20260423T225638
CREATED:20250104T014932Z
LAST-MODIFIED:20250104T014932Z
UID:15438-1753003800-1753003800@sovereigngraceurc.org
SUMMARY:Sunday Morning Worship Service
DESCRIPTION:
URL:https://sovereigngraceurc.org/event/sunday-morning-worship-service-134
CATEGORIES:AM Service
END:VEVENT
BEGIN:VEVENT
DTSTART;TZID=America/Detroit:20250713T093000
DTEND;TZID=America/Detroit:20250713T093000
DTSTAMP:20260423T225638
CREATED:20250104T014932Z
LAST-MODIFIED:20250104T014932Z
UID:15437-1752399000-1752399000@sovereigngraceurc.org
SUMMARY:Sunday Morning Worship Service
DESCRIPTION:
URL:https://sovereigngraceurc.org/event/sunday-morning-worship-service-133
CATEGORIES:AM Service
END:VEVENT
BEGIN:VEVENT
DTSTART;TZID=America/Detroit:20250706T093000
DTEND;TZID=America/Detroit:20250706T093000
DTSTAMP:20260423T225638
CREATED:20250104T014932Z
LAST-MODIFIED:20250104T014932Z
UID:15436-1751794200-1751794200@sovereigngraceurc.org
SUMMARY:Sunday Morning Worship Service
DESCRIPTION:
URL:https://sovereigngraceurc.org/event/sunday-morning-worship-service-132
CATEGORIES:AM Service
END:VEVENT
BEGIN:VEVENT
DTSTART;TZID=America/Detroit:20250629T093000
DTEND;TZID=America/Detroit:20250629T093000
DTSTAMP:20260423T225638
CREATED:20250104T014923Z
LAST-MODIFIED:20250104T014923Z
UID:15435-1751189400-1751189400@sovereigngraceurc.org
SUMMARY:Sunday Morning Worship Service
DESCRIPTION:
URL:https://sovereigngraceurc.org/event/sunday-morning-worship-service-131
CATEGORIES:AM Service
END:VEVENT
BEGIN:VEVENT
DTSTART;TZID=America/Detroit:20250622T093000
DTEND;TZID=America/Detroit:20250622T093000
DTSTAMP:20260423T225638
CREATED:20250104T014922Z
LAST-MODIFIED:20250104T014922Z
UID:15434-1750584600-1750584600@sovereigngraceurc.org
SUMMARY:Sunday Morning Worship Service
DESCRIPTION:
URL:https://sovereigngraceurc.org/event/sunday-morning-worship-service-130
CATEGORIES:AM Service
END:VEVENT
BEGIN:VEVENT
DTSTART;TZID=America/Detroit:20250615T093000
DTEND;TZID=America/Detroit:20250615T093000
DTSTAMP:20260423T225638
CREATED:20250104T014922Z
LAST-MODIFIED:20250104T014922Z
UID:15433-1749979800-1749979800@sovereigngraceurc.org
SUMMARY:Sunday Morning Worship Service
DESCRIPTION:
URL:https://sovereigngraceurc.org/event/sunday-morning-worship-service-129
CATEGORIES:AM Service
END:VEVENT
BEGIN:VEVENT
DTSTART;TZID=America/Detroit:20250608T093000
DTEND;TZID=America/Detroit:20250608T093000
DTSTAMP:20260423T225638
CREATED:20250104T014922Z
LAST-MODIFIED:20250104T014922Z
UID:15432-1749375000-1749375000@sovereigngraceurc.org
SUMMARY:Sunday Morning Worship Service
DESCRIPTION:
URL:https://sovereigngraceurc.org/event/sunday-morning-worship-service-128
CATEGORIES:AM Service
END:VEVENT
BEGIN:VEVENT
DTSTART;TZID=America/Detroit:20250601T093000
DTEND;TZID=America/Detroit:20250601T093000
DTSTAMP:20260423T225638
CREATED:20250104T014921Z
LAST-MODIFIED:20250104T014921Z
UID:15431-1748770200-1748770200@sovereigngraceurc.org
SUMMARY:Sunday Morning Worship Service
DESCRIPTION:
URL:https://sovereigngraceurc.org/event/sunday-morning-worship-service-127
CATEGORIES:AM Service
END:VEVENT
BEGIN:VEVENT
DTSTART;TZID=America/Detroit:20250525T093000
DTEND;TZID=America/Detroit:20250525T093000
DTSTAMP:20260423T225638
CREATED:20250104T014913Z
LAST-MODIFIED:20250104T014913Z
UID:15430-1748165400-1748165400@sovereigngraceurc.org
SUMMARY:Sunday Morning Worship Service
DESCRIPTION:
URL:https://sovereigngraceurc.org/event/sunday-morning-worship-service-126
CATEGORIES:AM Service
END:VEVENT
BEGIN:VEVENT
DTSTART;TZID=America/Detroit:20250518T093000
DTEND;TZID=America/Detroit:20250518T093000
DTSTAMP:20260423T225638
CREATED:20250104T014913Z
LAST-MODIFIED:20250104T014913Z
UID:15429-1747560600-1747560600@sovereigngraceurc.org
SUMMARY:Sunday Morning Worship Service
DESCRIPTION:
URL:https://sovereigngraceurc.org/event/sunday-morning-worship-service-125
CATEGORIES:AM Service
END:VEVENT
BEGIN:VEVENT
DTSTART;TZID=America/Detroit:20250511T093000
DTEND;TZID=America/Detroit:20250511T093000
DTSTAMP:20260423T225638
CREATED:20250104T014913Z
LAST-MODIFIED:20250104T014913Z
UID:15428-1746955800-1746955800@sovereigngraceurc.org
SUMMARY:Sunday Morning Worship Service
DESCRIPTION:
URL:https://sovereigngraceurc.org/event/sunday-morning-worship-service-124
CATEGORIES:AM Service
END:VEVENT
BEGIN:VEVENT
DTSTART;TZID=America/Detroit:20250504T093000
DTEND;TZID=America/Detroit:20250504T093000
DTSTAMP:20260423T225638
CREATED:20250104T014912Z
LAST-MODIFIED:20250104T014912Z
UID:15427-1746351000-1746351000@sovereigngraceurc.org
SUMMARY:Sunday Morning Worship Service
DESCRIPTION:
URL:https://sovereigngraceurc.org/event/sunday-morning-worship-service-123
CATEGORIES:AM Service
END:VEVENT
BEGIN:VEVENT
DTSTART;TZID=America/Detroit:20250427T093000
DTEND;TZID=America/Detroit:20250427T093000
DTSTAMP:20260423T225638
CREATED:20250104T014912Z
LAST-MODIFIED:20250104T014912Z
UID:15426-1745746200-1745746200@sovereigngraceurc.org
SUMMARY:Sunday Morning Worship Service
DESCRIPTION:
URL:https://sovereigngraceurc.org/event/sunday-morning-worship-service-122
CATEGORIES:AM Service
END:VEVENT
BEGIN:VEVENT
DTSTART;TZID=America/Detroit:20250420T093000
DTEND;TZID=America/Detroit:20250420T093000
DTSTAMP:20260423T225638
CREATED:20250104T014905Z
LAST-MODIFIED:20250104T014905Z
UID:15425-1745141400-1745141400@sovereigngraceurc.org
SUMMARY:Sunday Morning Worship Service
DESCRIPTION:
URL:https://sovereigngraceurc.org/event/sunday-morning-worship-service-121
CATEGORIES:AM Service
END:VEVENT
BEGIN:VEVENT
DTSTART;TZID=America/Detroit:20250413T093000
DTEND;TZID=America/Detroit:20250413T093000
DTSTAMP:20260423T225638
CREATED:20250104T014904Z
LAST-MODIFIED:20250104T014904Z
UID:15424-1744536600-1744536600@sovereigngraceurc.org
SUMMARY:Sunday Morning Worship Service
DESCRIPTION:
URL:https://sovereigngraceurc.org/event/sunday-morning-worship-service-120
CATEGORIES:AM Service
END:VEVENT
BEGIN:VEVENT
DTSTART;TZID=America/Detroit:20250406T093000
DTEND;TZID=America/Detroit:20250406T093000
DTSTAMP:20260423T225638
CREATED:20250104T014904Z
LAST-MODIFIED:20250104T014904Z
UID:15423-1743931800-1743931800@sovereigngraceurc.org
SUMMARY:Sunday Morning Worship Service
DESCRIPTION:
URL:https://sovereigngraceurc.org/event/sunday-morning-worship-service-119
CATEGORIES:AM Service
END:VEVENT
BEGIN:VEVENT
DTSTART;TZID=America/Detroit:20250330T093000
DTEND;TZID=America/Detroit:20250330T093000
DTSTAMP:20260423T225638
CREATED:20250104T014903Z
LAST-MODIFIED:20250104T014903Z
UID:15422-1743327000-1743327000@sovereigngraceurc.org
SUMMARY:Sunday Morning Worship Service
DESCRIPTION:
URL:https://sovereigngraceurc.org/event/sunday-morning-worship-service-118
CATEGORIES:AM Service
END:VEVENT
BEGIN:VEVENT
DTSTART;TZID=America/Detroit:20250323T093000
DTEND;TZID=America/Detroit:20250323T093000
DTSTAMP:20260423T225638
CREATED:20250104T014902Z
LAST-MODIFIED:20250104T014902Z
UID:15421-1742722200-1742722200@sovereigngraceurc.org
SUMMARY:Sunday Morning Worship Service
DESCRIPTION:
URL:https://sovereigngraceurc.org/event/sunday-morning-worship-service-117
CATEGORIES:AM Service
END:VEVENT
BEGIN:VEVENT
DTSTART;TZID=America/Detroit:20250316T093000
DTEND;TZID=America/Detroit:20250316T093000
DTSTAMP:20260423T225638
CREATED:20250104T014853Z
LAST-MODIFIED:20250104T014853Z
UID:15420-1742117400-1742117400@sovereigngraceurc.org
SUMMARY:Sunday Morning Worship Service
DESCRIPTION:
URL:https://sovereigngraceurc.org/event/sunday-morning-worship-service-116
CATEGORIES:AM Service
END:VEVENT
BEGIN:VEVENT
DTSTART;TZID=America/Detroit:20250309T093000
DTEND;TZID=America/Detroit:20250309T093000
DTSTAMP:20260423T225638
CREATED:20250104T014853Z
LAST-MODIFIED:20250104T014853Z
UID:15419-1741512600-1741512600@sovereigngraceurc.org
SUMMARY:Sunday Morning Worship Service
DESCRIPTION:
URL:https://sovereigngraceurc.org/event/sunday-morning-worship-service-115
CATEGORIES:AM Service
END:VEVENT
BEGIN:VEVENT
DTSTART;TZID=America/Detroit:20250302T093000
DTEND;TZID=America/Detroit:20250302T093000
DTSTAMP:20260423T225638
CREATED:20250104T014852Z
LAST-MODIFIED:20250104T014852Z
UID:15418-1740907800-1740907800@sovereigngraceurc.org
SUMMARY:Sunday Morning Worship Service
DESCRIPTION:
URL:https://sovereigngraceurc.org/event/sunday-morning-worship-service-114
CATEGORIES:AM Service
END:VEVENT
END:VCALENDAR