BEGIN:VCALENDAR
VERSION:2.0
PRODID:-//Sovereign Grace URC - ECPv6.15.20//NONSGML v1.0//EN
CALSCALE:GREGORIAN
METHOD:PUBLISH
X-ORIGINAL-URL:https://sovereigngraceurc.org
X-WR-CALDESC:Events for Sovereign Grace URC
REFRESH-INTERVAL;VALUE=DURATION:PT1H
X-Robots-Tag:noindex
X-PUBLISHED-TTL:PT1H
BEGIN:VTIMEZONE
TZID:America/Detroit
BEGIN:DAYLIGHT
TZOFFSETFROM:-0500
TZOFFSETTO:-0400
TZNAME:EDT
DTSTART:20170312T070000
END:DAYLIGHT
BEGIN:STANDARD
TZOFFSETFROM:-0400
TZOFFSETTO:-0500
TZNAME:EST
DTSTART:20171105T060000
END:STANDARD
BEGIN:DAYLIGHT
TZOFFSETFROM:-0500
TZOFFSETTO:-0400
TZNAME:EDT
DTSTART:20180311T070000
END:DAYLIGHT
BEGIN:STANDARD
TZOFFSETFROM:-0400
TZOFFSETTO:-0500
TZNAME:EST
DTSTART:20181104T060000
END:STANDARD
BEGIN:DAYLIGHT
TZOFFSETFROM:-0500
TZOFFSETTO:-0400
TZNAME:EDT
DTSTART:20190310T070000
END:DAYLIGHT
BEGIN:STANDARD
TZOFFSETFROM:-0400
TZOFFSETTO:-0500
TZNAME:EST
DTSTART:20191103T060000
END:STANDARD
BEGIN:DAYLIGHT
TZOFFSETFROM:-0500
TZOFFSETTO:-0400
TZNAME:EDT
DTSTART:20200308T070000
END:DAYLIGHT
BEGIN:STANDARD
TZOFFSETFROM:-0400
TZOFFSETTO:-0500
TZNAME:EST
DTSTART:20201101T060000
END:STANDARD
END:VTIMEZONE
BEGIN:VEVENT
DTSTART;TZID=America/Detroit:20190203T093000
DTEND;TZID=America/Detroit:20190203T093000
DTSTAMP:20260425T230919
CREATED:20171001T181150Z
LAST-MODIFIED:20171001T181150Z
UID:5595-1549186200-1549186200@sovereigngraceurc.org
SUMMARY:Sunday Morning Worship Service
DESCRIPTION:
URL:https://sovereigngraceurc.org/event/sunday-morning-worship-service-759
LOCATION:Sovereign Grace URC\, 62 Lamoreaux Drive NE\, Comstock Park\, MI\, 49321\, United States
CATEGORIES:AM Service
END:VEVENT
BEGIN:VEVENT
DTSTART;TZID=America/Detroit:20190127T093000
DTEND;TZID=America/Detroit:20190127T093000
DTSTAMP:20260425T230919
CREATED:20171001T181145Z
LAST-MODIFIED:20171001T181145Z
UID:5592-1548581400-1548581400@sovereigngraceurc.org
SUMMARY:Sunday Morning Worship Service
DESCRIPTION:
URL:https://sovereigngraceurc.org/event/sunday-morning-worship-service-758
LOCATION:Sovereign Grace URC\, 62 Lamoreaux Drive NE\, Comstock Park\, MI\, 49321\, United States
CATEGORIES:AM Service
END:VEVENT
BEGIN:VEVENT
DTSTART;TZID=America/Detroit:20190113T093000
DTEND;TZID=America/Detroit:20190113T093000
DTSTAMP:20260425T230919
CREATED:20171001T181130Z
LAST-MODIFIED:20171001T181133Z
UID:5581-1547371800-1547371800@sovereigngraceurc.org
SUMMARY:Sunday Morning Worship Service
DESCRIPTION:
URL:https://sovereigngraceurc.org/event/sunday-morning-worship-service-756
LOCATION:Sovereign Grace URC\, 62 Lamoreaux Drive NE\, Comstock Park\, MI\, 49321\, United States
CATEGORIES:AM Service
END:VEVENT
BEGIN:VEVENT
DTSTART;TZID=America/Detroit:20190106T093000
DTEND;TZID=America/Detroit:20190106T093000
DTSTAMP:20260425T230919
CREATED:20171001T181127Z
LAST-MODIFIED:20171001T181132Z
UID:5578-1546767000-1546767000@sovereigngraceurc.org
SUMMARY:Sunday Morning Worship Service
DESCRIPTION:
URL:https://sovereigngraceurc.org/event/sunday-morning-worship-service-755
LOCATION:Sovereign Grace URC\, 62 Lamoreaux Drive NE\, Comstock Park\, MI\, 49321\, United States
CATEGORIES:AM Service
END:VEVENT
BEGIN:VEVENT
DTSTART;TZID=America/Detroit:20181230T093000
DTEND;TZID=America/Detroit:20181230T093000
DTSTAMP:20260425T230919
CREATED:20171001T181120Z
LAST-MODIFIED:20171001T181124Z
UID:5570-1546162200-1546162200@sovereigngraceurc.org
SUMMARY:Sunday Morning Worship Service
DESCRIPTION:
URL:https://sovereigngraceurc.org/event/sunday-morning-worship-service-754
LOCATION:Sovereign Grace URC\, 62 Lamoreaux Drive NE\, Comstock Park\, MI\, 49321\, United States
CATEGORIES:AM Service
END:VEVENT
BEGIN:VEVENT
DTSTART;TZID=America/Detroit:20181223T093000
DTEND;TZID=America/Detroit:20181223T093000
DTSTAMP:20260425T230919
CREATED:20171001T181116Z
LAST-MODIFIED:20171001T181123Z
UID:5567-1545557400-1545557400@sovereigngraceurc.org
SUMMARY:Sunday Morning Worship Service
DESCRIPTION:
URL:https://sovereigngraceurc.org/event/sunday-morning-worship-service-753
LOCATION:Sovereign Grace URC\, 62 Lamoreaux Drive NE\, Comstock Park\, MI\, 49321\, United States
CATEGORIES:AM Service
END:VEVENT
BEGIN:VEVENT
DTSTART;TZID=America/Detroit:20181125T093000
DTEND;TZID=America/Detroit:20181125T093000
DTSTAMP:20260425T230919
CREATED:20171001T181053Z
LAST-MODIFIED:20171001T181056Z
UID:5549-1543138200-1543138200@sovereigngraceurc.org
SUMMARY:Sunday Morning Worship Service
DESCRIPTION:
URL:https://sovereigngraceurc.org/event/sunday-morning-worship-service-749
LOCATION:Sovereign Grace URC\, 62 Lamoreaux Drive NE\, Comstock Park\, MI\, 49321\, United States
CATEGORIES:AM Service
END:VEVENT
BEGIN:VEVENT
DTSTART;TZID=America/Detroit:20181118T093000
DTEND;TZID=America/Detroit:20181118T093000
DTSTAMP:20260425T230919
CREATED:20171001T181048Z
LAST-MODIFIED:20171001T181056Z
UID:5546-1542533400-1542533400@sovereigngraceurc.org
SUMMARY:Sunday Morning Worship Service
DESCRIPTION:
URL:https://sovereigngraceurc.org/event/sunday-morning-worship-service-748
LOCATION:Sovereign Grace URC\, 62 Lamoreaux Drive NE\, Comstock Park\, MI\, 49321\, United States
CATEGORIES:AM Service
END:VEVENT
BEGIN:VEVENT
DTSTART;TZID=America/Detroit:20181111T093000
DTEND;TZID=America/Detroit:20181111T093000
DTSTAMP:20260425T230919
CREATED:20171001T181042Z
LAST-MODIFIED:20171001T181042Z
UID:5543-1541928600-1541928600@sovereigngraceurc.org
SUMMARY:Sunday Morning Worship Service
DESCRIPTION:
URL:https://sovereigngraceurc.org/event/sunday-morning-worship-service-747
LOCATION:Sovereign Grace URC\, 62 Lamoreaux Drive NE\, Comstock Park\, MI\, 49321\, United States
CATEGORIES:AM Service
END:VEVENT
BEGIN:VEVENT
DTSTART;TZID=America/Detroit:20181021T093000
DTEND;TZID=America/Detroit:20181021T093000
DTSTAMP:20260425T230919
CREATED:20171001T181026Z
LAST-MODIFIED:20171001T181029Z
UID:5529-1540114200-1540114200@sovereigngraceurc.org
SUMMARY:Sunday Morning Worship Service
DESCRIPTION:
URL:https://sovereigngraceurc.org/event/sunday-morning-worship-service-744
LOCATION:Sovereign Grace URC\, 62 Lamoreaux Drive NE\, Comstock Park\, MI\, 49321\, United States
CATEGORIES:AM Service
END:VEVENT
BEGIN:VEVENT
DTSTART;TZID=America/Detroit:20181014T093000
DTEND;TZID=America/Detroit:20181014T093000
DTSTAMP:20260425T230919
CREATED:20171001T181021Z
LAST-MODIFIED:20171001T181029Z
UID:5526-1539509400-1539509400@sovereigngraceurc.org
SUMMARY:Sunday Morning Worship Service
DESCRIPTION:
URL:https://sovereigngraceurc.org/event/sunday-morning-worship-service-743
LOCATION:Sovereign Grace URC\, 62 Lamoreaux Drive NE\, Comstock Park\, MI\, 49321\, United States
CATEGORIES:AM Service
END:VEVENT
BEGIN:VEVENT
DTSTART;TZID=America/Detroit:20181007T093000
DTEND;TZID=America/Detroit:20181007T093000
DTSTAMP:20260425T230919
CREATED:20171001T181012Z
LAST-MODIFIED:20171001T181020Z
UID:5518-1538904600-1538904600@sovereigngraceurc.org
SUMMARY:Sunday Morning Worship Service
DESCRIPTION:
URL:https://sovereigngraceurc.org/event/sunday-morning-worship-service-742
LOCATION:Sovereign Grace URC\, 62 Lamoreaux Drive NE\, Comstock Park\, MI\, 49321\, United States
CATEGORIES:AM Service
END:VEVENT
BEGIN:VEVENT
DTSTART;TZID=America/Detroit:20180916T093000
DTEND;TZID=America/Detroit:20180916T093000
DTSTAMP:20260425T230919
CREATED:20171001T180948Z
LAST-MODIFIED:20171001T180952Z
UID:5503-1537090200-1537090200@sovereigngraceurc.org
SUMMARY:Sunday Morning Worship Service
DESCRIPTION:
URL:https://sovereigngraceurc.org/event/sunday-morning-worship-service-739
LOCATION:Sovereign Grace URC\, 62 Lamoreaux Drive NE\, Comstock Park\, MI\, 49321\, United States
CATEGORIES:AM Service
END:VEVENT
BEGIN:VEVENT
DTSTART;TZID=America/Detroit:20180909T093000
DTEND;TZID=America/Detroit:20180909T093000
DTSTAMP:20260425T230919
CREATED:20171001T180945Z
LAST-MODIFIED:20171001T180952Z
UID:5500-1536485400-1536485400@sovereigngraceurc.org
SUMMARY:Sunday Morning Worship Service
DESCRIPTION:
URL:https://sovereigngraceurc.org/event/sunday-morning-worship-service-738
LOCATION:Sovereign Grace URC\, 62 Lamoreaux Drive NE\, Comstock Park\, MI\, 49321\, United States
CATEGORIES:AM Service
END:VEVENT
BEGIN:VEVENT
DTSTART;TZID=America/Detroit:20180902T093000
DTEND;TZID=America/Detroit:20180902T093000
DTSTAMP:20260425T230919
CREATED:20171001T180937Z
LAST-MODIFIED:20171001T180937Z
UID:5497-1535880600-1535880600@sovereigngraceurc.org
SUMMARY:Sunday Morning Worship Service
DESCRIPTION:
URL:https://sovereigngraceurc.org/event/sunday-morning-worship-service-737
LOCATION:Sovereign Grace URC\, 62 Lamoreaux Drive NE\, Comstock Park\, MI\, 49321\, United States
CATEGORIES:AM Service
END:VEVENT
BEGIN:VEVENT
DTSTART;TZID=America/Detroit:20180826T093000
DTEND;TZID=America/Detroit:20180826T093000
DTSTAMP:20260425T230919
CREATED:20171001T180931Z
LAST-MODIFIED:20171001T180931Z
UID:5494-1535275800-1535275800@sovereigngraceurc.org
SUMMARY:Sunday Morning Worship Service
DESCRIPTION:
URL:https://sovereigngraceurc.org/event/sunday-morning-worship-service-736
LOCATION:Sovereign Grace URC\, 62 Lamoreaux Drive NE\, Comstock Park\, MI\, 49321\, United States
CATEGORIES:AM Service
END:VEVENT
BEGIN:VEVENT
DTSTART;TZID=America/Detroit:20180819T093000
DTEND;TZID=America/Detroit:20180819T093000
DTSTAMP:20260425T230919
CREATED:20171001T180927Z
LAST-MODIFIED:20171001T180927Z
UID:5491-1534671000-1534671000@sovereigngraceurc.org
SUMMARY:Sunday Morning Worship Service
DESCRIPTION:
URL:https://sovereigngraceurc.org/event/sunday-morning-worship-service-735
LOCATION:Sovereign Grace URC\, 62 Lamoreaux Drive NE\, Comstock Park\, MI\, 49321\, United States
CATEGORIES:AM Service
END:VEVENT
BEGIN:VEVENT
DTSTART;TZID=America/Detroit:20180812T093000
DTEND;TZID=America/Detroit:20180812T093000
DTSTAMP:20260425T230919
CREATED:20171001T180922Z
LAST-MODIFIED:20171001T180922Z
UID:5488-1534066200-1534066200@sovereigngraceurc.org
SUMMARY:Sunday Morning Worship Service
DESCRIPTION:
URL:https://sovereigngraceurc.org/event/sunday-morning-worship-service-734
LOCATION:Sovereign Grace URC\, 62 Lamoreaux Drive NE\, Comstock Park\, MI\, 49321\, United States
CATEGORIES:AM Service
END:VEVENT
BEGIN:VEVENT
DTSTART;TZID=America/Detroit:20180805T093000
DTEND;TZID=America/Detroit:20180805T093000
DTSTAMP:20260425T230919
CREATED:20171001T180918Z
LAST-MODIFIED:20171001T180918Z
UID:5485-1533461400-1533461400@sovereigngraceurc.org
SUMMARY:Sunday Morning Worship Service
DESCRIPTION:
URL:https://sovereigngraceurc.org/event/sunday-morning-worship-service-733
LOCATION:Sovereign Grace URC\, 62 Lamoreaux Drive NE\, Comstock Park\, MI\, 49321\, United States
CATEGORIES:AM Service
END:VEVENT
BEGIN:VEVENT
DTSTART;TZID=America/Detroit:20180729T093000
DTEND;TZID=America/Detroit:20180729T093000
DTSTAMP:20260425T230919
CREATED:20171001T180911Z
LAST-MODIFIED:20171001T180911Z
UID:5482-1532856600-1532856600@sovereigngraceurc.org
SUMMARY:Sunday Morning Worship Service
DESCRIPTION:
URL:https://sovereigngraceurc.org/event/sunday-morning-worship-service-732
LOCATION:Sovereign Grace URC\, 62 Lamoreaux Drive NE\, Comstock Park\, MI\, 49321\, United States
CATEGORIES:AM Service
END:VEVENT
BEGIN:VEVENT
DTSTART;TZID=America/Detroit:20180722T093000
DTEND;TZID=America/Detroit:20180722T093000
DTSTAMP:20260425T230919
CREATED:20171001T180906Z
LAST-MODIFIED:20171001T180906Z
UID:5479-1532251800-1532251800@sovereigngraceurc.org
SUMMARY:Sunday Morning Worship Service
DESCRIPTION:
URL:https://sovereigngraceurc.org/event/sunday-morning-worship-service-731
LOCATION:Sovereign Grace URC\, 62 Lamoreaux Drive NE\, Comstock Park\, MI\, 49321\, United States
CATEGORIES:AM Service
END:VEVENT
BEGIN:VEVENT
DTSTART;TZID=America/Detroit:20180715T093000
DTEND;TZID=America/Detroit:20180715T093000
DTSTAMP:20260425T230919
CREATED:20171001T180902Z
LAST-MODIFIED:20171001T180902Z
UID:5475-1531647000-1531647000@sovereigngraceurc.org
SUMMARY:Sunday Morning Worship Service
DESCRIPTION:
URL:https://sovereigngraceurc.org/event/sunday-morning-worship-service-730
LOCATION:Sovereign Grace URC\, 62 Lamoreaux Drive NE\, Comstock Park\, MI\, 49321\, United States
CATEGORIES:AM Service
END:VEVENT
BEGIN:VEVENT
DTSTART;TZID=America/Detroit:20180708T093000
DTEND;TZID=America/Detroit:20180708T093000
DTSTAMP:20260425T230919
CREATED:20171001T180857Z
LAST-MODIFIED:20171001T180857Z
UID:5472-1531042200-1531042200@sovereigngraceurc.org
SUMMARY:Sunday Morning Worship Service
DESCRIPTION:
URL:https://sovereigngraceurc.org/event/sunday-morning-worship-service-729
LOCATION:Sovereign Grace URC\, 62 Lamoreaux Drive NE\, Comstock Park\, MI\, 49321\, United States
CATEGORIES:AM Service
END:VEVENT
BEGIN:VEVENT
DTSTART;TZID=America/Detroit:20180701T093000
DTEND;TZID=America/Detroit:20180701T093000
DTSTAMP:20260425T230919
CREATED:20171001T180854Z
LAST-MODIFIED:20171001T180854Z
UID:5469-1530437400-1530437400@sovereigngraceurc.org
SUMMARY:Sunday Morning Worship Service
DESCRIPTION:
URL:https://sovereigngraceurc.org/event/sunday-morning-worship-service-728
LOCATION:Sovereign Grace URC\, 62 Lamoreaux Drive NE\, Comstock Park\, MI\, 49321\, United States
CATEGORIES:AM Service
END:VEVENT
BEGIN:VEVENT
DTSTART;TZID=America/Detroit:20180624T093000
DTEND;TZID=America/Detroit:20180624T093000
DTSTAMP:20260425T230919
CREATED:20171001T180848Z
LAST-MODIFIED:20171001T180848Z
UID:5466-1529832600-1529832600@sovereigngraceurc.org
SUMMARY:Sunday Morning Worship Service
DESCRIPTION:
URL:https://sovereigngraceurc.org/event/sunday-morning-worship-service-727
LOCATION:Sovereign Grace URC\, 62 Lamoreaux Drive NE\, Comstock Park\, MI\, 49321\, United States
CATEGORIES:AM Service
END:VEVENT
BEGIN:VEVENT
DTSTART;TZID=America/Detroit:20180617T093000
DTEND;TZID=America/Detroit:20180617T093000
DTSTAMP:20260425T230919
CREATED:20171001T180843Z
LAST-MODIFIED:20171001T180843Z
UID:5463-1529227800-1529227800@sovereigngraceurc.org
SUMMARY:Sunday Morning Worship Service
DESCRIPTION:
URL:https://sovereigngraceurc.org/event/sunday-morning-worship-service-726
LOCATION:Sovereign Grace URC\, 62 Lamoreaux Drive NE\, Comstock Park\, MI\, 49321\, United States
CATEGORIES:AM Service
END:VEVENT
BEGIN:VEVENT
DTSTART;TZID=America/Detroit:20180610T093000
DTEND;TZID=America/Detroit:20180610T093000
DTSTAMP:20260425T230919
CREATED:20171001T180839Z
LAST-MODIFIED:20171001T180839Z
UID:5460-1528623000-1528623000@sovereigngraceurc.org
SUMMARY:Sunday Morning Worship Service
DESCRIPTION:
URL:https://sovereigngraceurc.org/event/sunday-morning-worship-service-725
LOCATION:Sovereign Grace URC\, 62 Lamoreaux Drive NE\, Comstock Park\, MI\, 49321\, United States
CATEGORIES:AM Service
END:VEVENT
BEGIN:VEVENT
DTSTART;TZID=America/Detroit:20180603T093000
DTEND;TZID=America/Detroit:20180603T093000
DTSTAMP:20260425T230919
CREATED:20171001T180834Z
LAST-MODIFIED:20171001T180834Z
UID:5457-1528018200-1528018200@sovereigngraceurc.org
SUMMARY:Sunday Morning Worship Service
DESCRIPTION:
URL:https://sovereigngraceurc.org/event/sunday-morning-worship-service-724
LOCATION:Sovereign Grace URC\, 62 Lamoreaux Drive NE\, Comstock Park\, MI\, 49321\, United States
CATEGORIES:AM Service
END:VEVENT
BEGIN:VEVENT
DTSTART;TZID=America/Detroit:20180527T093000
DTEND;TZID=America/Detroit:20180527T093000
DTSTAMP:20260425T230919
CREATED:20171001T180830Z
LAST-MODIFIED:20171001T180830Z
UID:5454-1527413400-1527413400@sovereigngraceurc.org
SUMMARY:Sunday Morning Worship Service
DESCRIPTION:
URL:https://sovereigngraceurc.org/event/sunday-morning-worship-service-723
LOCATION:Sovereign Grace URC\, 62 Lamoreaux Drive NE\, Comstock Park\, MI\, 49321\, United States
CATEGORIES:AM Service
END:VEVENT
BEGIN:VEVENT
DTSTART;TZID=America/Detroit:20180520T093000
DTEND;TZID=America/Detroit:20180520T093000
DTSTAMP:20260425T230919
CREATED:20171001T180826Z
LAST-MODIFIED:20171001T180826Z
UID:5451-1526808600-1526808600@sovereigngraceurc.org
SUMMARY:Sunday Morning Worship Service
DESCRIPTION:
URL:https://sovereigngraceurc.org/event/sunday-morning-worship-service-722
LOCATION:Sovereign Grace URC\, 62 Lamoreaux Drive NE\, Comstock Park\, MI\, 49321\, United States
CATEGORIES:AM Service
END:VEVENT
END:VCALENDAR