BEGIN:VCALENDAR
VERSION:2.0
PRODID:-//Sovereign Grace URC - ECPv6.15.20//NONSGML v1.0//EN
CALSCALE:GREGORIAN
METHOD:PUBLISH
X-WR-CALNAME:Sovereign Grace URC
X-ORIGINAL-URL:https://sovereigngraceurc.org
X-WR-CALDESC:Events for Sovereign Grace URC
REFRESH-INTERVAL;VALUE=DURATION:PT1H
X-Robots-Tag:noindex
X-PUBLISHED-TTL:PT1H
BEGIN:VTIMEZONE
TZID:America/Detroit
BEGIN:DAYLIGHT
TZOFFSETFROM:-0500
TZOFFSETTO:-0400
TZNAME:EDT
DTSTART:20250309T070000
END:DAYLIGHT
BEGIN:STANDARD
TZOFFSETFROM:-0400
TZOFFSETTO:-0500
TZNAME:EST
DTSTART:20251102T060000
END:STANDARD
BEGIN:DAYLIGHT
TZOFFSETFROM:-0500
TZOFFSETTO:-0400
TZNAME:EDT
DTSTART:20260308T070000
END:DAYLIGHT
BEGIN:STANDARD
TZOFFSETFROM:-0400
TZOFFSETTO:-0500
TZNAME:EST
DTSTART:20261101T060000
END:STANDARD
BEGIN:DAYLIGHT
TZOFFSETFROM:-0500
TZOFFSETTO:-0400
TZNAME:EDT
DTSTART:20270314T070000
END:DAYLIGHT
BEGIN:STANDARD
TZOFFSETFROM:-0400
TZOFFSETTO:-0500
TZNAME:EST
DTSTART:20271107T060000
END:STANDARD
END:VTIMEZONE
BEGIN:VEVENT
DTSTART;TZID=America/Detroit:20260927T093000
DTEND;TZID=America/Detroit:20260927T093000
DTSTAMP:20260423T175020
CREATED:20251130T162520Z
LAST-MODIFIED:20251130T162520Z
UID:16703-1790501400-1790501400@sovereigngraceurc.org
SUMMARY:Sunday Morning Worship Service
DESCRIPTION:
URL:https://sovereigngraceurc.org/event/sunday-morning-worship-service-196
CATEGORIES:AM Service
END:VEVENT
BEGIN:VEVENT
DTSTART;TZID=America/Detroit:20261004T093000
DTEND;TZID=America/Detroit:20261004T093000
DTSTAMP:20260423T175020
CREATED:20251130T162520Z
LAST-MODIFIED:20251130T162520Z
UID:16704-1791106200-1791106200@sovereigngraceurc.org
SUMMARY:Sunday Morning Worship Service
DESCRIPTION:
URL:https://sovereigngraceurc.org/event/sunday-morning-worship-service-197
CATEGORIES:AM Service
END:VEVENT
BEGIN:VEVENT
DTSTART;TZID=America/Detroit:20261011T093000
DTEND;TZID=America/Detroit:20261011T093000
DTSTAMP:20260423T175020
CREATED:20251130T162521Z
LAST-MODIFIED:20251130T162521Z
UID:16705-1791711000-1791711000@sovereigngraceurc.org
SUMMARY:Sunday Morning Worship Service
DESCRIPTION:
URL:https://sovereigngraceurc.org/event/sunday-morning-worship-service-198
CATEGORIES:AM Service
END:VEVENT
BEGIN:VEVENT
DTSTART;TZID=America/Detroit:20261018T093000
DTEND;TZID=America/Detroit:20261018T093000
DTSTAMP:20260423T175020
CREATED:20251130T162535Z
LAST-MODIFIED:20251130T162535Z
UID:16706-1792315800-1792315800@sovereigngraceurc.org
SUMMARY:Sunday Morning Worship Service
DESCRIPTION:
URL:https://sovereigngraceurc.org/event/sunday-morning-worship-service-199
CATEGORIES:AM Service
END:VEVENT
BEGIN:VEVENT
DTSTART;TZID=America/Detroit:20261025T093000
DTEND;TZID=America/Detroit:20261025T093000
DTSTAMP:20260423T175020
CREATED:20251130T162536Z
LAST-MODIFIED:20251130T162536Z
UID:16707-1792920600-1792920600@sovereigngraceurc.org
SUMMARY:Sunday Morning Worship Service
DESCRIPTION:
URL:https://sovereigngraceurc.org/event/sunday-morning-worship-service-200
CATEGORIES:AM Service
END:VEVENT
BEGIN:VEVENT
DTSTART;TZID=America/Detroit:20261101T093000
DTEND;TZID=America/Detroit:20261101T093000
DTSTAMP:20260423T175020
CREATED:20251130T162536Z
LAST-MODIFIED:20251130T162536Z
UID:16708-1793525400-1793525400@sovereigngraceurc.org
SUMMARY:Sunday Morning Worship Service
DESCRIPTION:
URL:https://sovereigngraceurc.org/event/sunday-morning-worship-service-201
CATEGORIES:AM Service
END:VEVENT
BEGIN:VEVENT
DTSTART;TZID=America/Detroit:20261108T093000
DTEND;TZID=America/Detroit:20261108T093000
DTSTAMP:20260423T175020
CREATED:20251130T162537Z
LAST-MODIFIED:20251130T162537Z
UID:16709-1794130200-1794130200@sovereigngraceurc.org
SUMMARY:Sunday Morning Worship Service
DESCRIPTION:
URL:https://sovereigngraceurc.org/event/sunday-morning-worship-service-202
CATEGORIES:AM Service
END:VEVENT
BEGIN:VEVENT
DTSTART;TZID=America/Detroit:20261115T093000
DTEND;TZID=America/Detroit:20261115T093000
DTSTAMP:20260423T175020
CREATED:20251130T162537Z
LAST-MODIFIED:20251130T162537Z
UID:16710-1794735000-1794735000@sovereigngraceurc.org
SUMMARY:Sunday Morning Worship Service
DESCRIPTION:
URL:https://sovereigngraceurc.org/event/sunday-morning-worship-service-203
CATEGORIES:AM Service
END:VEVENT
BEGIN:VEVENT
DTSTART;TZID=America/Detroit:20261122T093000
DTEND;TZID=America/Detroit:20261122T093000
DTSTAMP:20260423T175020
CREATED:20251130T162550Z
LAST-MODIFIED:20251130T162550Z
UID:16711-1795339800-1795339800@sovereigngraceurc.org
SUMMARY:Sunday Morning Worship Service
DESCRIPTION:
URL:https://sovereigngraceurc.org/event/sunday-morning-worship-service-204
CATEGORIES:AM Service
END:VEVENT
BEGIN:VEVENT
DTSTART;TZID=America/Detroit:20261129T093000
DTEND;TZID=America/Detroit:20261129T093000
DTSTAMP:20260423T175020
CREATED:20251130T162551Z
LAST-MODIFIED:20251130T162551Z
UID:16712-1795944600-1795944600@sovereigngraceurc.org
SUMMARY:Sunday Morning Worship Service
DESCRIPTION:
URL:https://sovereigngraceurc.org/event/sunday-morning-worship-service-205
CATEGORIES:AM Service
END:VEVENT
BEGIN:VEVENT
DTSTART;TZID=America/Detroit:20261206T093000
DTEND;TZID=America/Detroit:20261206T093000
DTSTAMP:20260423T175020
CREATED:20251130T162551Z
LAST-MODIFIED:20251130T162551Z
UID:16713-1796549400-1796549400@sovereigngraceurc.org
SUMMARY:Sunday Morning Worship Service
DESCRIPTION:
URL:https://sovereigngraceurc.org/event/sunday-morning-worship-service-206
CATEGORIES:AM Service
END:VEVENT
BEGIN:VEVENT
DTSTART;TZID=America/Detroit:20261213T093000
DTEND;TZID=America/Detroit:20261213T093000
DTSTAMP:20260423T175020
CREATED:20251130T162552Z
LAST-MODIFIED:20251130T162552Z
UID:16714-1797154200-1797154200@sovereigngraceurc.org
SUMMARY:Sunday Morning Worship Service
DESCRIPTION:
URL:https://sovereigngraceurc.org/event/sunday-morning-worship-service-207
CATEGORIES:AM Service
END:VEVENT
BEGIN:VEVENT
DTSTART;TZID=America/Detroit:20261220T093000
DTEND;TZID=America/Detroit:20261220T093000
DTSTAMP:20260423T175020
CREATED:20251130T162552Z
LAST-MODIFIED:20251130T162552Z
UID:16715-1797759000-1797759000@sovereigngraceurc.org
SUMMARY:Sunday Morning Worship Service
DESCRIPTION:
URL:https://sovereigngraceurc.org/event/sunday-morning-worship-service-208
CATEGORIES:AM Service
END:VEVENT
END:VCALENDAR