BEGIN:VCALENDAR
VERSION:2.0
PRODID:-//Sovereign Grace URC - ECPv6.15.20//NONSGML v1.0//EN
CALSCALE:GREGORIAN
METHOD:PUBLISH
X-ORIGINAL-URL:https://sovereigngraceurc.org
X-WR-CALDESC:Events for Sovereign Grace URC
REFRESH-INTERVAL;VALUE=DURATION:PT1H
X-Robots-Tag:noindex
X-PUBLISHED-TTL:PT1H
BEGIN:VTIMEZONE
TZID:America/Detroit
BEGIN:DAYLIGHT
TZOFFSETFROM:-0500
TZOFFSETTO:-0400
TZNAME:EDT
DTSTART:20170312T070000
END:DAYLIGHT
BEGIN:STANDARD
TZOFFSETFROM:-0400
TZOFFSETTO:-0500
TZNAME:EST
DTSTART:20171105T060000
END:STANDARD
BEGIN:DAYLIGHT
TZOFFSETFROM:-0500
TZOFFSETTO:-0400
TZNAME:EDT
DTSTART:20180311T070000
END:DAYLIGHT
BEGIN:STANDARD
TZOFFSETFROM:-0400
TZOFFSETTO:-0500
TZNAME:EST
DTSTART:20181104T060000
END:STANDARD
BEGIN:DAYLIGHT
TZOFFSETFROM:-0500
TZOFFSETTO:-0400
TZNAME:EDT
DTSTART:20190310T070000
END:DAYLIGHT
BEGIN:STANDARD
TZOFFSETFROM:-0400
TZOFFSETTO:-0500
TZNAME:EST
DTSTART:20191103T060000
END:STANDARD
BEGIN:DAYLIGHT
TZOFFSETFROM:-0500
TZOFFSETTO:-0400
TZNAME:EDT
DTSTART:20200308T070000
END:DAYLIGHT
BEGIN:STANDARD
TZOFFSETFROM:-0400
TZOFFSETTO:-0500
TZNAME:EST
DTSTART:20201101T060000
END:STANDARD
END:VTIMEZONE
BEGIN:VEVENT
DTSTART;TZID=America/Detroit:20190915T093000
DTEND;TZID=America/Detroit:20190915T093000
DTSTAMP:20260425T175621
CREATED:20171001T181452Z
LAST-MODIFIED:20171001T181454Z
UID:5716-1568539800-1568539800@sovereigngraceurc.org
SUMMARY:Sunday Morning Worship Service
DESCRIPTION:
URL:https://sovereigngraceurc.org/event/sunday-morning-worship-service-791
LOCATION:Sovereign Grace URC\, 62 Lamoreaux Drive NE\, Comstock Park\, MI\, 49321\, United States
CATEGORIES:AM Service
END:VEVENT
BEGIN:VEVENT
DTSTART;TZID=America/Detroit:20190908T093000
DTEND;TZID=America/Detroit:20190908T093000
DTSTAMP:20260425T175621
CREATED:20171001T181447Z
LAST-MODIFIED:20171001T181454Z
UID:5713-1567935000-1567935000@sovereigngraceurc.org
SUMMARY:Sunday Morning Worship Service
DESCRIPTION:
URL:https://sovereigngraceurc.org/event/sunday-morning-worship-service-790
LOCATION:Sovereign Grace URC\, 62 Lamoreaux Drive NE\, Comstock Park\, MI\, 49321\, United States
CATEGORIES:AM Service
END:VEVENT
BEGIN:VEVENT
DTSTART;TZID=America/Detroit:20190901T093000
DTEND;TZID=America/Detroit:20190901T093000
DTSTAMP:20260425T175621
CREATED:20171001T181439Z
LAST-MODIFIED:20171001T181443Z
UID:5705-1567330200-1567330200@sovereigngraceurc.org
SUMMARY:Sunday Morning Worship Service
DESCRIPTION:
URL:https://sovereigngraceurc.org/event/sunday-morning-worship-service-789
LOCATION:Sovereign Grace URC\, 62 Lamoreaux Drive NE\, Comstock Park\, MI\, 49321\, United States
CATEGORIES:AM Service
END:VEVENT
BEGIN:VEVENT
DTSTART;TZID=America/Detroit:20190825T093000
DTEND;TZID=America/Detroit:20190825T093000
DTSTAMP:20260425T175621
CREATED:20171001T181435Z
LAST-MODIFIED:20171001T181442Z
UID:5702-1566725400-1566725400@sovereigngraceurc.org
SUMMARY:Sunday Morning Worship Service
DESCRIPTION:
URL:https://sovereigngraceurc.org/event/sunday-morning-worship-service-788
LOCATION:Sovereign Grace URC\, 62 Lamoreaux Drive NE\, Comstock Park\, MI\, 49321\, United States
CATEGORIES:AM Service
END:VEVENT
BEGIN:VEVENT
DTSTART;TZID=America/Detroit:20190818T093000
DTEND;TZID=America/Detroit:20190818T093000
DTSTAMP:20260425T175621
CREATED:20171001T181427Z
LAST-MODIFIED:20171001T181432Z
UID:5694-1566120600-1566120600@sovereigngraceurc.org
SUMMARY:Sunday Morning Worship Service
DESCRIPTION:
URL:https://sovereigngraceurc.org/event/sunday-morning-worship-service-787
LOCATION:Sovereign Grace URC\, 62 Lamoreaux Drive NE\, Comstock Park\, MI\, 49321\, United States
CATEGORIES:AM Service
END:VEVENT
BEGIN:VEVENT
DTSTART;TZID=America/Detroit:20190728T093000
DTEND;TZID=America/Detroit:20190728T093000
DTSTAMP:20260425T175621
CREATED:20171001T181410Z
LAST-MODIFIED:20171001T181413Z
UID:5680-1564306200-1564306200@sovereigngraceurc.org
SUMMARY:Sunday Morning Worship Service
DESCRIPTION:
URL:https://sovereigngraceurc.org/event/sunday-morning-worship-service-784
LOCATION:Sovereign Grace URC\, 62 Lamoreaux Drive NE\, Comstock Park\, MI\, 49321\, United States
CATEGORIES:AM Service
END:VEVENT
BEGIN:VEVENT
DTSTART;TZID=America/Detroit:20190721T093000
DTEND;TZID=America/Detroit:20190721T093000
DTSTAMP:20260425T175621
CREATED:20171001T181406Z
LAST-MODIFIED:20171001T181413Z
UID:5677-1563701400-1563701400@sovereigngraceurc.org
SUMMARY:Sunday Morning Worship Service
DESCRIPTION:
URL:https://sovereigngraceurc.org/event/sunday-morning-worship-service-783
LOCATION:Sovereign Grace URC\, 62 Lamoreaux Drive NE\, Comstock Park\, MI\, 49321\, United States
CATEGORIES:AM Service
END:VEVENT
BEGIN:VEVENT
DTSTART;TZID=America/Detroit:20190602T093000
DTEND;TZID=America/Detroit:20190602T093000
DTSTAMP:20260425T175621
CREATED:20171001T181333Z
LAST-MODIFIED:20171001T181333Z
UID:5656-1559467800-1559467800@sovereigngraceurc.org
SUMMARY:Sunday Morning Worship Service
DESCRIPTION:
URL:https://sovereigngraceurc.org/event/sunday-morning-worship-service-776
LOCATION:Sovereign Grace URC\, 62 Lamoreaux Drive NE\, Comstock Park\, MI\, 49321\, United States
CATEGORIES:AM Service
END:VEVENT
BEGIN:VEVENT
DTSTART;TZID=America/Detroit:20190526T093000
DTEND;TZID=America/Detroit:20190526T093000
DTSTAMP:20260425T175621
CREATED:20171001T181328Z
LAST-MODIFIED:20171001T181328Z
UID:5653-1558863000-1558863000@sovereigngraceurc.org
SUMMARY:Sunday Morning Worship Service
DESCRIPTION:
URL:https://sovereigngraceurc.org/event/sunday-morning-worship-service-775
LOCATION:Sovereign Grace URC\, 62 Lamoreaux Drive NE\, Comstock Park\, MI\, 49321\, United States
CATEGORIES:AM Service
END:VEVENT
BEGIN:VEVENT
DTSTART;TZID=America/Detroit:20190428T093000
DTEND;TZID=America/Detroit:20190428T093000
DTSTAMP:20260425T175621
CREATED:20171001T181301Z
LAST-MODIFIED:20171001T181301Z
UID:5641-1556443800-1556443800@sovereigngraceurc.org
SUMMARY:Sunday Morning Worship Service
DESCRIPTION:
URL:https://sovereigngraceurc.org/event/sunday-morning-worship-service-771
LOCATION:Sovereign Grace URC\, 62 Lamoreaux Drive NE\, Comstock Park\, MI\, 49321\, United States
CATEGORIES:AM Service
END:VEVENT
BEGIN:VEVENT
DTSTART;TZID=America/Detroit:20190421T093000
DTEND;TZID=America/Detroit:20190421T093000
DTSTAMP:20260425T175621
CREATED:20171001T181257Z
LAST-MODIFIED:20171001T181257Z
UID:5638-1555839000-1555839000@sovereigngraceurc.org
SUMMARY:Sunday Morning Worship Service
DESCRIPTION:
URL:https://sovereigngraceurc.org/event/sunday-morning-worship-service-770
LOCATION:Sovereign Grace URC\, 62 Lamoreaux Drive NE\, Comstock Park\, MI\, 49321\, United States
CATEGORIES:AM Service
END:VEVENT
BEGIN:VEVENT
DTSTART;TZID=America/Detroit:20190414T093000
DTEND;TZID=America/Detroit:20190414T093000
DTSTAMP:20260425T175621
CREATED:20171001T181248Z
LAST-MODIFIED:20171001T181248Z
UID:5635-1555234200-1555234200@sovereigngraceurc.org
SUMMARY:Sunday Morning Worship Service
DESCRIPTION:
URL:https://sovereigngraceurc.org/event/sunday-morning-worship-service-769
LOCATION:Sovereign Grace URC\, 62 Lamoreaux Drive NE\, Comstock Park\, MI\, 49321\, United States
CATEGORIES:AM Service
END:VEVENT
BEGIN:VEVENT
DTSTART;TZID=America/Detroit:20190407T093000
DTEND;TZID=America/Detroit:20190407T093000
DTSTAMP:20260425T175621
CREATED:20171001T181244Z
LAST-MODIFIED:20171001T181244Z
UID:5632-1554629400-1554629400@sovereigngraceurc.org
SUMMARY:Sunday Morning Worship Service
DESCRIPTION:
URL:https://sovereigngraceurc.org/event/sunday-morning-worship-service-768
LOCATION:Sovereign Grace URC\, 62 Lamoreaux Drive NE\, Comstock Park\, MI\, 49321\, United States
CATEGORIES:AM Service
END:VEVENT
BEGIN:VEVENT
DTSTART;TZID=America/Detroit:20190331T093000
DTEND;TZID=America/Detroit:20190331T093000
DTSTAMP:20260425T175621
CREATED:20171001T181238Z
LAST-MODIFIED:20171001T181238Z
UID:5629-1554024600-1554024600@sovereigngraceurc.org
SUMMARY:Sunday Morning Worship Service
DESCRIPTION:
URL:https://sovereigngraceurc.org/event/sunday-morning-worship-service-767
LOCATION:Sovereign Grace URC\, 62 Lamoreaux Drive NE\, Comstock Park\, MI\, 49321\, United States
CATEGORIES:AM Service
END:VEVENT
BEGIN:VEVENT
DTSTART;TZID=America/Detroit:20190324T093000
DTEND;TZID=America/Detroit:20190324T093000
DTSTAMP:20260425T175621
CREATED:20171001T181231Z
LAST-MODIFIED:20171001T181234Z
UID:5621-1553419800-1553419800@sovereigngraceurc.org
SUMMARY:Sunday Morning Worship Service
DESCRIPTION:
URL:https://sovereigngraceurc.org/event/sunday-morning-worship-service-766
LOCATION:Sovereign Grace URC\, 62 Lamoreaux Drive NE\, Comstock Park\, MI\, 49321\, United States
CATEGORIES:AM Service
END:VEVENT
BEGIN:VEVENT
DTSTART;TZID=America/Detroit:20190317T093000
DTEND;TZID=America/Detroit:20190317T093000
DTSTAMP:20260425T175621
CREATED:20171001T181227Z
LAST-MODIFIED:20171001T181233Z
UID:5618-1552815000-1552815000@sovereigngraceurc.org
SUMMARY:Sunday Morning Worship Service
DESCRIPTION:
URL:https://sovereigngraceurc.org/event/sunday-morning-worship-service-765
LOCATION:Sovereign Grace URC\, 62 Lamoreaux Drive NE\, Comstock Park\, MI\, 49321\, United States
CATEGORIES:AM Service
END:VEVENT
BEGIN:VEVENT
DTSTART;TZID=America/Detroit:20190310T093000
DTEND;TZID=America/Detroit:20190310T093000
DTSTAMP:20260425T175621
CREATED:20171001T181221Z
LAST-MODIFIED:20171001T181221Z
UID:5615-1552210200-1552210200@sovereigngraceurc.org
SUMMARY:Sunday Morning Worship Service
DESCRIPTION:
URL:https://sovereigngraceurc.org/event/sunday-morning-worship-service-764
LOCATION:Sovereign Grace URC\, 62 Lamoreaux Drive NE\, Comstock Park\, MI\, 49321\, United States
CATEGORIES:AM Service
END:VEVENT
BEGIN:VEVENT
DTSTART;TZID=America/Detroit:20190303T093000
DTEND;TZID=America/Detroit:20190303T093000
DTSTAMP:20260425T175621
CREATED:20171001T181217Z
LAST-MODIFIED:20171001T181217Z
UID:5612-1551605400-1551605400@sovereigngraceurc.org
SUMMARY:Sunday Morning Worship Service
DESCRIPTION:
URL:https://sovereigngraceurc.org/event/sunday-morning-worship-service-763
LOCATION:Sovereign Grace URC\, 62 Lamoreaux Drive NE\, Comstock Park\, MI\, 49321\, United States
CATEGORIES:AM Service
END:VEVENT
BEGIN:VEVENT
DTSTART;TZID=America/Detroit:20190217T093000
DTEND;TZID=America/Detroit:20190217T093000
DTSTAMP:20260425T175621
CREATED:20171001T181203Z
LAST-MODIFIED:20171001T181205Z
UID:5601-1550395800-1550395800@sovereigngraceurc.org
SUMMARY:Sunday Morning Worship Service
DESCRIPTION:
URL:https://sovereigngraceurc.org/event/sunday-morning-worship-service-761
LOCATION:Sovereign Grace URC\, 62 Lamoreaux Drive NE\, Comstock Park\, MI\, 49321\, United States
CATEGORIES:AM Service
END:VEVENT
BEGIN:VEVENT
DTSTART;TZID=America/Detroit:20190210T093000
DTEND;TZID=America/Detroit:20190210T093000
DTSTAMP:20260425T175621
CREATED:20171001T181158Z
LAST-MODIFIED:20171001T181205Z
UID:5598-1549791000-1549791000@sovereigngraceurc.org
SUMMARY:Sunday Morning Worship Service
DESCRIPTION:
URL:https://sovereigngraceurc.org/event/sunday-morning-worship-service-760
LOCATION:Sovereign Grace URC\, 62 Lamoreaux Drive NE\, Comstock Park\, MI\, 49321\, United States
CATEGORIES:AM Service
END:VEVENT
BEGIN:VEVENT
DTSTART;TZID=America/Detroit:20190203T093000
DTEND;TZID=America/Detroit:20190203T093000
DTSTAMP:20260425T175621
CREATED:20171001T181150Z
LAST-MODIFIED:20171001T181150Z
UID:5595-1549186200-1549186200@sovereigngraceurc.org
SUMMARY:Sunday Morning Worship Service
DESCRIPTION:
URL:https://sovereigngraceurc.org/event/sunday-morning-worship-service-759
LOCATION:Sovereign Grace URC\, 62 Lamoreaux Drive NE\, Comstock Park\, MI\, 49321\, United States
CATEGORIES:AM Service
END:VEVENT
BEGIN:VEVENT
DTSTART;TZID=America/Detroit:20190127T093000
DTEND;TZID=America/Detroit:20190127T093000
DTSTAMP:20260425T175621
CREATED:20171001T181145Z
LAST-MODIFIED:20171001T181145Z
UID:5592-1548581400-1548581400@sovereigngraceurc.org
SUMMARY:Sunday Morning Worship Service
DESCRIPTION:
URL:https://sovereigngraceurc.org/event/sunday-morning-worship-service-758
LOCATION:Sovereign Grace URC\, 62 Lamoreaux Drive NE\, Comstock Park\, MI\, 49321\, United States
CATEGORIES:AM Service
END:VEVENT
BEGIN:VEVENT
DTSTART;TZID=America/Detroit:20190113T093000
DTEND;TZID=America/Detroit:20190113T093000
DTSTAMP:20260425T175621
CREATED:20171001T181130Z
LAST-MODIFIED:20171001T181133Z
UID:5581-1547371800-1547371800@sovereigngraceurc.org
SUMMARY:Sunday Morning Worship Service
DESCRIPTION:
URL:https://sovereigngraceurc.org/event/sunday-morning-worship-service-756
LOCATION:Sovereign Grace URC\, 62 Lamoreaux Drive NE\, Comstock Park\, MI\, 49321\, United States
CATEGORIES:AM Service
END:VEVENT
BEGIN:VEVENT
DTSTART;TZID=America/Detroit:20190106T093000
DTEND;TZID=America/Detroit:20190106T093000
DTSTAMP:20260425T175621
CREATED:20171001T181127Z
LAST-MODIFIED:20171001T181132Z
UID:5578-1546767000-1546767000@sovereigngraceurc.org
SUMMARY:Sunday Morning Worship Service
DESCRIPTION:
URL:https://sovereigngraceurc.org/event/sunday-morning-worship-service-755
LOCATION:Sovereign Grace URC\, 62 Lamoreaux Drive NE\, Comstock Park\, MI\, 49321\, United States
CATEGORIES:AM Service
END:VEVENT
BEGIN:VEVENT
DTSTART;TZID=America/Detroit:20181230T093000
DTEND;TZID=America/Detroit:20181230T093000
DTSTAMP:20260425T175621
CREATED:20171001T181120Z
LAST-MODIFIED:20171001T181124Z
UID:5570-1546162200-1546162200@sovereigngraceurc.org
SUMMARY:Sunday Morning Worship Service
DESCRIPTION:
URL:https://sovereigngraceurc.org/event/sunday-morning-worship-service-754
LOCATION:Sovereign Grace URC\, 62 Lamoreaux Drive NE\, Comstock Park\, MI\, 49321\, United States
CATEGORIES:AM Service
END:VEVENT
BEGIN:VEVENT
DTSTART;TZID=America/Detroit:20181223T093000
DTEND;TZID=America/Detroit:20181223T093000
DTSTAMP:20260425T175621
CREATED:20171001T181116Z
LAST-MODIFIED:20171001T181123Z
UID:5567-1545557400-1545557400@sovereigngraceurc.org
SUMMARY:Sunday Morning Worship Service
DESCRIPTION:
URL:https://sovereigngraceurc.org/event/sunday-morning-worship-service-753
LOCATION:Sovereign Grace URC\, 62 Lamoreaux Drive NE\, Comstock Park\, MI\, 49321\, United States
CATEGORIES:AM Service
END:VEVENT
BEGIN:VEVENT
DTSTART;TZID=America/Detroit:20181125T093000
DTEND;TZID=America/Detroit:20181125T093000
DTSTAMP:20260425T175621
CREATED:20171001T181053Z
LAST-MODIFIED:20171001T181056Z
UID:5549-1543138200-1543138200@sovereigngraceurc.org
SUMMARY:Sunday Morning Worship Service
DESCRIPTION:
URL:https://sovereigngraceurc.org/event/sunday-morning-worship-service-749
LOCATION:Sovereign Grace URC\, 62 Lamoreaux Drive NE\, Comstock Park\, MI\, 49321\, United States
CATEGORIES:AM Service
END:VEVENT
BEGIN:VEVENT
DTSTART;TZID=America/Detroit:20181118T093000
DTEND;TZID=America/Detroit:20181118T093000
DTSTAMP:20260425T175621
CREATED:20171001T181048Z
LAST-MODIFIED:20171001T181056Z
UID:5546-1542533400-1542533400@sovereigngraceurc.org
SUMMARY:Sunday Morning Worship Service
DESCRIPTION:
URL:https://sovereigngraceurc.org/event/sunday-morning-worship-service-748
LOCATION:Sovereign Grace URC\, 62 Lamoreaux Drive NE\, Comstock Park\, MI\, 49321\, United States
CATEGORIES:AM Service
END:VEVENT
BEGIN:VEVENT
DTSTART;TZID=America/Detroit:20181111T093000
DTEND;TZID=America/Detroit:20181111T093000
DTSTAMP:20260425T175621
CREATED:20171001T181042Z
LAST-MODIFIED:20171001T181042Z
UID:5543-1541928600-1541928600@sovereigngraceurc.org
SUMMARY:Sunday Morning Worship Service
DESCRIPTION:
URL:https://sovereigngraceurc.org/event/sunday-morning-worship-service-747
LOCATION:Sovereign Grace URC\, 62 Lamoreaux Drive NE\, Comstock Park\, MI\, 49321\, United States
CATEGORIES:AM Service
END:VEVENT
BEGIN:VEVENT
DTSTART;TZID=America/Detroit:20181021T093000
DTEND;TZID=America/Detroit:20181021T093000
DTSTAMP:20260425T175621
CREATED:20171001T181026Z
LAST-MODIFIED:20171001T181029Z
UID:5529-1540114200-1540114200@sovereigngraceurc.org
SUMMARY:Sunday Morning Worship Service
DESCRIPTION:
URL:https://sovereigngraceurc.org/event/sunday-morning-worship-service-744
LOCATION:Sovereign Grace URC\, 62 Lamoreaux Drive NE\, Comstock Park\, MI\, 49321\, United States
CATEGORIES:AM Service
END:VEVENT
END:VCALENDAR