BEGIN:VCALENDAR
VERSION:2.0
PRODID:-//Sovereign Grace URC - ECPv6.15.20//NONSGML v1.0//EN
CALSCALE:GREGORIAN
METHOD:PUBLISH
X-ORIGINAL-URL:https://sovereigngraceurc.org
X-WR-CALDESC:Events for Sovereign Grace URC
REFRESH-INTERVAL;VALUE=DURATION:PT1H
X-Robots-Tag:noindex
X-PUBLISHED-TTL:PT1H
BEGIN:VTIMEZONE
TZID:America/Detroit
BEGIN:DAYLIGHT
TZOFFSETFROM:-0500
TZOFFSETTO:-0400
TZNAME:EDT
DTSTART:20180311T070000
END:DAYLIGHT
BEGIN:STANDARD
TZOFFSETFROM:-0400
TZOFFSETTO:-0500
TZNAME:EST
DTSTART:20181104T060000
END:STANDARD
BEGIN:DAYLIGHT
TZOFFSETFROM:-0500
TZOFFSETTO:-0400
TZNAME:EDT
DTSTART:20190310T070000
END:DAYLIGHT
BEGIN:STANDARD
TZOFFSETFROM:-0400
TZOFFSETTO:-0500
TZNAME:EST
DTSTART:20191103T060000
END:STANDARD
BEGIN:DAYLIGHT
TZOFFSETFROM:-0500
TZOFFSETTO:-0400
TZNAME:EDT
DTSTART:20200308T070000
END:DAYLIGHT
BEGIN:STANDARD
TZOFFSETFROM:-0400
TZOFFSETTO:-0500
TZNAME:EST
DTSTART:20201101T060000
END:STANDARD
BEGIN:DAYLIGHT
TZOFFSETFROM:-0500
TZOFFSETTO:-0400
TZNAME:EDT
DTSTART:20210314T070000
END:DAYLIGHT
BEGIN:STANDARD
TZOFFSETFROM:-0400
TZOFFSETTO:-0500
TZNAME:EST
DTSTART:20211107T060000
END:STANDARD
END:VTIMEZONE
BEGIN:VEVENT
DTSTART;TZID=America/Detroit:20200621T093000
DTEND;TZID=America/Detroit:20200621T093000
DTSTAMP:20260425T160115
CREATED:20171001T181851Z
LAST-MODIFIED:20171001T181854Z
UID:5871-1592731800-1592731800@sovereigngraceurc.org
SUMMARY:Sunday Morning Worship Service
DESCRIPTION:
URL:https://sovereigngraceurc.org/event/sunday-morning-worship-service-831
LOCATION:Sovereign Grace URC\, 62 Lamoreaux Drive NE\, Comstock Park\, MI\, 49321\, United States
CATEGORIES:AM Service
END:VEVENT
BEGIN:VEVENT
DTSTART;TZID=America/Detroit:20200614T093000
DTEND;TZID=America/Detroit:20200614T093000
DTSTAMP:20260425T160115
CREATED:20171001T181846Z
LAST-MODIFIED:20171001T181854Z
UID:5868-1592127000-1592127000@sovereigngraceurc.org
SUMMARY:Sunday Morning Worship Service
DESCRIPTION:
URL:https://sovereigngraceurc.org/event/sunday-morning-worship-service-830
LOCATION:Sovereign Grace URC\, 62 Lamoreaux Drive NE\, Comstock Park\, MI\, 49321\, United States
CATEGORIES:AM Service
END:VEVENT
BEGIN:VEVENT
DTSTART;TZID=America/Detroit:20200524T093000
DTEND;TZID=America/Detroit:20200524T093000
DTSTAMP:20260425T160115
CREATED:20171001T181829Z
LAST-MODIFIED:20171001T181835Z
UID:5854-1590312600-1590312600@sovereigngraceurc.org
SUMMARY:Sunday Morning Worship Service
DESCRIPTION:
URL:https://sovereigngraceurc.org/event/sunday-morning-worship-service-827
LOCATION:Sovereign Grace URC\, 62 Lamoreaux Drive NE\, Comstock Park\, MI\, 49321\, United States
CATEGORIES:AM Service
END:VEVENT
BEGIN:VEVENT
DTSTART;TZID=America/Detroit:20200517T093000
DTEND;TZID=America/Detroit:20200517T093000
DTSTAMP:20260425T160115
CREATED:20171001T181821Z
LAST-MODIFIED:20171001T181824Z
UID:5846-1589707800-1589707800@sovereigngraceurc.org
SUMMARY:Sunday Morning Worship Service
DESCRIPTION:
URL:https://sovereigngraceurc.org/event/sunday-morning-worship-service-826
LOCATION:Sovereign Grace URC\, 62 Lamoreaux Drive NE\, Comstock Park\, MI\, 49321\, United States
CATEGORIES:AM Service
END:VEVENT
BEGIN:VEVENT
DTSTART;TZID=America/Detroit:20200510T093000
DTEND;TZID=America/Detroit:20200510T093000
DTSTAMP:20260425T160115
CREATED:20171001T181817Z
LAST-MODIFIED:20171001T181823Z
UID:5843-1589103000-1589103000@sovereigngraceurc.org
SUMMARY:Sunday Morning Worship Service
DESCRIPTION:
URL:https://sovereigngraceurc.org/event/sunday-morning-worship-service-825
LOCATION:Sovereign Grace URC\, 62 Lamoreaux Drive NE\, Comstock Park\, MI\, 49321\, United States
CATEGORIES:AM Service
END:VEVENT
BEGIN:VEVENT
DTSTART;TZID=America/Detroit:20200329T093000
DTEND;TZID=America/Detroit:20200329T093000
DTSTAMP:20260425T160115
CREATED:20171001T181742Z
LAST-MODIFIED:20171001T181747Z
UID:5820-1585474200-1585474200@sovereigngraceurc.org
SUMMARY:Sunday Morning Worship Service
DESCRIPTION:
URL:https://sovereigngraceurc.org/event/sunday-morning-worship-service-819
LOCATION:Sovereign Grace URC\, 62 Lamoreaux Drive NE\, Comstock Park\, MI\, 49321\, United States
CATEGORIES:AM Service
END:VEVENT
BEGIN:VEVENT
DTSTART;TZID=America/Detroit:20200322T093000
DTEND;TZID=America/Detroit:20200322T093000
DTSTAMP:20260425T160115
CREATED:20171001T181737Z
LAST-MODIFIED:20200320T144323Z
UID:5817-1584869400-1584869400@sovereigngraceurc.org
SUMMARY:Sunday Morning Worship Service - Online
DESCRIPTION:We are meeting online this week.  You can listen via our website or by calling the SermonAudio phone line at 712-432-3410.  Choose option  2 and enter the church code 54454.
URL:https://sovereigngraceurc.org/event/sunday-morning-worship-service-818
LOCATION:Sovereign Grace URC\, 62 Lamoreaux Drive NE\, Comstock Park\, MI\, 49321\, United States
CATEGORIES:AM Service
END:VEVENT
BEGIN:VEVENT
DTSTART;TZID=America/Detroit:20200315T093000
DTEND;TZID=America/Detroit:20200315T093000
DTSTAMP:20260425T160115
CREATED:20171001T181731Z
LAST-MODIFIED:20171001T181731Z
UID:5814-1584264600-1584264600@sovereigngraceurc.org
SUMMARY:Sunday Morning Worship Service
DESCRIPTION:
URL:https://sovereigngraceurc.org/event/sunday-morning-worship-service-817
LOCATION:Sovereign Grace URC\, 62 Lamoreaux Drive NE\, Comstock Park\, MI\, 49321\, United States
CATEGORIES:AM Service
END:VEVENT
BEGIN:VEVENT
DTSTART;TZID=America/Detroit:20200308T093000
DTEND;TZID=America/Detroit:20200308T093000
DTSTAMP:20260425T160115
CREATED:20171001T181726Z
LAST-MODIFIED:20171001T181728Z
UID:5806-1583659800-1583659800@sovereigngraceurc.org
SUMMARY:Sunday Morning Worship Service
DESCRIPTION:
URL:https://sovereigngraceurc.org/event/sunday-morning-worship-service-816
LOCATION:Sovereign Grace URC\, 62 Lamoreaux Drive NE\, Comstock Park\, MI\, 49321\, United States
CATEGORIES:AM Service
END:VEVENT
BEGIN:VEVENT
DTSTART;TZID=America/Detroit:20200301T093000
DTEND;TZID=America/Detroit:20200301T093000
DTSTAMP:20260425T160115
CREATED:20171001T181722Z
LAST-MODIFIED:20171001T181728Z
UID:5803-1583055000-1583055000@sovereigngraceurc.org
SUMMARY:Sunday Morning Worship Service
DESCRIPTION:
URL:https://sovereigngraceurc.org/event/sunday-morning-worship-service-815
LOCATION:Sovereign Grace URC\, 62 Lamoreaux Drive NE\, Comstock Park\, MI\, 49321\, United States
CATEGORIES:AM Service
END:VEVENT
BEGIN:VEVENT
DTSTART;TZID=America/Detroit:20200223T093000
DTEND;TZID=America/Detroit:20200223T093000
DTSTAMP:20260425T160115
CREATED:20171001T181714Z
LAST-MODIFIED:20171001T181718Z
UID:5795-1582450200-1582450200@sovereigngraceurc.org
SUMMARY:Sunday Morning Worship Service
DESCRIPTION:
URL:https://sovereigngraceurc.org/event/sunday-morning-worship-service-814
LOCATION:Sovereign Grace URC\, 62 Lamoreaux Drive NE\, Comstock Park\, MI\, 49321\, United States
CATEGORIES:AM Service
END:VEVENT
BEGIN:VEVENT
DTSTART;TZID=America/Detroit:20200216T093000
DTEND;TZID=America/Detroit:20200216T093000
DTSTAMP:20260425T160115
CREATED:20171001T181710Z
LAST-MODIFIED:20171001T181717Z
UID:5792-1581845400-1581845400@sovereigngraceurc.org
SUMMARY:Sunday Morning Worship Service
DESCRIPTION:
URL:https://sovereigngraceurc.org/event/sunday-morning-worship-service-813
LOCATION:Sovereign Grace URC\, 62 Lamoreaux Drive NE\, Comstock Park\, MI\, 49321\, United States
CATEGORIES:AM Service
END:VEVENT
BEGIN:VEVENT
DTSTART;TZID=America/Detroit:20200202T093000
DTEND;TZID=America/Detroit:20200202T093000
DTSTAMP:20260425T160115
CREATED:20171001T181657Z
LAST-MODIFIED:20171001T181657Z
UID:5786-1580635800-1580635800@sovereigngraceurc.org
SUMMARY:Sunday Morning Worship Service
DESCRIPTION:
URL:https://sovereigngraceurc.org/event/sunday-morning-worship-service-811
LOCATION:Sovereign Grace URC\, 62 Lamoreaux Drive NE\, Comstock Park\, MI\, 49321\, United States
CATEGORIES:AM Service
END:VEVENT
BEGIN:VEVENT
DTSTART;TZID=America/Detroit:20200126T093000
DTEND;TZID=America/Detroit:20200126T093000
DTSTAMP:20260425T160115
CREATED:20171001T181652Z
LAST-MODIFIED:20171001T181652Z
UID:5783-1580031000-1580031000@sovereigngraceurc.org
SUMMARY:Sunday Morning Worship Service
DESCRIPTION:
URL:https://sovereigngraceurc.org/event/sunday-morning-worship-service-810
LOCATION:Sovereign Grace URC\, 62 Lamoreaux Drive NE\, Comstock Park\, MI\, 49321\, United States
CATEGORIES:AM Service
END:VEVENT
BEGIN:VEVENT
DTSTART;TZID=America/Detroit:20200119T093000
DTEND;TZID=America/Detroit:20200119T093000
DTSTAMP:20260425T160115
CREATED:20171001T181646Z
LAST-MODIFIED:20171001T181646Z
UID:5780-1579426200-1579426200@sovereigngraceurc.org
SUMMARY:Sunday Morning Worship Service
DESCRIPTION:
URL:https://sovereigngraceurc.org/event/sunday-morning-worship-service-809
LOCATION:Sovereign Grace URC\, 62 Lamoreaux Drive NE\, Comstock Park\, MI\, 49321\, United States
CATEGORIES:AM Service
END:VEVENT
BEGIN:VEVENT
DTSTART;TZID=America/Detroit:20200112T093000
DTEND;TZID=America/Detroit:20200112T093000
DTSTAMP:20260425T160115
CREATED:20171001T181642Z
LAST-MODIFIED:20171001T181642Z
UID:5777-1578821400-1578821400@sovereigngraceurc.org
SUMMARY:Sunday Morning Worship Service
DESCRIPTION:
URL:https://sovereigngraceurc.org/event/sunday-morning-worship-service-808
LOCATION:Sovereign Grace URC\, 62 Lamoreaux Drive NE\, Comstock Park\, MI\, 49321\, United States
CATEGORIES:AM Service
END:VEVENT
BEGIN:VEVENT
DTSTART;TZID=America/Detroit:20191215T093000
DTEND;TZID=America/Detroit:20191215T093000
DTSTAMP:20260425T160115
CREATED:20171001T181619Z
LAST-MODIFIED:20171001T181619Z
UID:5765-1576402200-1576402200@sovereigngraceurc.org
SUMMARY:Sunday Morning Worship Service
DESCRIPTION:
URL:https://sovereigngraceurc.org/event/sunday-morning-worship-service-804
LOCATION:Sovereign Grace URC\, 62 Lamoreaux Drive NE\, Comstock Park\, MI\, 49321\, United States
CATEGORIES:AM Service
END:VEVENT
BEGIN:VEVENT
DTSTART;TZID=America/Detroit:20191208T093000
DTEND;TZID=America/Detroit:20191208T093000
DTSTAMP:20260425T160115
CREATED:20171001T181613Z
LAST-MODIFIED:20171001T181613Z
UID:5762-1575797400-1575797400@sovereigngraceurc.org
SUMMARY:Sunday Morning Worship Service
DESCRIPTION:
URL:https://sovereigngraceurc.org/event/sunday-morning-worship-service-803
LOCATION:Sovereign Grace URC\, 62 Lamoreaux Drive NE\, Comstock Park\, MI\, 49321\, United States
CATEGORIES:AM Service
END:VEVENT
BEGIN:VEVENT
DTSTART;TZID=America/Detroit:20191110T093000
DTEND;TZID=America/Detroit:20191110T093000
DTSTAMP:20260425T160115
CREATED:20171001T181548Z
LAST-MODIFIED:20171001T181553Z
UID:5745-1573378200-1573378200@sovereigngraceurc.org
SUMMARY:Sunday Morning Worship Service
DESCRIPTION:
URL:https://sovereigngraceurc.org/event/sunday-morning-worship-service-799
LOCATION:Sovereign Grace URC\, 62 Lamoreaux Drive NE\, Comstock Park\, MI\, 49321\, United States
CATEGORIES:AM Service
END:VEVENT
BEGIN:VEVENT
DTSTART;TZID=America/Detroit:20191103T093000
DTEND;TZID=America/Detroit:20191103T093000
DTSTAMP:20260425T160115
CREATED:20171001T181544Z
LAST-MODIFIED:20171001T181552Z
UID:5742-1572773400-1572773400@sovereigngraceurc.org
SUMMARY:Sunday Morning Worship Service
DESCRIPTION:
URL:https://sovereigngraceurc.org/event/sunday-morning-worship-service-798
LOCATION:Sovereign Grace URC\, 62 Lamoreaux Drive NE\, Comstock Park\, MI\, 49321\, United States
CATEGORIES:AM Service
END:VEVENT
BEGIN:VEVENT
DTSTART;TZID=America/Detroit:20190915T093000
DTEND;TZID=America/Detroit:20190915T093000
DTSTAMP:20260425T160115
CREATED:20171001T181452Z
LAST-MODIFIED:20171001T181454Z
UID:5716-1568539800-1568539800@sovereigngraceurc.org
SUMMARY:Sunday Morning Worship Service
DESCRIPTION:
URL:https://sovereigngraceurc.org/event/sunday-morning-worship-service-791
LOCATION:Sovereign Grace URC\, 62 Lamoreaux Drive NE\, Comstock Park\, MI\, 49321\, United States
CATEGORIES:AM Service
END:VEVENT
BEGIN:VEVENT
DTSTART;TZID=America/Detroit:20190908T093000
DTEND;TZID=America/Detroit:20190908T093000
DTSTAMP:20260425T160115
CREATED:20171001T181447Z
LAST-MODIFIED:20171001T181454Z
UID:5713-1567935000-1567935000@sovereigngraceurc.org
SUMMARY:Sunday Morning Worship Service
DESCRIPTION:
URL:https://sovereigngraceurc.org/event/sunday-morning-worship-service-790
LOCATION:Sovereign Grace URC\, 62 Lamoreaux Drive NE\, Comstock Park\, MI\, 49321\, United States
CATEGORIES:AM Service
END:VEVENT
BEGIN:VEVENT
DTSTART;TZID=America/Detroit:20190901T093000
DTEND;TZID=America/Detroit:20190901T093000
DTSTAMP:20260425T160115
CREATED:20171001T181439Z
LAST-MODIFIED:20171001T181443Z
UID:5705-1567330200-1567330200@sovereigngraceurc.org
SUMMARY:Sunday Morning Worship Service
DESCRIPTION:
URL:https://sovereigngraceurc.org/event/sunday-morning-worship-service-789
LOCATION:Sovereign Grace URC\, 62 Lamoreaux Drive NE\, Comstock Park\, MI\, 49321\, United States
CATEGORIES:AM Service
END:VEVENT
BEGIN:VEVENT
DTSTART;TZID=America/Detroit:20190825T093000
DTEND;TZID=America/Detroit:20190825T093000
DTSTAMP:20260425T160115
CREATED:20171001T181435Z
LAST-MODIFIED:20171001T181442Z
UID:5702-1566725400-1566725400@sovereigngraceurc.org
SUMMARY:Sunday Morning Worship Service
DESCRIPTION:
URL:https://sovereigngraceurc.org/event/sunday-morning-worship-service-788
LOCATION:Sovereign Grace URC\, 62 Lamoreaux Drive NE\, Comstock Park\, MI\, 49321\, United States
CATEGORIES:AM Service
END:VEVENT
BEGIN:VEVENT
DTSTART;TZID=America/Detroit:20190818T093000
DTEND;TZID=America/Detroit:20190818T093000
DTSTAMP:20260425T160115
CREATED:20171001T181427Z
LAST-MODIFIED:20171001T181432Z
UID:5694-1566120600-1566120600@sovereigngraceurc.org
SUMMARY:Sunday Morning Worship Service
DESCRIPTION:
URL:https://sovereigngraceurc.org/event/sunday-morning-worship-service-787
LOCATION:Sovereign Grace URC\, 62 Lamoreaux Drive NE\, Comstock Park\, MI\, 49321\, United States
CATEGORIES:AM Service
END:VEVENT
BEGIN:VEVENT
DTSTART;TZID=America/Detroit:20190728T093000
DTEND;TZID=America/Detroit:20190728T093000
DTSTAMP:20260425T160115
CREATED:20171001T181410Z
LAST-MODIFIED:20171001T181413Z
UID:5680-1564306200-1564306200@sovereigngraceurc.org
SUMMARY:Sunday Morning Worship Service
DESCRIPTION:
URL:https://sovereigngraceurc.org/event/sunday-morning-worship-service-784
LOCATION:Sovereign Grace URC\, 62 Lamoreaux Drive NE\, Comstock Park\, MI\, 49321\, United States
CATEGORIES:AM Service
END:VEVENT
BEGIN:VEVENT
DTSTART;TZID=America/Detroit:20190721T093000
DTEND;TZID=America/Detroit:20190721T093000
DTSTAMP:20260425T160115
CREATED:20171001T181406Z
LAST-MODIFIED:20171001T181413Z
UID:5677-1563701400-1563701400@sovereigngraceurc.org
SUMMARY:Sunday Morning Worship Service
DESCRIPTION:
URL:https://sovereigngraceurc.org/event/sunday-morning-worship-service-783
LOCATION:Sovereign Grace URC\, 62 Lamoreaux Drive NE\, Comstock Park\, MI\, 49321\, United States
CATEGORIES:AM Service
END:VEVENT
BEGIN:VEVENT
DTSTART;TZID=America/Detroit:20190602T093000
DTEND;TZID=America/Detroit:20190602T093000
DTSTAMP:20260425T160115
CREATED:20171001T181333Z
LAST-MODIFIED:20171001T181333Z
UID:5656-1559467800-1559467800@sovereigngraceurc.org
SUMMARY:Sunday Morning Worship Service
DESCRIPTION:
URL:https://sovereigngraceurc.org/event/sunday-morning-worship-service-776
LOCATION:Sovereign Grace URC\, 62 Lamoreaux Drive NE\, Comstock Park\, MI\, 49321\, United States
CATEGORIES:AM Service
END:VEVENT
BEGIN:VEVENT
DTSTART;TZID=America/Detroit:20190526T093000
DTEND;TZID=America/Detroit:20190526T093000
DTSTAMP:20260425T160115
CREATED:20171001T181328Z
LAST-MODIFIED:20171001T181328Z
UID:5653-1558863000-1558863000@sovereigngraceurc.org
SUMMARY:Sunday Morning Worship Service
DESCRIPTION:
URL:https://sovereigngraceurc.org/event/sunday-morning-worship-service-775
LOCATION:Sovereign Grace URC\, 62 Lamoreaux Drive NE\, Comstock Park\, MI\, 49321\, United States
CATEGORIES:AM Service
END:VEVENT
BEGIN:VEVENT
DTSTART;TZID=America/Detroit:20190428T093000
DTEND;TZID=America/Detroit:20190428T093000
DTSTAMP:20260425T160115
CREATED:20171001T181301Z
LAST-MODIFIED:20171001T181301Z
UID:5641-1556443800-1556443800@sovereigngraceurc.org
SUMMARY:Sunday Morning Worship Service
DESCRIPTION:
URL:https://sovereigngraceurc.org/event/sunday-morning-worship-service-771
LOCATION:Sovereign Grace URC\, 62 Lamoreaux Drive NE\, Comstock Park\, MI\, 49321\, United States
CATEGORIES:AM Service
END:VEVENT
END:VCALENDAR