BEGIN:VCALENDAR
VERSION:2.0
PRODID:-//Sovereign Grace URC - ECPv6.15.20//NONSGML v1.0//EN
CALSCALE:GREGORIAN
METHOD:PUBLISH
X-WR-CALNAME:Sovereign Grace URC
X-ORIGINAL-URL:https://sovereigngraceurc.org
X-WR-CALDESC:Events for Sovereign Grace URC
REFRESH-INTERVAL;VALUE=DURATION:PT1H
X-Robots-Tag:noindex
X-PUBLISHED-TTL:PT1H
BEGIN:VTIMEZONE
TZID:America/Detroit
BEGIN:DAYLIGHT
TZOFFSETFROM:-0500
TZOFFSETTO:-0400
TZNAME:EDT
DTSTART:20210314T070000
END:DAYLIGHT
BEGIN:STANDARD
TZOFFSETFROM:-0400
TZOFFSETTO:-0500
TZNAME:EST
DTSTART:20211107T060000
END:STANDARD
BEGIN:DAYLIGHT
TZOFFSETFROM:-0500
TZOFFSETTO:-0400
TZNAME:EDT
DTSTART:20220313T070000
END:DAYLIGHT
BEGIN:STANDARD
TZOFFSETFROM:-0400
TZOFFSETTO:-0500
TZNAME:EST
DTSTART:20221106T060000
END:STANDARD
BEGIN:DAYLIGHT
TZOFFSETFROM:-0500
TZOFFSETTO:-0400
TZNAME:EDT
DTSTART:20230312T070000
END:DAYLIGHT
BEGIN:STANDARD
TZOFFSETFROM:-0400
TZOFFSETTO:-0500
TZNAME:EST
DTSTART:20231105T060000
END:STANDARD
BEGIN:DAYLIGHT
TZOFFSETFROM:-0500
TZOFFSETTO:-0400
TZNAME:EDT
DTSTART:20240310T070000
END:DAYLIGHT
BEGIN:STANDARD
TZOFFSETFROM:-0400
TZOFFSETTO:-0500
TZNAME:EST
DTSTART:20241103T060000
END:STANDARD
END:VTIMEZONE
BEGIN:VEVENT
DTSTART;TZID=America/Detroit:20230108T093000
DTEND;TZID=America/Detroit:20230108T093000
DTSTAMP:20260424T234918
CREATED:20221210T221135Z
LAST-MODIFIED:20221210T221135Z
UID:13267-1673170200-1673170200@sovereigngraceurc.org
SUMMARY:Sunday Morning Worship Service
DESCRIPTION:
URL:https://sovereigngraceurc.org/event/sunday-morning-worship-service-2
CATEGORIES:AM Service
END:VEVENT
BEGIN:VEVENT
DTSTART;TZID=America/Detroit:20230101T093000
DTEND;TZID=America/Detroit:20230101T093000
DTSTAMP:20260424T234918
CREATED:20221210T221134Z
LAST-MODIFIED:20221210T221134Z
UID:13266-1672565400-1672565400@sovereigngraceurc.org
SUMMARY:Sunday Morning Worship Service
DESCRIPTION:
URL:https://sovereigngraceurc.org/event/sunday-morning-worship-service
CATEGORIES:AM Service
END:VEVENT
BEGIN:VEVENT
DTSTART;TZID=America/Detroit:20221225T093000
DTEND;TZID=America/Detroit:20221225T093000
DTSTAMP:20260424T234918
CREATED:20171001T183256Z
LAST-MODIFIED:20171001T183301Z
UID:6436-1671960600-1671960600@sovereigngraceurc.org
SUMMARY:Sunday Morning Worship Service
DESCRIPTION:
URL:https://sovereigngraceurc.org/event/sunday-morning-worship-service-962
LOCATION:Sovereign Grace URC\, 62 Lamoreaux Drive NE\, Comstock Park\, MI\, 49321\, United States
CATEGORIES:AM Service
END:VEVENT
BEGIN:VEVENT
DTSTART;TZID=America/Detroit:20221218T093000
DTEND;TZID=America/Detroit:20221218T093000
DTSTAMP:20260424T234918
CREATED:20171001T183248Z
LAST-MODIFIED:20171001T183251Z
UID:6428-1671355800-1671355800@sovereigngraceurc.org
SUMMARY:Sunday Morning Worship Service
DESCRIPTION:
URL:https://sovereigngraceurc.org/event/sunday-morning-worship-service-961
LOCATION:Sovereign Grace URC\, 62 Lamoreaux Drive NE\, Comstock Park\, MI\, 49321\, United States
CATEGORIES:AM Service
END:VEVENT
BEGIN:VEVENT
DTSTART;TZID=America/Detroit:20221211T093000
DTEND;TZID=America/Detroit:20221211T093000
DTSTAMP:20260424T234918
CREATED:20171001T183243Z
LAST-MODIFIED:20171001T183250Z
UID:6425-1670751000-1670751000@sovereigngraceurc.org
SUMMARY:Sunday Morning Worship Service
DESCRIPTION:
URL:https://sovereigngraceurc.org/event/sunday-morning-worship-service-960
LOCATION:Sovereign Grace URC\, 62 Lamoreaux Drive NE\, Comstock Park\, MI\, 49321\, United States
CATEGORIES:AM Service
END:VEVENT
BEGIN:VEVENT
DTSTART;TZID=America/Detroit:20221204T093000
DTEND;TZID=America/Detroit:20221204T093000
DTSTAMP:20260424T234918
CREATED:20171001T183237Z
LAST-MODIFIED:20171001T183237Z
UID:6422-1670146200-1670146200@sovereigngraceurc.org
SUMMARY:Sunday Morning Worship Service
DESCRIPTION:
URL:https://sovereigngraceurc.org/event/sunday-morning-worship-service-959
LOCATION:Sovereign Grace URC\, 62 Lamoreaux Drive NE\, Comstock Park\, MI\, 49321\, United States
CATEGORIES:AM Service
END:VEVENT
BEGIN:VEVENT
DTSTART;TZID=America/Detroit:20221127T093000
DTEND;TZID=America/Detroit:20221127T093000
DTSTAMP:20260424T234918
CREATED:20171001T183232Z
LAST-MODIFIED:20171001T183232Z
UID:6419-1669541400-1669541400@sovereigngraceurc.org
SUMMARY:Sunday Morning Worship Service
DESCRIPTION:
URL:https://sovereigngraceurc.org/event/sunday-morning-worship-service-958
LOCATION:Sovereign Grace URC\, 62 Lamoreaux Drive NE\, Comstock Park\, MI\, 49321\, United States
CATEGORIES:AM Service
END:VEVENT
BEGIN:VEVENT
DTSTART;TZID=America/Detroit:20221120T093000
DTEND;TZID=America/Detroit:20221120T093000
DTSTAMP:20260424T234918
CREATED:20171001T183224Z
LAST-MODIFIED:20171001T183231Z
UID:6411-1668936600-1668936600@sovereigngraceurc.org
SUMMARY:Sunday Morning Worship Service
DESCRIPTION:
URL:https://sovereigngraceurc.org/event/sunday-morning-worship-service-957
LOCATION:Sovereign Grace URC\, 62 Lamoreaux Drive NE\, Comstock Park\, MI\, 49321\, United States
CATEGORIES:AM Service
END:VEVENT
BEGIN:VEVENT
DTSTART;TZID=America/Detroit:20221030T093000
DTEND;TZID=America/Detroit:20221030T093000
DTSTAMP:20260424T234918
CREATED:20171001T183203Z
LAST-MODIFIED:20171001T183207Z
UID:6397-1667122200-1667122200@sovereigngraceurc.org
SUMMARY:Sunday Morning Worship Service
DESCRIPTION:
URL:https://sovereigngraceurc.org/event/sunday-morning-worship-service-954
LOCATION:Sovereign Grace URC\, 62 Lamoreaux Drive NE\, Comstock Park\, MI\, 49321\, United States
CATEGORIES:AM Service
END:VEVENT
BEGIN:VEVENT
DTSTART;TZID=America/Detroit:20221023T093000
DTEND;TZID=America/Detroit:20221023T093000
DTSTAMP:20260424T234918
CREATED:20171001T183158Z
LAST-MODIFIED:20171001T183206Z
UID:6394-1666517400-1666517400@sovereigngraceurc.org
SUMMARY:Sunday Morning Worship Service
DESCRIPTION:
URL:https://sovereigngraceurc.org/event/sunday-morning-worship-service-953
LOCATION:Sovereign Grace URC\, 62 Lamoreaux Drive NE\, Comstock Park\, MI\, 49321\, United States
CATEGORIES:AM Service
END:VEVENT
BEGIN:VEVENT
DTSTART;TZID=America/Detroit:20221016T093000
DTEND;TZID=America/Detroit:20221016T093000
DTSTAMP:20260424T234918
CREATED:20171001T183146Z
LAST-MODIFIED:20171001T183152Z
UID:6386-1665912600-1665912600@sovereigngraceurc.org
SUMMARY:Sunday Morning Worship Service
DESCRIPTION:
URL:https://sovereigngraceurc.org/event/sunday-morning-worship-service-952
LOCATION:Sovereign Grace URC\, 62 Lamoreaux Drive NE\, Comstock Park\, MI\, 49321\, United States
CATEGORIES:AM Service
END:VEVENT
BEGIN:VEVENT
DTSTART;TZID=America/Detroit:20221009T093000
DTEND;TZID=America/Detroit:20221009T093000
DTSTAMP:20260424T234918
CREATED:20171001T183138Z
LAST-MODIFIED:20171001T183141Z
UID:6378-1665307800-1665307800@sovereigngraceurc.org
SUMMARY:Sunday Morning Worship Service
DESCRIPTION:
URL:https://sovereigngraceurc.org/event/sunday-morning-worship-service-951
LOCATION:Sovereign Grace URC\, 62 Lamoreaux Drive NE\, Comstock Park\, MI\, 49321\, United States
CATEGORIES:AM Service
END:VEVENT
BEGIN:VEVENT
DTSTART;TZID=America/Detroit:20221002T093000
DTEND;TZID=America/Detroit:20221002T093000
DTSTAMP:20260424T234918
CREATED:20171001T183134Z
LAST-MODIFIED:20171001T183140Z
UID:6375-1664703000-1664703000@sovereigngraceurc.org
SUMMARY:Sunday Morning Worship Service
DESCRIPTION:
URL:https://sovereigngraceurc.org/event/sunday-morning-worship-service-950
LOCATION:Sovereign Grace URC\, 62 Lamoreaux Drive NE\, Comstock Park\, MI\, 49321\, United States
CATEGORIES:AM Service
END:VEVENT
BEGIN:VEVENT
DTSTART;TZID=America/Detroit:20220911T093000
DTEND;TZID=America/Detroit:20220911T093000
DTSTAMP:20260424T234918
CREATED:20171001T183112Z
LAST-MODIFIED:20171001T183112Z
UID:6366-1662888600-1662888600@sovereigngraceurc.org
SUMMARY:Sunday Morning Worship Service
DESCRIPTION:
URL:https://sovereigngraceurc.org/event/sunday-morning-worship-service-947
LOCATION:Sovereign Grace URC\, 62 Lamoreaux Drive NE\, Comstock Park\, MI\, 49321\, United States
CATEGORIES:AM Service
END:VEVENT
BEGIN:VEVENT
DTSTART;TZID=America/Detroit:20220821T093000
DTEND;TZID=America/Detroit:20220821T093000
DTSTAMP:20260424T234918
CREATED:20171001T183052Z
LAST-MODIFIED:20171001T183057Z
UID:6352-1661074200-1661074200@sovereigngraceurc.org
SUMMARY:Sunday Morning Worship Service
DESCRIPTION:
URL:https://sovereigngraceurc.org/event/sunday-morning-worship-service-944
LOCATION:Sovereign Grace URC\, 62 Lamoreaux Drive NE\, Comstock Park\, MI\, 49321\, United States
CATEGORIES:AM Service
END:VEVENT
BEGIN:VEVENT
DTSTART;TZID=America/Detroit:20220814T093000
DTEND;TZID=America/Detroit:20220814T093000
DTSTAMP:20260424T234918
CREATED:20171001T183047Z
LAST-MODIFIED:20171001T183055Z
UID:6349-1660469400-1660469400@sovereigngraceurc.org
SUMMARY:Sunday Morning Worship Service
DESCRIPTION:
URL:https://sovereigngraceurc.org/event/sunday-morning-worship-service-943
LOCATION:Sovereign Grace URC\, 62 Lamoreaux Drive NE\, Comstock Park\, MI\, 49321\, United States
CATEGORIES:AM Service
END:VEVENT
BEGIN:VEVENT
DTSTART;TZID=America/Detroit:20220807T093000
DTEND;TZID=America/Detroit:20220807T093000
DTSTAMP:20260424T234918
CREATED:20171001T183040Z
LAST-MODIFIED:20171001T183040Z
UID:6345-1659864600-1659864600@sovereigngraceurc.org
SUMMARY:Sunday Morning Worship Service
DESCRIPTION:
URL:https://sovereigngraceurc.org/event/sunday-morning-worship-service-942
LOCATION:Sovereign Grace URC\, 62 Lamoreaux Drive NE\, Comstock Park\, MI\, 49321\, United States
CATEGORIES:AM Service
END:VEVENT
BEGIN:VEVENT
DTSTART;TZID=America/Detroit:20220731T093000
DTEND;TZID=America/Detroit:20220731T093000
DTSTAMP:20260424T234918
CREATED:20171001T183030Z
LAST-MODIFIED:20171001T183034Z
UID:6337-1659259800-1659259800@sovereigngraceurc.org
SUMMARY:Sunday Morning Worship Service
DESCRIPTION:
URL:https://sovereigngraceurc.org/event/sunday-morning-worship-service-941
LOCATION:Sovereign Grace URC\, 62 Lamoreaux Drive NE\, Comstock Park\, MI\, 49321\, United States
CATEGORIES:AM Service
END:VEVENT
BEGIN:VEVENT
DTSTART;TZID=America/Detroit:20220724T093000
DTEND;TZID=America/Detroit:20220724T093000
DTSTAMP:20260424T234918
CREATED:20171001T183026Z
LAST-MODIFIED:20171001T183033Z
UID:6334-1658655000-1658655000@sovereigngraceurc.org
SUMMARY:Sunday Morning Worship Service
DESCRIPTION:
URL:https://sovereigngraceurc.org/event/sunday-morning-worship-service-940
LOCATION:Sovereign Grace URC\, 62 Lamoreaux Drive NE\, Comstock Park\, MI\, 49321\, United States
CATEGORIES:AM Service
END:VEVENT
BEGIN:VEVENT
DTSTART;TZID=America/Detroit:20220529T093000
DTEND;TZID=America/Detroit:20220529T093000
DTSTAMP:20260424T234918
CREATED:20171001T182928Z
LAST-MODIFIED:20171001T182935Z
UID:6305-1653816600-1653816600@sovereigngraceurc.org
SUMMARY:Sunday Morning Worship Service
DESCRIPTION:
URL:https://sovereigngraceurc.org/event/sunday-morning-worship-service-932
LOCATION:Sovereign Grace URC\, 62 Lamoreaux Drive NE\, Comstock Park\, MI\, 49321\, United States
CATEGORIES:AM Service
END:VEVENT
BEGIN:VEVENT
DTSTART;TZID=America/Detroit:20220522T093000
DTEND;TZID=America/Detroit:20220522T093000
DTSTAMP:20260424T234918
CREATED:20171001T182918Z
LAST-MODIFIED:20171001T182923Z
UID:6296-1653211800-1653211800@sovereigngraceurc.org
SUMMARY:Sunday Morning Worship Service
DESCRIPTION:
URL:https://sovereigngraceurc.org/event/sunday-morning-worship-service-931
LOCATION:Sovereign Grace URC\, 62 Lamoreaux Drive NE\, Comstock Park\, MI\, 49321\, United States
CATEGORIES:AM Service
END:VEVENT
BEGIN:VEVENT
DTSTART;TZID=America/Detroit:20220515T093000
DTEND;TZID=America/Detroit:20220515T093000
DTSTAMP:20260424T234918
CREATED:20171001T182914Z
LAST-MODIFIED:20171001T182921Z
UID:6293-1652607000-1652607000@sovereigngraceurc.org
SUMMARY:Sunday Morning Worship Service
DESCRIPTION:
URL:https://sovereigngraceurc.org/event/sunday-morning-worship-service-930
LOCATION:Sovereign Grace URC\, 62 Lamoreaux Drive NE\, Comstock Park\, MI\, 49321\, United States
CATEGORIES:AM Service
END:VEVENT
BEGIN:VEVENT
DTSTART;TZID=America/Detroit:20220424T093000
DTEND;TZID=America/Detroit:20220424T093000
DTSTAMP:20260424T234918
CREATED:20171001T182851Z
LAST-MODIFIED:20171001T182858Z
UID:6279-1650792600-1650792600@sovereigngraceurc.org
SUMMARY:Sunday Morning Worship Service
DESCRIPTION:
URL:https://sovereigngraceurc.org/event/sunday-morning-worship-service-927
LOCATION:Sovereign Grace URC\, 62 Lamoreaux Drive NE\, Comstock Park\, MI\, 49321\, United States
CATEGORIES:AM Service
END:VEVENT
BEGIN:VEVENT
DTSTART;TZID=America/Detroit:20220403T093000
DTEND;TZID=America/Detroit:20220403T093000
DTSTAMP:20260424T234918
CREATED:20171001T182832Z
LAST-MODIFIED:20171001T182832Z
UID:6270-1648978200-1648978200@sovereigngraceurc.org
SUMMARY:Sunday Morning Worship Service
DESCRIPTION:
URL:https://sovereigngraceurc.org/event/sunday-morning-worship-service-924
LOCATION:Sovereign Grace URC\, 62 Lamoreaux Drive NE\, Comstock Park\, MI\, 49321\, United States
CATEGORIES:AM Service
END:VEVENT
BEGIN:VEVENT
DTSTART;TZID=America/Detroit:20220327T093000
DTEND;TZID=America/Detroit:20220327T093000
DTSTAMP:20260424T234919
CREATED:20171001T182828Z
LAST-MODIFIED:20171001T182828Z
UID:6267-1648373400-1648373400@sovereigngraceurc.org
SUMMARY:Sunday Morning Worship Service
DESCRIPTION:
URL:https://sovereigngraceurc.org/event/sunday-morning-worship-service-923
LOCATION:Sovereign Grace URC\, 62 Lamoreaux Drive NE\, Comstock Park\, MI\, 49321\, United States
CATEGORIES:AM Service
END:VEVENT
BEGIN:VEVENT
DTSTART;TZID=America/Detroit:20220320T093000
DTEND;TZID=America/Detroit:20220320T093000
DTSTAMP:20260424T234919
CREATED:20171001T182817Z
LAST-MODIFIED:20171001T182823Z
UID:6259-1647768600-1647768600@sovereigngraceurc.org
SUMMARY:Sunday Morning Worship Service
DESCRIPTION:
URL:https://sovereigngraceurc.org/event/sunday-morning-worship-service-922
LOCATION:Sovereign Grace URC\, 62 Lamoreaux Drive NE\, Comstock Park\, MI\, 49321\, United States
CATEGORIES:AM Service
END:VEVENT
BEGIN:VEVENT
DTSTART;TZID=America/Detroit:20220313T093000
DTEND;TZID=America/Detroit:20220313T093000
DTSTAMP:20260424T234919
CREATED:20171001T182804Z
LAST-MODIFIED:20171001T182807Z
UID:6251-1647163800-1647163800@sovereigngraceurc.org
SUMMARY:Sunday Morning Worship Service
DESCRIPTION:
URL:https://sovereigngraceurc.org/event/sunday-morning-worship-service-921
LOCATION:Sovereign Grace URC\, 62 Lamoreaux Drive NE\, Comstock Park\, MI\, 49321\, United States
CATEGORIES:AM Service
END:VEVENT
BEGIN:VEVENT
DTSTART;TZID=America/Detroit:20220306T093000
DTEND;TZID=America/Detroit:20220306T093000
DTSTAMP:20260424T234919
CREATED:20171001T182759Z
LAST-MODIFIED:20171001T182806Z
UID:6248-1646559000-1646559000@sovereigngraceurc.org
SUMMARY:Sunday Morning Worship Service
DESCRIPTION:
URL:https://sovereigngraceurc.org/event/sunday-morning-worship-service-920
LOCATION:Sovereign Grace URC\, 62 Lamoreaux Drive NE\, Comstock Park\, MI\, 49321\, United States
CATEGORIES:AM Service
END:VEVENT
BEGIN:VEVENT
DTSTART;TZID=America/Detroit:20220227T093000
DTEND;TZID=America/Detroit:20220227T093000
DTSTAMP:20260424T234919
CREATED:20171001T182754Z
LAST-MODIFIED:20171001T182754Z
UID:6245-1645954200-1645954200@sovereigngraceurc.org
SUMMARY:Sunday Morning Worship Service
DESCRIPTION:
URL:https://sovereigngraceurc.org/event/sunday-morning-worship-service-919
LOCATION:Sovereign Grace URC\, 62 Lamoreaux Drive NE\, Comstock Park\, MI\, 49321\, United States
CATEGORIES:AM Service
END:VEVENT
BEGIN:VEVENT
DTSTART;TZID=America/Detroit:20220220T093000
DTEND;TZID=America/Detroit:20220220T093000
DTSTAMP:20260424T234919
CREATED:20171001T182749Z
LAST-MODIFIED:20171001T182749Z
UID:6242-1645349400-1645349400@sovereigngraceurc.org
SUMMARY:Sunday Morning Worship Service
DESCRIPTION:
URL:https://sovereigngraceurc.org/event/sunday-morning-worship-service-918
LOCATION:Sovereign Grace URC\, 62 Lamoreaux Drive NE\, Comstock Park\, MI\, 49321\, United States
CATEGORIES:AM Service
END:VEVENT
END:VCALENDAR