BEGIN:VCALENDAR
VERSION:2.0
PRODID:-//Sovereign Grace URC - ECPv6.15.20//NONSGML v1.0//EN
CALSCALE:GREGORIAN
METHOD:PUBLISH
X-ORIGINAL-URL:https://sovereigngraceurc.org
X-WR-CALDESC:Events for Sovereign Grace URC
REFRESH-INTERVAL;VALUE=DURATION:PT1H
X-Robots-Tag:noindex
X-PUBLISHED-TTL:PT1H
BEGIN:VTIMEZONE
TZID:America/Detroit
BEGIN:DAYLIGHT
TZOFFSETFROM:-0500
TZOFFSETTO:-0400
TZNAME:EDT
DTSTART:20210314T070000
END:DAYLIGHT
BEGIN:STANDARD
TZOFFSETFROM:-0400
TZOFFSETTO:-0500
TZNAME:EST
DTSTART:20211107T060000
END:STANDARD
BEGIN:DAYLIGHT
TZOFFSETFROM:-0500
TZOFFSETTO:-0400
TZNAME:EDT
DTSTART:20220313T070000
END:DAYLIGHT
BEGIN:STANDARD
TZOFFSETFROM:-0400
TZOFFSETTO:-0500
TZNAME:EST
DTSTART:20221106T060000
END:STANDARD
BEGIN:DAYLIGHT
TZOFFSETFROM:-0500
TZOFFSETTO:-0400
TZNAME:EDT
DTSTART:20230312T070000
END:DAYLIGHT
BEGIN:STANDARD
TZOFFSETFROM:-0400
TZOFFSETTO:-0500
TZNAME:EST
DTSTART:20231105T060000
END:STANDARD
BEGIN:DAYLIGHT
TZOFFSETFROM:-0500
TZOFFSETTO:-0400
TZNAME:EDT
DTSTART:20240310T070000
END:DAYLIGHT
BEGIN:STANDARD
TZOFFSETFROM:-0400
TZOFFSETTO:-0500
TZNAME:EST
DTSTART:20241103T060000
END:STANDARD
END:VTIMEZONE
BEGIN:VEVENT
DTSTART;TZID=America/Detroit:20230528T093000
DTEND;TZID=America/Detroit:20230528T093000
DTSTAMP:20260424T200438
CREATED:20221210T221224Z
LAST-MODIFIED:20221210T221224Z
UID:13288-1685266200-1685266200@sovereigngraceurc.org
SUMMARY:Sunday Morning Worship Service
DESCRIPTION:
URL:https://sovereigngraceurc.org/event/sunday-morning-worship-service-22
CATEGORIES:AM Service
END:VEVENT
BEGIN:VEVENT
DTSTART;TZID=America/Detroit:20230521T093000
DTEND;TZID=America/Detroit:20230521T093000
DTSTAMP:20260424T200438
CREATED:20221210T221223Z
LAST-MODIFIED:20221210T221223Z
UID:13287-1684661400-1684661400@sovereigngraceurc.org
SUMMARY:Sunday Morning Worship Service
DESCRIPTION:
URL:https://sovereigngraceurc.org/event/sunday-morning-worship-service-21
CATEGORIES:AM Service
END:VEVENT
BEGIN:VEVENT
DTSTART;TZID=America/Detroit:20230514T093000
DTEND;TZID=America/Detroit:20230514T093000
DTSTAMP:20260424T200438
CREATED:20221210T221209Z
LAST-MODIFIED:20221210T221209Z
UID:13285-1684056600-1684056600@sovereigngraceurc.org
SUMMARY:Sunday Morning Worship Service
DESCRIPTION:
URL:https://sovereigngraceurc.org/event/sunday-morning-worship-service-20
CATEGORIES:AM Service
END:VEVENT
BEGIN:VEVENT
DTSTART;TZID=America/Detroit:20230507T093000
DTEND;TZID=America/Detroit:20230507T093000
DTSTAMP:20260424T200438
CREATED:20221210T221209Z
LAST-MODIFIED:20221210T221209Z
UID:13284-1683451800-1683451800@sovereigngraceurc.org
SUMMARY:Sunday Morning Worship Service
DESCRIPTION:
URL:https://sovereigngraceurc.org/event/sunday-morning-worship-service-19
CATEGORIES:AM Service
END:VEVENT
BEGIN:VEVENT
DTSTART;TZID=America/Detroit:20230430T093000
DTEND;TZID=America/Detroit:20230430T093000
DTSTAMP:20260424T200438
CREATED:20221210T221209Z
LAST-MODIFIED:20221210T221209Z
UID:13283-1682847000-1682847000@sovereigngraceurc.org
SUMMARY:Sunday Morning Worship Service
DESCRIPTION:
URL:https://sovereigngraceurc.org/event/sunday-morning-worship-service-18
CATEGORIES:AM Service
END:VEVENT
BEGIN:VEVENT
DTSTART;TZID=America/Detroit:20230423T093000
DTEND;TZID=America/Detroit:20230423T093000
DTSTAMP:20260424T200438
CREATED:20221210T221209Z
LAST-MODIFIED:20221210T221209Z
UID:13282-1682242200-1682242200@sovereigngraceurc.org
SUMMARY:Sunday Morning Worship Service
DESCRIPTION:
URL:https://sovereigngraceurc.org/event/sunday-morning-worship-service-17
CATEGORIES:AM Service
END:VEVENT
BEGIN:VEVENT
DTSTART;TZID=America/Detroit:20230416T093000
DTEND;TZID=America/Detroit:20230416T093000
DTSTAMP:20260424T200438
CREATED:20221210T221208Z
LAST-MODIFIED:20221210T221208Z
UID:13281-1681637400-1681637400@sovereigngraceurc.org
SUMMARY:Sunday Morning Worship Service
DESCRIPTION:
URL:https://sovereigngraceurc.org/event/sunday-morning-worship-service-16
CATEGORIES:AM Service
END:VEVENT
BEGIN:VEVENT
DTSTART;TZID=America/Detroit:20230409T093000
DTEND;TZID=America/Detroit:20230409T093000
DTSTAMP:20260424T200438
CREATED:20221210T221154Z
LAST-MODIFIED:20221210T221154Z
UID:13280-1681032600-1681032600@sovereigngraceurc.org
SUMMARY:Sunday Morning Worship Service
DESCRIPTION:
URL:https://sovereigngraceurc.org/event/sunday-morning-worship-service-15
CATEGORIES:AM Service
END:VEVENT
BEGIN:VEVENT
DTSTART;TZID=America/Detroit:20230402T093000
DTEND;TZID=America/Detroit:20230402T093000
DTSTAMP:20260424T200438
CREATED:20221210T221154Z
LAST-MODIFIED:20221210T221154Z
UID:13279-1680427800-1680427800@sovereigngraceurc.org
SUMMARY:Sunday Morning Worship Service
DESCRIPTION:
URL:https://sovereigngraceurc.org/event/sunday-morning-worship-service-14
CATEGORIES:AM Service
END:VEVENT
BEGIN:VEVENT
DTSTART;TZID=America/Detroit:20230326T093000
DTEND;TZID=America/Detroit:20230326T093000
DTSTAMP:20260424T200438
CREATED:20221210T221154Z
LAST-MODIFIED:20221210T221154Z
UID:13278-1679823000-1679823000@sovereigngraceurc.org
SUMMARY:Sunday Morning Worship Service
DESCRIPTION:
URL:https://sovereigngraceurc.org/event/sunday-morning-worship-service-13
CATEGORIES:AM Service
END:VEVENT
BEGIN:VEVENT
DTSTART;TZID=America/Detroit:20230319T093000
DTEND;TZID=America/Detroit:20230319T093000
DTSTAMP:20260424T200438
CREATED:20221210T221154Z
LAST-MODIFIED:20221210T221154Z
UID:13277-1679218200-1679218200@sovereigngraceurc.org
SUMMARY:Sunday Morning Worship Service
DESCRIPTION:
URL:https://sovereigngraceurc.org/event/sunday-morning-worship-service-12
CATEGORIES:AM Service
END:VEVENT
BEGIN:VEVENT
DTSTART;TZID=America/Detroit:20230312T093000
DTEND;TZID=America/Detroit:20230312T093000
DTSTAMP:20260424T200438
CREATED:20221210T221153Z
LAST-MODIFIED:20221210T221153Z
UID:13276-1678613400-1678613400@sovereigngraceurc.org
SUMMARY:Sunday Morning Worship Service
DESCRIPTION:
URL:https://sovereigngraceurc.org/event/sunday-morning-worship-service-11
CATEGORIES:AM Service
END:VEVENT
BEGIN:VEVENT
DTSTART;TZID=America/Detroit:20230305T093000
DTEND;TZID=America/Detroit:20230305T093000
DTSTAMP:20260424T200438
CREATED:20221210T221139Z
LAST-MODIFIED:20221210T221139Z
UID:13275-1678008600-1678008600@sovereigngraceurc.org
SUMMARY:Sunday Morning Worship Service
DESCRIPTION:
URL:https://sovereigngraceurc.org/event/sunday-morning-worship-service-10
CATEGORIES:AM Service
END:VEVENT
BEGIN:VEVENT
DTSTART;TZID=America/Detroit:20230226T093000
DTEND;TZID=America/Detroit:20230226T093000
DTSTAMP:20260424T200438
CREATED:20221210T221139Z
LAST-MODIFIED:20221210T221139Z
UID:13274-1677403800-1677403800@sovereigngraceurc.org
SUMMARY:Sunday Morning Worship Service
DESCRIPTION:
URL:https://sovereigngraceurc.org/event/sunday-morning-worship-service-9
CATEGORIES:AM Service
END:VEVENT
BEGIN:VEVENT
DTSTART;TZID=America/Detroit:20230219T093000
DTEND;TZID=America/Detroit:20230219T093000
DTSTAMP:20260424T200438
CREATED:20221210T221138Z
LAST-MODIFIED:20221210T221138Z
UID:13273-1676799000-1676799000@sovereigngraceurc.org
SUMMARY:Sunday Morning Worship Service
DESCRIPTION:
URL:https://sovereigngraceurc.org/event/sunday-morning-worship-service-8
CATEGORIES:AM Service
END:VEVENT
BEGIN:VEVENT
DTSTART;TZID=America/Detroit:20230212T093000
DTEND;TZID=America/Detroit:20230212T093000
DTSTAMP:20260424T200438
CREATED:20221210T221138Z
LAST-MODIFIED:20221210T221138Z
UID:13272-1676194200-1676194200@sovereigngraceurc.org
SUMMARY:Sunday Morning Worship Service
DESCRIPTION:
URL:https://sovereigngraceurc.org/event/sunday-morning-worship-service-7
CATEGORIES:AM Service
END:VEVENT
BEGIN:VEVENT
DTSTART;TZID=America/Detroit:20230205T093000
DTEND;TZID=America/Detroit:20230205T093000
DTSTAMP:20260424T200438
CREATED:20221210T221138Z
LAST-MODIFIED:20221210T221138Z
UID:13271-1675589400-1675589400@sovereigngraceurc.org
SUMMARY:Sunday Morning Worship Service
DESCRIPTION:
URL:https://sovereigngraceurc.org/event/sunday-morning-worship-service-6
CATEGORIES:AM Service
END:VEVENT
BEGIN:VEVENT
DTSTART;TZID=America/Detroit:20230129T093000
DTEND;TZID=America/Detroit:20230129T093000
DTSTAMP:20260424T200438
CREATED:20221210T221136Z
LAST-MODIFIED:20221210T221136Z
UID:13270-1674984600-1674984600@sovereigngraceurc.org
SUMMARY:Sunday Morning Worship Service
DESCRIPTION:
URL:https://sovereigngraceurc.org/event/sunday-morning-worship-service-5
CATEGORIES:AM Service
END:VEVENT
BEGIN:VEVENT
DTSTART;TZID=America/Detroit:20230122T093000
DTEND;TZID=America/Detroit:20230122T093000
DTSTAMP:20260424T200438
CREATED:20221210T221135Z
LAST-MODIFIED:20221210T221135Z
UID:13269-1674379800-1674379800@sovereigngraceurc.org
SUMMARY:Sunday Morning Worship Service
DESCRIPTION:
URL:https://sovereigngraceurc.org/event/sunday-morning-worship-service-4
CATEGORIES:AM Service
END:VEVENT
BEGIN:VEVENT
DTSTART;TZID=America/Detroit:20230115T093000
DTEND;TZID=America/Detroit:20230115T093000
DTSTAMP:20260424T200438
CREATED:20221210T221135Z
LAST-MODIFIED:20221210T221135Z
UID:13268-1673775000-1673775000@sovereigngraceurc.org
SUMMARY:Sunday Morning Worship Service
DESCRIPTION:
URL:https://sovereigngraceurc.org/event/sunday-morning-worship-service-3
CATEGORIES:AM Service
END:VEVENT
BEGIN:VEVENT
DTSTART;TZID=America/Detroit:20230108T093000
DTEND;TZID=America/Detroit:20230108T093000
DTSTAMP:20260424T200438
CREATED:20221210T221135Z
LAST-MODIFIED:20221210T221135Z
UID:13267-1673170200-1673170200@sovereigngraceurc.org
SUMMARY:Sunday Morning Worship Service
DESCRIPTION:
URL:https://sovereigngraceurc.org/event/sunday-morning-worship-service-2
CATEGORIES:AM Service
END:VEVENT
BEGIN:VEVENT
DTSTART;TZID=America/Detroit:20230101T093000
DTEND;TZID=America/Detroit:20230101T093000
DTSTAMP:20260424T200438
CREATED:20221210T221134Z
LAST-MODIFIED:20221210T221134Z
UID:13266-1672565400-1672565400@sovereigngraceurc.org
SUMMARY:Sunday Morning Worship Service
DESCRIPTION:
URL:https://sovereigngraceurc.org/event/sunday-morning-worship-service
CATEGORIES:AM Service
END:VEVENT
BEGIN:VEVENT
DTSTART;TZID=America/Detroit:20221225T093000
DTEND;TZID=America/Detroit:20221225T093000
DTSTAMP:20260424T200438
CREATED:20171001T183256Z
LAST-MODIFIED:20171001T183301Z
UID:6436-1671960600-1671960600@sovereigngraceurc.org
SUMMARY:Sunday Morning Worship Service
DESCRIPTION:
URL:https://sovereigngraceurc.org/event/sunday-morning-worship-service-962
LOCATION:Sovereign Grace URC\, 62 Lamoreaux Drive NE\, Comstock Park\, MI\, 49321\, United States
CATEGORIES:AM Service
END:VEVENT
BEGIN:VEVENT
DTSTART;TZID=America/Detroit:20221218T093000
DTEND;TZID=America/Detroit:20221218T093000
DTSTAMP:20260424T200438
CREATED:20171001T183248Z
LAST-MODIFIED:20171001T183251Z
UID:6428-1671355800-1671355800@sovereigngraceurc.org
SUMMARY:Sunday Morning Worship Service
DESCRIPTION:
URL:https://sovereigngraceurc.org/event/sunday-morning-worship-service-961
LOCATION:Sovereign Grace URC\, 62 Lamoreaux Drive NE\, Comstock Park\, MI\, 49321\, United States
CATEGORIES:AM Service
END:VEVENT
BEGIN:VEVENT
DTSTART;TZID=America/Detroit:20221211T093000
DTEND;TZID=America/Detroit:20221211T093000
DTSTAMP:20260424T200438
CREATED:20171001T183243Z
LAST-MODIFIED:20171001T183250Z
UID:6425-1670751000-1670751000@sovereigngraceurc.org
SUMMARY:Sunday Morning Worship Service
DESCRIPTION:
URL:https://sovereigngraceurc.org/event/sunday-morning-worship-service-960
LOCATION:Sovereign Grace URC\, 62 Lamoreaux Drive NE\, Comstock Park\, MI\, 49321\, United States
CATEGORIES:AM Service
END:VEVENT
BEGIN:VEVENT
DTSTART;TZID=America/Detroit:20221204T093000
DTEND;TZID=America/Detroit:20221204T093000
DTSTAMP:20260424T200438
CREATED:20171001T183237Z
LAST-MODIFIED:20171001T183237Z
UID:6422-1670146200-1670146200@sovereigngraceurc.org
SUMMARY:Sunday Morning Worship Service
DESCRIPTION:
URL:https://sovereigngraceurc.org/event/sunday-morning-worship-service-959
LOCATION:Sovereign Grace URC\, 62 Lamoreaux Drive NE\, Comstock Park\, MI\, 49321\, United States
CATEGORIES:AM Service
END:VEVENT
BEGIN:VEVENT
DTSTART;TZID=America/Detroit:20221127T093000
DTEND;TZID=America/Detroit:20221127T093000
DTSTAMP:20260424T200438
CREATED:20171001T183232Z
LAST-MODIFIED:20171001T183232Z
UID:6419-1669541400-1669541400@sovereigngraceurc.org
SUMMARY:Sunday Morning Worship Service
DESCRIPTION:
URL:https://sovereigngraceurc.org/event/sunday-morning-worship-service-958
LOCATION:Sovereign Grace URC\, 62 Lamoreaux Drive NE\, Comstock Park\, MI\, 49321\, United States
CATEGORIES:AM Service
END:VEVENT
BEGIN:VEVENT
DTSTART;TZID=America/Detroit:20221120T093000
DTEND;TZID=America/Detroit:20221120T093000
DTSTAMP:20260424T200438
CREATED:20171001T183224Z
LAST-MODIFIED:20171001T183231Z
UID:6411-1668936600-1668936600@sovereigngraceurc.org
SUMMARY:Sunday Morning Worship Service
DESCRIPTION:
URL:https://sovereigngraceurc.org/event/sunday-morning-worship-service-957
LOCATION:Sovereign Grace URC\, 62 Lamoreaux Drive NE\, Comstock Park\, MI\, 49321\, United States
CATEGORIES:AM Service
END:VEVENT
BEGIN:VEVENT
DTSTART;TZID=America/Detroit:20221030T093000
DTEND;TZID=America/Detroit:20221030T093000
DTSTAMP:20260424T200438
CREATED:20171001T183203Z
LAST-MODIFIED:20171001T183207Z
UID:6397-1667122200-1667122200@sovereigngraceurc.org
SUMMARY:Sunday Morning Worship Service
DESCRIPTION:
URL:https://sovereigngraceurc.org/event/sunday-morning-worship-service-954
LOCATION:Sovereign Grace URC\, 62 Lamoreaux Drive NE\, Comstock Park\, MI\, 49321\, United States
CATEGORIES:AM Service
END:VEVENT
BEGIN:VEVENT
DTSTART;TZID=America/Detroit:20221023T093000
DTEND;TZID=America/Detroit:20221023T093000
DTSTAMP:20260424T200438
CREATED:20171001T183158Z
LAST-MODIFIED:20171001T183206Z
UID:6394-1666517400-1666517400@sovereigngraceurc.org
SUMMARY:Sunday Morning Worship Service
DESCRIPTION:
URL:https://sovereigngraceurc.org/event/sunday-morning-worship-service-953
LOCATION:Sovereign Grace URC\, 62 Lamoreaux Drive NE\, Comstock Park\, MI\, 49321\, United States
CATEGORIES:AM Service
END:VEVENT
END:VCALENDAR