BEGIN:VCALENDAR
VERSION:2.0
PRODID:-//Sovereign Grace URC - ECPv6.15.20//NONSGML v1.0//EN
CALSCALE:GREGORIAN
METHOD:PUBLISH
X-WR-CALNAME:Sovereign Grace URC
X-ORIGINAL-URL:https://sovereigngraceurc.org
X-WR-CALDESC:Events for Sovereign Grace URC
REFRESH-INTERVAL;VALUE=DURATION:PT1H
X-Robots-Tag:noindex
X-PUBLISHED-TTL:PT1H
BEGIN:VTIMEZONE
TZID:America/Detroit
BEGIN:DAYLIGHT
TZOFFSETFROM:-0500
TZOFFSETTO:-0400
TZNAME:EDT
DTSTART:20220313T070000
END:DAYLIGHT
BEGIN:STANDARD
TZOFFSETFROM:-0400
TZOFFSETTO:-0500
TZNAME:EST
DTSTART:20221106T060000
END:STANDARD
BEGIN:DAYLIGHT
TZOFFSETFROM:-0500
TZOFFSETTO:-0400
TZNAME:EDT
DTSTART:20230312T070000
END:DAYLIGHT
BEGIN:STANDARD
TZOFFSETFROM:-0400
TZOFFSETTO:-0500
TZNAME:EST
DTSTART:20231105T060000
END:STANDARD
BEGIN:DAYLIGHT
TZOFFSETFROM:-0500
TZOFFSETTO:-0400
TZNAME:EDT
DTSTART:20240310T070000
END:DAYLIGHT
BEGIN:STANDARD
TZOFFSETFROM:-0400
TZOFFSETTO:-0500
TZNAME:EST
DTSTART:20241103T060000
END:STANDARD
BEGIN:DAYLIGHT
TZOFFSETFROM:-0500
TZOFFSETTO:-0400
TZNAME:EDT
DTSTART:20250309T070000
END:DAYLIGHT
BEGIN:STANDARD
TZOFFSETFROM:-0400
TZOFFSETTO:-0500
TZNAME:EST
DTSTART:20251102T060000
END:STANDARD
END:VTIMEZONE
BEGIN:VEVENT
DTSTART;TZID=America/Detroit:20240303T093000
DTEND;TZID=America/Detroit:20240303T093000
DTSTAMP:20260424T114151
CREATED:20240102T031309Z
LAST-MODIFIED:20240102T031309Z
UID:14247-1709458200-1709458200@sovereigngraceurc.org
SUMMARY:Sunday Morning Worship Service
DESCRIPTION:
URL:https://sovereigngraceurc.org/event/sunday-morning-worship-service-62
CATEGORIES:AM Service
END:VEVENT
BEGIN:VEVENT
DTSTART;TZID=America/Detroit:20240225T093000
DTEND;TZID=America/Detroit:20240225T093000
DTSTAMP:20260424T114151
CREATED:20240102T031308Z
LAST-MODIFIED:20240102T031308Z
UID:14246-1708853400-1708853400@sovereigngraceurc.org
SUMMARY:Sunday Morning Worship Service
DESCRIPTION:
URL:https://sovereigngraceurc.org/event/sunday-morning-worship-service-61
CATEGORIES:AM Service
END:VEVENT
BEGIN:VEVENT
DTSTART;TZID=America/Detroit:20240218T093000
DTEND;TZID=America/Detroit:20240218T093000
DTSTAMP:20260424T114151
CREATED:20240102T031308Z
LAST-MODIFIED:20240102T031308Z
UID:14245-1708248600-1708248600@sovereigngraceurc.org
SUMMARY:Sunday Morning Worship Service
DESCRIPTION:
URL:https://sovereigngraceurc.org/event/sunday-morning-worship-service-60
CATEGORIES:AM Service
END:VEVENT
BEGIN:VEVENT
DTSTART;TZID=America/Detroit:20240211T093000
DTEND;TZID=America/Detroit:20240211T093000
DTSTAMP:20260424T114151
CREATED:20240102T031308Z
LAST-MODIFIED:20240102T031308Z
UID:14244-1707643800-1707643800@sovereigngraceurc.org
SUMMARY:Sunday Morning Worship Service
DESCRIPTION:
URL:https://sovereigngraceurc.org/event/sunday-morning-worship-service-59
CATEGORIES:AM Service
END:VEVENT
BEGIN:VEVENT
DTSTART;TZID=America/Detroit:20240204T093000
DTEND;TZID=America/Detroit:20240204T093000
DTSTAMP:20260424T114151
CREATED:20240102T031254Z
LAST-MODIFIED:20240102T031254Z
UID:14243-1707039000-1707039000@sovereigngraceurc.org
SUMMARY:Sunday Morning Worship Service
DESCRIPTION:
URL:https://sovereigngraceurc.org/event/sunday-morning-worship-service-58
CATEGORIES:AM Service
END:VEVENT
BEGIN:VEVENT
DTSTART;TZID=America/Detroit:20240128T093000
DTEND;TZID=America/Detroit:20240128T093000
DTSTAMP:20260424T114151
CREATED:20240102T031254Z
LAST-MODIFIED:20240102T031254Z
UID:14242-1706434200-1706434200@sovereigngraceurc.org
SUMMARY:Sunday Morning Worship Service
DESCRIPTION:
URL:https://sovereigngraceurc.org/event/sunday-morning-worship-service-57
CATEGORIES:AM Service
END:VEVENT
BEGIN:VEVENT
DTSTART;TZID=America/Detroit:20240121T093000
DTEND;TZID=America/Detroit:20240121T093000
DTSTAMP:20260424T114151
CREATED:20240102T031253Z
LAST-MODIFIED:20240102T031253Z
UID:14241-1705829400-1705829400@sovereigngraceurc.org
SUMMARY:Sunday Morning Worship Service
DESCRIPTION:
URL:https://sovereigngraceurc.org/event/sunday-morning-worship-service-56
CATEGORIES:AM Service
END:VEVENT
BEGIN:VEVENT
DTSTART;TZID=America/Detroit:20240114T093000
DTEND;TZID=America/Detroit:20240114T093000
DTSTAMP:20260424T114151
CREATED:20240102T031253Z
LAST-MODIFIED:20240102T031253Z
UID:14240-1705224600-1705224600@sovereigngraceurc.org
SUMMARY:Sunday Morning Worship Service
DESCRIPTION:
URL:https://sovereigngraceurc.org/event/sunday-morning-worship-service-55
CATEGORIES:AM Service
END:VEVENT
BEGIN:VEVENT
DTSTART;TZID=America/Detroit:20240107T093000
DTEND;TZID=America/Detroit:20240107T093000
DTSTAMP:20260424T114151
CREATED:20240102T031253Z
LAST-MODIFIED:20240102T031253Z
UID:14239-1704619800-1704619800@sovereigngraceurc.org
SUMMARY:Sunday Morning Worship Service
DESCRIPTION:
URL:https://sovereigngraceurc.org/event/sunday-morning-worship-service-54
CATEGORIES:AM Service
END:VEVENT
BEGIN:VEVENT
DTSTART;TZID=America/Detroit:20231231T093000
DTEND;TZID=America/Detroit:20231231T093000
DTSTAMP:20260424T114151
CREATED:20221210T221354Z
LAST-MODIFIED:20221210T221354Z
UID:13319-1704015000-1704015000@sovereigngraceurc.org
SUMMARY:Sunday Morning Worship Service
DESCRIPTION:
URL:https://sovereigngraceurc.org/event/sunday-morning-worship-service-53
CATEGORIES:AM Service
END:VEVENT
BEGIN:VEVENT
DTSTART;TZID=America/Detroit:20231224T093000
DTEND;TZID=America/Detroit:20231224T093000
DTSTAMP:20260424T114151
CREATED:20221210T221354Z
LAST-MODIFIED:20221210T221354Z
UID:13318-1703410200-1703410200@sovereigngraceurc.org
SUMMARY:Sunday Morning Worship Service
DESCRIPTION:
URL:https://sovereigngraceurc.org/event/sunday-morning-worship-service-52
CATEGORIES:AM Service
END:VEVENT
BEGIN:VEVENT
DTSTART;TZID=America/Detroit:20231217T093000
DTEND;TZID=America/Detroit:20231217T093000
DTSTAMP:20260424T114151
CREATED:20221210T221353Z
LAST-MODIFIED:20221210T221353Z
UID:13317-1702805400-1702805400@sovereigngraceurc.org
SUMMARY:Sunday Morning Worship Service
DESCRIPTION:
URL:https://sovereigngraceurc.org/event/sunday-morning-worship-service-51
CATEGORIES:AM Service
END:VEVENT
BEGIN:VEVENT
DTSTART;TZID=America/Detroit:20231210T093000
DTEND;TZID=America/Detroit:20231210T093000
DTSTAMP:20260424T114151
CREATED:20221210T221340Z
LAST-MODIFIED:20221210T221340Z
UID:13316-1702200600-1702200600@sovereigngraceurc.org
SUMMARY:Sunday Morning Worship Service
DESCRIPTION:
URL:https://sovereigngraceurc.org/event/sunday-morning-worship-service-50
CATEGORIES:AM Service
END:VEVENT
BEGIN:VEVENT
DTSTART;TZID=America/Detroit:20231203T093000
DTEND;TZID=America/Detroit:20231203T093000
DTSTAMP:20260424T114151
CREATED:20221210T221339Z
LAST-MODIFIED:20221210T221339Z
UID:13315-1701595800-1701595800@sovereigngraceurc.org
SUMMARY:Sunday Morning Worship Service
DESCRIPTION:
URL:https://sovereigngraceurc.org/event/sunday-morning-worship-service-49
CATEGORIES:AM Service
END:VEVENT
BEGIN:VEVENT
DTSTART;TZID=America/Detroit:20231126T093000
DTEND;TZID=America/Detroit:20231126T093000
DTSTAMP:20260424T114151
CREATED:20221210T221339Z
LAST-MODIFIED:20221210T221339Z
UID:13314-1700991000-1700991000@sovereigngraceurc.org
SUMMARY:Sunday Morning Worship Service
DESCRIPTION:
URL:https://sovereigngraceurc.org/event/sunday-morning-worship-service-48
CATEGORIES:AM Service
END:VEVENT
BEGIN:VEVENT
DTSTART;TZID=America/Detroit:20231119T093000
DTEND;TZID=America/Detroit:20231119T093000
DTSTAMP:20260424T114151
CREATED:20221210T221339Z
LAST-MODIFIED:20221210T221339Z
UID:13313-1700386200-1700386200@sovereigngraceurc.org
SUMMARY:Sunday Morning Worship Service
DESCRIPTION:
URL:https://sovereigngraceurc.org/event/sunday-morning-worship-service-47
CATEGORIES:AM Service
END:VEVENT
BEGIN:VEVENT
DTSTART;TZID=America/Detroit:20231112T093000
DTEND;TZID=America/Detroit:20231112T093000
DTSTAMP:20260424T114151
CREATED:20221210T221338Z
LAST-MODIFIED:20221210T221338Z
UID:13312-1699781400-1699781400@sovereigngraceurc.org
SUMMARY:Sunday Morning Worship Service
DESCRIPTION:
URL:https://sovereigngraceurc.org/event/sunday-morning-worship-service-46
CATEGORIES:AM Service
END:VEVENT
BEGIN:VEVENT
DTSTART;TZID=America/Detroit:20231105T093000
DTEND;TZID=America/Detroit:20231105T093000
DTSTAMP:20260424T114151
CREATED:20221210T221325Z
LAST-MODIFIED:20221210T221325Z
UID:13311-1699176600-1699176600@sovereigngraceurc.org
SUMMARY:Sunday Morning Worship Service
DESCRIPTION:
URL:https://sovereigngraceurc.org/event/sunday-morning-worship-service-45
CATEGORIES:AM Service
END:VEVENT
BEGIN:VEVENT
DTSTART;TZID=America/Detroit:20231029T093000
DTEND;TZID=America/Detroit:20231029T093000
DTSTAMP:20260424T114151
CREATED:20221210T221325Z
LAST-MODIFIED:20221210T221325Z
UID:13310-1698571800-1698571800@sovereigngraceurc.org
SUMMARY:Sunday Morning Worship Service
DESCRIPTION:
URL:https://sovereigngraceurc.org/event/sunday-morning-worship-service-44
CATEGORIES:AM Service
END:VEVENT
BEGIN:VEVENT
DTSTART;TZID=America/Detroit:20231022T093000
DTEND;TZID=America/Detroit:20231022T093000
DTSTAMP:20260424T114151
CREATED:20221210T221324Z
LAST-MODIFIED:20221210T221324Z
UID:13309-1697967000-1697967000@sovereigngraceurc.org
SUMMARY:Sunday Morning Worship Service
DESCRIPTION:
URL:https://sovereigngraceurc.org/event/sunday-morning-worship-service-43
CATEGORIES:AM Service
END:VEVENT
BEGIN:VEVENT
DTSTART;TZID=America/Detroit:20231015T093000
DTEND;TZID=America/Detroit:20231015T093000
DTSTAMP:20260424T114151
CREATED:20221210T221324Z
LAST-MODIFIED:20221210T221324Z
UID:13308-1697362200-1697362200@sovereigngraceurc.org
SUMMARY:Sunday Morning Worship Service
DESCRIPTION:
URL:https://sovereigngraceurc.org/event/sunday-morning-worship-service-42
CATEGORIES:AM Service
END:VEVENT
BEGIN:VEVENT
DTSTART;TZID=America/Detroit:20231008T093000
DTEND;TZID=America/Detroit:20231008T093000
DTSTAMP:20260424T114151
CREATED:20221210T221323Z
LAST-MODIFIED:20221210T221323Z
UID:13307-1696757400-1696757400@sovereigngraceurc.org
SUMMARY:Sunday Morning Worship Service
DESCRIPTION:
URL:https://sovereigngraceurc.org/event/sunday-morning-worship-service-41
CATEGORIES:AM Service
END:VEVENT
BEGIN:VEVENT
DTSTART;TZID=America/Detroit:20231001T093000
DTEND;TZID=America/Detroit:20231001T093000
DTSTAMP:20260424T114151
CREATED:20221210T221310Z
LAST-MODIFIED:20221210T221310Z
UID:13306-1696152600-1696152600@sovereigngraceurc.org
SUMMARY:Sunday Morning Worship Service
DESCRIPTION:
URL:https://sovereigngraceurc.org/event/sunday-morning-worship-service-40
CATEGORIES:AM Service
END:VEVENT
BEGIN:VEVENT
DTSTART;TZID=America/Detroit:20230924T093000
DTEND;TZID=America/Detroit:20230924T093000
DTSTAMP:20260424T114151
CREATED:20221210T221309Z
LAST-MODIFIED:20221210T221309Z
UID:13305-1695547800-1695547800@sovereigngraceurc.org
SUMMARY:Sunday Morning Worship Service
DESCRIPTION:
URL:https://sovereigngraceurc.org/event/sunday-morning-worship-service-39
CATEGORIES:AM Service
END:VEVENT
BEGIN:VEVENT
DTSTART;TZID=America/Detroit:20230917T093000
DTEND;TZID=America/Detroit:20230917T093000
DTSTAMP:20260424T114151
CREATED:20221210T221309Z
LAST-MODIFIED:20221210T221309Z
UID:13304-1694943000-1694943000@sovereigngraceurc.org
SUMMARY:Sunday Morning Worship Service
DESCRIPTION:
URL:https://sovereigngraceurc.org/event/sunday-morning-worship-service-38
CATEGORIES:AM Service
END:VEVENT
BEGIN:VEVENT
DTSTART;TZID=America/Detroit:20230910T093000
DTEND;TZID=America/Detroit:20230910T093000
DTSTAMP:20260424T114151
CREATED:20221210T221309Z
LAST-MODIFIED:20221210T221309Z
UID:13303-1694338200-1694338200@sovereigngraceurc.org
SUMMARY:Sunday Morning Worship Service
DESCRIPTION:
URL:https://sovereigngraceurc.org/event/sunday-morning-worship-service-37
CATEGORIES:AM Service
END:VEVENT
BEGIN:VEVENT
DTSTART;TZID=America/Detroit:20230903T093000
DTEND;TZID=America/Detroit:20230903T093000
DTSTAMP:20260424T114151
CREATED:20221210T221309Z
LAST-MODIFIED:20221210T221309Z
UID:13302-1693733400-1693733400@sovereigngraceurc.org
SUMMARY:Sunday Morning Worship Service
DESCRIPTION:
URL:https://sovereigngraceurc.org/event/sunday-morning-worship-service-36
CATEGORIES:AM Service
END:VEVENT
BEGIN:VEVENT
DTSTART;TZID=America/Detroit:20230827T093000
DTEND;TZID=America/Detroit:20230827T093000
DTSTAMP:20260424T114151
CREATED:20221210T221254Z
LAST-MODIFIED:20221210T221254Z
UID:13301-1693128600-1693128600@sovereigngraceurc.org
SUMMARY:Sunday Morning Worship Service
DESCRIPTION:
URL:https://sovereigngraceurc.org/event/sunday-morning-worship-service-35
CATEGORIES:AM Service
END:VEVENT
BEGIN:VEVENT
DTSTART;TZID=America/Detroit:20230820T093000
DTEND;TZID=America/Detroit:20230820T093000
DTSTAMP:20260424T114151
CREATED:20221210T221254Z
LAST-MODIFIED:20221210T221254Z
UID:13300-1692523800-1692523800@sovereigngraceurc.org
SUMMARY:Sunday Morning Worship Service
DESCRIPTION:
URL:https://sovereigngraceurc.org/event/sunday-morning-worship-service-34
CATEGORIES:AM Service
END:VEVENT
BEGIN:VEVENT
DTSTART;TZID=America/Detroit:20230813T093000
DTEND;TZID=America/Detroit:20230813T093000
DTSTAMP:20260424T114151
CREATED:20221210T221254Z
LAST-MODIFIED:20221210T221254Z
UID:13299-1691919000-1691919000@sovereigngraceurc.org
SUMMARY:Sunday Morning Worship Service
DESCRIPTION:
URL:https://sovereigngraceurc.org/event/sunday-morning-worship-service-33
CATEGORIES:AM Service
END:VEVENT
END:VCALENDAR