BEGIN:VCALENDAR
VERSION:2.0
PRODID:-//Sovereign Grace URC - ECPv6.15.20//NONSGML v1.0//EN
CALSCALE:GREGORIAN
METHOD:PUBLISH
X-ORIGINAL-URL:https://sovereigngraceurc.org
X-WR-CALDESC:Events for Sovereign Grace URC
REFRESH-INTERVAL;VALUE=DURATION:PT1H
X-Robots-Tag:noindex
X-PUBLISHED-TTL:PT1H
BEGIN:VTIMEZONE
TZID:America/Detroit
BEGIN:DAYLIGHT
TZOFFSETFROM:-0500
TZOFFSETTO:-0400
TZNAME:EDT
DTSTART:20220313T070000
END:DAYLIGHT
BEGIN:STANDARD
TZOFFSETFROM:-0400
TZOFFSETTO:-0500
TZNAME:EST
DTSTART:20221106T060000
END:STANDARD
BEGIN:DAYLIGHT
TZOFFSETFROM:-0500
TZOFFSETTO:-0400
TZNAME:EDT
DTSTART:20230312T070000
END:DAYLIGHT
BEGIN:STANDARD
TZOFFSETFROM:-0400
TZOFFSETTO:-0500
TZNAME:EST
DTSTART:20231105T060000
END:STANDARD
BEGIN:DAYLIGHT
TZOFFSETFROM:-0500
TZOFFSETTO:-0400
TZNAME:EDT
DTSTART:20240310T070000
END:DAYLIGHT
BEGIN:STANDARD
TZOFFSETFROM:-0400
TZOFFSETTO:-0500
TZNAME:EST
DTSTART:20241103T060000
END:STANDARD
BEGIN:DAYLIGHT
TZOFFSETFROM:-0500
TZOFFSETTO:-0400
TZNAME:EDT
DTSTART:20250309T070000
END:DAYLIGHT
BEGIN:STANDARD
TZOFFSETFROM:-0400
TZOFFSETTO:-0500
TZNAME:EST
DTSTART:20251102T060000
END:STANDARD
END:VTIMEZONE
BEGIN:VEVENT
DTSTART;TZID=America/Detroit:20240721T093000
DTEND;TZID=America/Detroit:20240721T093000
DTSTAMP:20260424T074231
CREATED:20240102T031716Z
LAST-MODIFIED:20240102T031716Z
UID:14267-1721554200-1721554200@sovereigngraceurc.org
SUMMARY:Sunday Morning Worship Service
DESCRIPTION:
URL:https://sovereigngraceurc.org/event/sunday-morning-worship-service-82
CATEGORIES:AM Service
END:VEVENT
BEGIN:VEVENT
DTSTART;TZID=America/Detroit:20240714T093000
DTEND;TZID=America/Detroit:20240714T093000
DTSTAMP:20260424T074231
CREATED:20240102T031716Z
LAST-MODIFIED:20240102T031716Z
UID:14266-1720949400-1720949400@sovereigngraceurc.org
SUMMARY:Sunday Morning Worship Service
DESCRIPTION:
URL:https://sovereigngraceurc.org/event/sunday-morning-worship-service-81
CATEGORIES:AM Service
END:VEVENT
BEGIN:VEVENT
DTSTART;TZID=America/Detroit:20240707T093000
DTEND;TZID=America/Detroit:20240707T093000
DTSTAMP:20260424T074231
CREATED:20240102T031716Z
LAST-MODIFIED:20240102T031716Z
UID:14265-1720344600-1720344600@sovereigngraceurc.org
SUMMARY:Sunday Morning Worship Service
DESCRIPTION:
URL:https://sovereigngraceurc.org/event/sunday-morning-worship-service-80
CATEGORIES:AM Service
END:VEVENT
BEGIN:VEVENT
DTSTART;TZID=America/Detroit:20240630T093000
DTEND;TZID=America/Detroit:20240630T093000
DTSTAMP:20260424T074231
CREATED:20240102T031714Z
LAST-MODIFIED:20240102T031714Z
UID:14264-1719739800-1719739800@sovereigngraceurc.org
SUMMARY:Sunday Morning Worship Service
DESCRIPTION:
URL:https://sovereigngraceurc.org/event/sunday-morning-worship-service-79
CATEGORIES:AM Service
END:VEVENT
BEGIN:VEVENT
DTSTART;TZID=America/Detroit:20240623T093000
DTEND;TZID=America/Detroit:20240623T093000
DTSTAMP:20260424T074231
CREATED:20240102T031516Z
LAST-MODIFIED:20240102T031516Z
UID:14263-1719135000-1719135000@sovereigngraceurc.org
SUMMARY:Sunday Morning Worship Service
DESCRIPTION:
URL:https://sovereigngraceurc.org/event/sunday-morning-worship-service-78
CATEGORIES:AM Service
END:VEVENT
BEGIN:VEVENT
DTSTART;TZID=America/Detroit:20240616T093000
DTEND;TZID=America/Detroit:20240616T093000
DTSTAMP:20260424T074231
CREATED:20240102T031516Z
LAST-MODIFIED:20240102T031516Z
UID:14262-1718530200-1718530200@sovereigngraceurc.org
SUMMARY:Sunday Morning Worship Service
DESCRIPTION:
URL:https://sovereigngraceurc.org/event/sunday-morning-worship-service-77
CATEGORIES:AM Service
END:VEVENT
BEGIN:VEVENT
DTSTART;TZID=America/Detroit:20240609T093000
DTEND;TZID=America/Detroit:20240609T093000
DTSTAMP:20260424T074231
CREATED:20240102T031515Z
LAST-MODIFIED:20240102T031515Z
UID:14261-1717925400-1717925400@sovereigngraceurc.org
SUMMARY:Sunday Morning Worship Service
DESCRIPTION:
URL:https://sovereigngraceurc.org/event/sunday-morning-worship-service-76
CATEGORIES:AM Service
END:VEVENT
BEGIN:VEVENT
DTSTART;TZID=America/Detroit:20240602T093000
DTEND;TZID=America/Detroit:20240602T093000
DTSTAMP:20260424T074231
CREATED:20240102T031515Z
LAST-MODIFIED:20240102T031515Z
UID:14260-1717320600-1717320600@sovereigngraceurc.org
SUMMARY:Sunday Morning Worship Service
DESCRIPTION:
URL:https://sovereigngraceurc.org/event/sunday-morning-worship-service-75
CATEGORIES:AM Service
END:VEVENT
BEGIN:VEVENT
DTSTART;TZID=America/Detroit:20240526T093000
DTEND;TZID=America/Detroit:20240526T093000
DTSTAMP:20260424T074231
CREATED:20240102T031514Z
LAST-MODIFIED:20240102T031514Z
UID:14259-1716715800-1716715800@sovereigngraceurc.org
SUMMARY:Sunday Morning Worship Service
DESCRIPTION:
URL:https://sovereigngraceurc.org/event/sunday-morning-worship-service-74
CATEGORIES:AM Service
END:VEVENT
BEGIN:VEVENT
DTSTART;TZID=America/Detroit:20240519T093000
DTEND;TZID=America/Detroit:20240519T093000
DTSTAMP:20260424T074231
CREATED:20240102T031410Z
LAST-MODIFIED:20240102T031410Z
UID:14258-1716111000-1716111000@sovereigngraceurc.org
SUMMARY:Sunday Morning Worship Service
DESCRIPTION:
URL:https://sovereigngraceurc.org/event/sunday-morning-worship-service-73
CATEGORIES:AM Service
END:VEVENT
BEGIN:VEVENT
DTSTART;TZID=America/Detroit:20240512T093000
DTEND;TZID=America/Detroit:20240512T093000
DTSTAMP:20260424T074231
CREATED:20240102T031410Z
LAST-MODIFIED:20240102T031410Z
UID:14257-1715506200-1715506200@sovereigngraceurc.org
SUMMARY:Sunday Morning Worship Service
DESCRIPTION:
URL:https://sovereigngraceurc.org/event/sunday-morning-worship-service-72
CATEGORIES:AM Service
END:VEVENT
BEGIN:VEVENT
DTSTART;TZID=America/Detroit:20240505T093000
DTEND;TZID=America/Detroit:20240505T093000
DTSTAMP:20260424T074231
CREATED:20240102T031409Z
LAST-MODIFIED:20240102T031409Z
UID:14256-1714901400-1714901400@sovereigngraceurc.org
SUMMARY:Sunday Morning Worship Service
DESCRIPTION:
URL:https://sovereigngraceurc.org/event/sunday-morning-worship-service-71
CATEGORIES:AM Service
END:VEVENT
BEGIN:VEVENT
DTSTART;TZID=America/Detroit:20240428T093000
DTEND;TZID=America/Detroit:20240428T093000
DTSTAMP:20260424T074231
CREATED:20240102T031409Z
LAST-MODIFIED:20240102T031409Z
UID:14255-1714296600-1714296600@sovereigngraceurc.org
SUMMARY:Sunday Morning Worship Service
DESCRIPTION:
URL:https://sovereigngraceurc.org/event/sunday-morning-worship-service-70
CATEGORIES:AM Service
END:VEVENT
BEGIN:VEVENT
DTSTART;TZID=America/Detroit:20240421T093000
DTEND;TZID=America/Detroit:20240421T093000
DTSTAMP:20260424T074231
CREATED:20240102T031409Z
LAST-MODIFIED:20240102T031409Z
UID:14254-1713691800-1713691800@sovereigngraceurc.org
SUMMARY:Sunday Morning Worship Service
DESCRIPTION:
URL:https://sovereigngraceurc.org/event/sunday-morning-worship-service-69
CATEGORIES:AM Service
END:VEVENT
BEGIN:VEVENT
DTSTART;TZID=America/Detroit:20240414T093000
DTEND;TZID=America/Detroit:20240414T093000
DTSTAMP:20260424T074231
CREATED:20240102T031352Z
LAST-MODIFIED:20240102T031352Z
UID:14253-1713087000-1713087000@sovereigngraceurc.org
SUMMARY:Sunday Morning Worship Service
DESCRIPTION:
URL:https://sovereigngraceurc.org/event/sunday-morning-worship-service-68
CATEGORIES:AM Service
END:VEVENT
BEGIN:VEVENT
DTSTART;TZID=America/Detroit:20240407T093000
DTEND;TZID=America/Detroit:20240407T093000
DTSTAMP:20260424T074231
CREATED:20240102T031352Z
LAST-MODIFIED:20240102T031352Z
UID:14252-1712482200-1712482200@sovereigngraceurc.org
SUMMARY:Sunday Morning Worship Service
DESCRIPTION:
URL:https://sovereigngraceurc.org/event/sunday-morning-worship-service-67
CATEGORIES:AM Service
END:VEVENT
BEGIN:VEVENT
DTSTART;TZID=America/Detroit:20240331T093000
DTEND;TZID=America/Detroit:20240331T093000
DTSTAMP:20260424T074231
CREATED:20240102T031351Z
LAST-MODIFIED:20240102T031351Z
UID:14251-1711877400-1711877400@sovereigngraceurc.org
SUMMARY:Sunday Morning Worship Service
DESCRIPTION:
URL:https://sovereigngraceurc.org/event/sunday-morning-worship-service-66
CATEGORIES:AM Service
END:VEVENT
BEGIN:VEVENT
DTSTART;TZID=America/Detroit:20240324T093000
DTEND;TZID=America/Detroit:20240324T093000
DTSTAMP:20260424T074231
CREATED:20240102T031351Z
LAST-MODIFIED:20240102T031351Z
UID:14250-1711272600-1711272600@sovereigngraceurc.org
SUMMARY:Sunday Morning Worship Service
DESCRIPTION:
URL:https://sovereigngraceurc.org/event/sunday-morning-worship-service-65
CATEGORIES:AM Service
END:VEVENT
BEGIN:VEVENT
DTSTART;TZID=America/Detroit:20240317T093000
DTEND;TZID=America/Detroit:20240317T093000
DTSTAMP:20260424T074231
CREATED:20240102T031350Z
LAST-MODIFIED:20240102T031350Z
UID:14249-1710667800-1710667800@sovereigngraceurc.org
SUMMARY:Sunday Morning Worship Service
DESCRIPTION:
URL:https://sovereigngraceurc.org/event/sunday-morning-worship-service-64
CATEGORIES:AM Service
END:VEVENT
BEGIN:VEVENT
DTSTART;TZID=America/Detroit:20240310T093000
DTEND;TZID=America/Detroit:20240310T093000
DTSTAMP:20260424T074231
CREATED:20240102T031309Z
LAST-MODIFIED:20240102T031309Z
UID:14248-1710063000-1710063000@sovereigngraceurc.org
SUMMARY:Sunday Morning Worship Service
DESCRIPTION:
URL:https://sovereigngraceurc.org/event/sunday-morning-worship-service-63
CATEGORIES:AM Service
END:VEVENT
BEGIN:VEVENT
DTSTART;TZID=America/Detroit:20240303T093000
DTEND;TZID=America/Detroit:20240303T093000
DTSTAMP:20260424T074231
CREATED:20240102T031309Z
LAST-MODIFIED:20240102T031309Z
UID:14247-1709458200-1709458200@sovereigngraceurc.org
SUMMARY:Sunday Morning Worship Service
DESCRIPTION:
URL:https://sovereigngraceurc.org/event/sunday-morning-worship-service-62
CATEGORIES:AM Service
END:VEVENT
BEGIN:VEVENT
DTSTART;TZID=America/Detroit:20240225T093000
DTEND;TZID=America/Detroit:20240225T093000
DTSTAMP:20260424T074231
CREATED:20240102T031308Z
LAST-MODIFIED:20240102T031308Z
UID:14246-1708853400-1708853400@sovereigngraceurc.org
SUMMARY:Sunday Morning Worship Service
DESCRIPTION:
URL:https://sovereigngraceurc.org/event/sunday-morning-worship-service-61
CATEGORIES:AM Service
END:VEVENT
BEGIN:VEVENT
DTSTART;TZID=America/Detroit:20240218T093000
DTEND;TZID=America/Detroit:20240218T093000
DTSTAMP:20260424T074231
CREATED:20240102T031308Z
LAST-MODIFIED:20240102T031308Z
UID:14245-1708248600-1708248600@sovereigngraceurc.org
SUMMARY:Sunday Morning Worship Service
DESCRIPTION:
URL:https://sovereigngraceurc.org/event/sunday-morning-worship-service-60
CATEGORIES:AM Service
END:VEVENT
BEGIN:VEVENT
DTSTART;TZID=America/Detroit:20240211T093000
DTEND;TZID=America/Detroit:20240211T093000
DTSTAMP:20260424T074231
CREATED:20240102T031308Z
LAST-MODIFIED:20240102T031308Z
UID:14244-1707643800-1707643800@sovereigngraceurc.org
SUMMARY:Sunday Morning Worship Service
DESCRIPTION:
URL:https://sovereigngraceurc.org/event/sunday-morning-worship-service-59
CATEGORIES:AM Service
END:VEVENT
BEGIN:VEVENT
DTSTART;TZID=America/Detroit:20240204T093000
DTEND;TZID=America/Detroit:20240204T093000
DTSTAMP:20260424T074231
CREATED:20240102T031254Z
LAST-MODIFIED:20240102T031254Z
UID:14243-1707039000-1707039000@sovereigngraceurc.org
SUMMARY:Sunday Morning Worship Service
DESCRIPTION:
URL:https://sovereigngraceurc.org/event/sunday-morning-worship-service-58
CATEGORIES:AM Service
END:VEVENT
BEGIN:VEVENT
DTSTART;TZID=America/Detroit:20240128T093000
DTEND;TZID=America/Detroit:20240128T093000
DTSTAMP:20260424T074231
CREATED:20240102T031254Z
LAST-MODIFIED:20240102T031254Z
UID:14242-1706434200-1706434200@sovereigngraceurc.org
SUMMARY:Sunday Morning Worship Service
DESCRIPTION:
URL:https://sovereigngraceurc.org/event/sunday-morning-worship-service-57
CATEGORIES:AM Service
END:VEVENT
BEGIN:VEVENT
DTSTART;TZID=America/Detroit:20240121T093000
DTEND;TZID=America/Detroit:20240121T093000
DTSTAMP:20260424T074231
CREATED:20240102T031253Z
LAST-MODIFIED:20240102T031253Z
UID:14241-1705829400-1705829400@sovereigngraceurc.org
SUMMARY:Sunday Morning Worship Service
DESCRIPTION:
URL:https://sovereigngraceurc.org/event/sunday-morning-worship-service-56
CATEGORIES:AM Service
END:VEVENT
BEGIN:VEVENT
DTSTART;TZID=America/Detroit:20240114T093000
DTEND;TZID=America/Detroit:20240114T093000
DTSTAMP:20260424T074231
CREATED:20240102T031253Z
LAST-MODIFIED:20240102T031253Z
UID:14240-1705224600-1705224600@sovereigngraceurc.org
SUMMARY:Sunday Morning Worship Service
DESCRIPTION:
URL:https://sovereigngraceurc.org/event/sunday-morning-worship-service-55
CATEGORIES:AM Service
END:VEVENT
BEGIN:VEVENT
DTSTART;TZID=America/Detroit:20240107T093000
DTEND;TZID=America/Detroit:20240107T093000
DTSTAMP:20260424T074231
CREATED:20240102T031253Z
LAST-MODIFIED:20240102T031253Z
UID:14239-1704619800-1704619800@sovereigngraceurc.org
SUMMARY:Sunday Morning Worship Service
DESCRIPTION:
URL:https://sovereigngraceurc.org/event/sunday-morning-worship-service-54
CATEGORIES:AM Service
END:VEVENT
BEGIN:VEVENT
DTSTART;TZID=America/Detroit:20231231T093000
DTEND;TZID=America/Detroit:20231231T093000
DTSTAMP:20260424T074231
CREATED:20221210T221354Z
LAST-MODIFIED:20221210T221354Z
UID:13319-1704015000-1704015000@sovereigngraceurc.org
SUMMARY:Sunday Morning Worship Service
DESCRIPTION:
URL:https://sovereigngraceurc.org/event/sunday-morning-worship-service-53
CATEGORIES:AM Service
END:VEVENT
END:VCALENDAR