BEGIN:VCALENDAR
VERSION:2.0
PRODID:-//Sovereign Grace URC - ECPv6.15.20//NONSGML v1.0//EN
CALSCALE:GREGORIAN
METHOD:PUBLISH
X-ORIGINAL-URL:https://sovereigngraceurc.org
X-WR-CALDESC:Events for Sovereign Grace URC
REFRESH-INTERVAL;VALUE=DURATION:PT1H
X-Robots-Tag:noindex
X-PUBLISHED-TTL:PT1H
BEGIN:VTIMEZONE
TZID:America/Detroit
BEGIN:DAYLIGHT
TZOFFSETFROM:-0500
TZOFFSETTO:-0400
TZNAME:EDT
DTSTART:20230312T070000
END:DAYLIGHT
BEGIN:STANDARD
TZOFFSETFROM:-0400
TZOFFSETTO:-0500
TZNAME:EST
DTSTART:20231105T060000
END:STANDARD
BEGIN:DAYLIGHT
TZOFFSETFROM:-0500
TZOFFSETTO:-0400
TZNAME:EDT
DTSTART:20240310T070000
END:DAYLIGHT
BEGIN:STANDARD
TZOFFSETFROM:-0400
TZOFFSETTO:-0500
TZNAME:EST
DTSTART:20241103T060000
END:STANDARD
BEGIN:DAYLIGHT
TZOFFSETFROM:-0500
TZOFFSETTO:-0400
TZNAME:EDT
DTSTART:20250309T070000
END:DAYLIGHT
BEGIN:STANDARD
TZOFFSETFROM:-0400
TZOFFSETTO:-0500
TZNAME:EST
DTSTART:20251102T060000
END:STANDARD
END:VTIMEZONE
BEGIN:VEVENT
DTSTART;TZID=America/Detroit:20240804T093000
DTEND;TZID=America/Detroit:20240804T093000
DTSTAMP:20260425T001503
CREATED:20240102T031917Z
LAST-MODIFIED:20240102T031917Z
UID:14269-1722763800-1722763800@sovereigngraceurc.org
SUMMARY:Sunday Morning Worship Service
DESCRIPTION:
URL:https://sovereigngraceurc.org/event/sunday-morning-worship-service-84
CATEGORIES:AM Service
END:VEVENT
BEGIN:VEVENT
DTSTART;TZID=America/Detroit:20240811T093000
DTEND;TZID=America/Detroit:20240811T093000
DTSTAMP:20260425T001503
CREATED:20240102T031918Z
LAST-MODIFIED:20240102T031918Z
UID:14270-1723368600-1723368600@sovereigngraceurc.org
SUMMARY:Sunday Morning Worship Service
DESCRIPTION:
URL:https://sovereigngraceurc.org/event/sunday-morning-worship-service-85
CATEGORIES:AM Service
END:VEVENT
BEGIN:VEVENT
DTSTART;TZID=America/Detroit:20240818T093000
DTEND;TZID=America/Detroit:20240818T093000
DTSTAMP:20260425T001503
CREATED:20240102T031918Z
LAST-MODIFIED:20240102T031918Z
UID:14271-1723973400-1723973400@sovereigngraceurc.org
SUMMARY:Sunday Morning Worship Service
DESCRIPTION:
URL:https://sovereigngraceurc.org/event/sunday-morning-worship-service-86
CATEGORIES:AM Service
END:VEVENT
BEGIN:VEVENT
DTSTART;TZID=America/Detroit:20240825T093000
DTEND;TZID=America/Detroit:20240825T093000
DTSTAMP:20260425T001503
CREATED:20240102T031918Z
LAST-MODIFIED:20240102T031918Z
UID:14272-1724578200-1724578200@sovereigngraceurc.org
SUMMARY:Sunday Morning Worship Service
DESCRIPTION:
URL:https://sovereigngraceurc.org/event/sunday-morning-worship-service-87
CATEGORIES:AM Service
END:VEVENT
END:VCALENDAR