BEGIN:VCALENDAR
VERSION:2.0
PRODID:-//Sovereign Grace URC - ECPv6.15.20//NONSGML v1.0//EN
CALSCALE:GREGORIAN
METHOD:PUBLISH
X-WR-CALNAME:Sovereign Grace URC
X-ORIGINAL-URL:https://sovereigngraceurc.org
X-WR-CALDESC:Events for Sovereign Grace URC
REFRESH-INTERVAL;VALUE=DURATION:PT1H
X-Robots-Tag:noindex
X-PUBLISHED-TTL:PT1H
BEGIN:VTIMEZONE
TZID:America/Detroit
BEGIN:DAYLIGHT
TZOFFSETFROM:-0500
TZOFFSETTO:-0400
TZNAME:EDT
DTSTART:20230312T070000
END:DAYLIGHT
BEGIN:STANDARD
TZOFFSETFROM:-0400
TZOFFSETTO:-0500
TZNAME:EST
DTSTART:20231105T060000
END:STANDARD
BEGIN:DAYLIGHT
TZOFFSETFROM:-0500
TZOFFSETTO:-0400
TZNAME:EDT
DTSTART:20240310T070000
END:DAYLIGHT
BEGIN:STANDARD
TZOFFSETFROM:-0400
TZOFFSETTO:-0500
TZNAME:EST
DTSTART:20241103T060000
END:STANDARD
BEGIN:DAYLIGHT
TZOFFSETFROM:-0500
TZOFFSETTO:-0400
TZNAME:EDT
DTSTART:20250309T070000
END:DAYLIGHT
BEGIN:STANDARD
TZOFFSETFROM:-0400
TZOFFSETTO:-0500
TZNAME:EST
DTSTART:20251102T060000
END:STANDARD
END:VTIMEZONE
BEGIN:VEVENT
DTSTART;TZID=America/Detroit:20241103T110000
DTEND;TZID=America/Detroit:20241103T113000
DTSTAMP:20260424T182306
CREATED:20241103T190551Z
LAST-MODIFIED:20241103T190551Z
UID:15185-1730631600-1730633400@sovereigngraceurc.org
SUMMARY:Wisdom Discussion Group
DESCRIPTION:
URL:https://sovereigngraceurc.org/event/wisdom-discussion-group-8
CATEGORIES:Catechism
END:VEVENT
BEGIN:VEVENT
DTSTART;TZID=America/Detroit:20241103T110000
DTEND;TZID=America/Detroit:20241103T113000
DTSTAMP:20260424T182306
CREATED:20241103T190427Z
LAST-MODIFIED:20241103T190427Z
UID:15162-1730631600-1730633400@sovereigngraceurc.org
SUMMARY:Beginers Catechism
DESCRIPTION:
URL:https://sovereigngraceurc.org/event/beginers-catechism-101
CATEGORIES:Catechism
END:VEVENT
BEGIN:VEVENT
DTSTART;TZID=America/Detroit:20240505T110000
DTEND;TZID=America/Detroit:20240505T113000
DTSTAMP:20260424T182306
CREATED:20240101T194856Z
LAST-MODIFIED:20240101T194856Z
UID:14212-1714906800-1714908600@sovereigngraceurc.org
SUMMARY:Seniors Catechism
DESCRIPTION:
URL:https://sovereigngraceurc.org/event/seniors-catechism-86
CATEGORIES:Catechism
END:VEVENT
BEGIN:VEVENT
DTSTART;TZID=America/Detroit:20240505T110000
DTEND;TZID=America/Detroit:20240505T113000
DTSTAMP:20260424T182306
CREATED:20240101T194240Z
LAST-MODIFIED:20240101T194240Z
UID:14193-1714906800-1714908600@sovereigngraceurc.org
SUMMARY:Beginers Catechism
DESCRIPTION:
URL:https://sovereigngraceurc.org/event/beginers-catechism-92
CATEGORIES:Catechism
END:VEVENT
BEGIN:VEVENT
DTSTART;TZID=America/Detroit:20240428T110000
DTEND;TZID=America/Detroit:20240428T113000
DTSTAMP:20260424T182306
CREATED:20240101T194856Z
LAST-MODIFIED:20240101T194856Z
UID:14211-1714302000-1714303800@sovereigngraceurc.org
SUMMARY:Seniors Catechism
DESCRIPTION:
URL:https://sovereigngraceurc.org/event/seniors-catechism-85
CATEGORIES:Catechism
END:VEVENT
BEGIN:VEVENT
DTSTART;TZID=America/Detroit:20240414T110000
DTEND;TZID=America/Detroit:20240414T113000
DTSTAMP:20260424T182306
CREATED:20240101T194656Z
LAST-MODIFIED:20240101T194656Z
UID:14209-1713092400-1713094200@sovereigngraceurc.org
SUMMARY:Seniors Catechism
DESCRIPTION:
URL:https://sovereigngraceurc.org/event/seniors-catechism-83
CATEGORIES:Catechism
END:VEVENT
BEGIN:VEVENT
DTSTART;TZID=America/Detroit:20240414T110000
DTEND;TZID=America/Detroit:20240414T113000
DTSTAMP:20260424T182306
CREATED:20240101T194225Z
LAST-MODIFIED:20240101T194225Z
UID:14190-1713092400-1713094200@sovereigngraceurc.org
SUMMARY:Beginers Catechism
DESCRIPTION:
URL:https://sovereigngraceurc.org/event/beginers-catechism-89
CATEGORIES:Catechism
END:VEVENT
BEGIN:VEVENT
DTSTART;TZID=America/Detroit:20240407T110000
DTEND;TZID=America/Detroit:20240407T113000
DTSTAMP:20260424T182306
CREATED:20240101T194656Z
LAST-MODIFIED:20240101T194656Z
UID:14208-1712487600-1712489400@sovereigngraceurc.org
SUMMARY:Seniors Catechism
DESCRIPTION:
URL:https://sovereigngraceurc.org/event/seniors-catechism-82
CATEGORIES:Catechism
END:VEVENT
BEGIN:VEVENT
DTSTART;TZID=America/Detroit:20240407T110000
DTEND;TZID=America/Detroit:20240407T113000
DTSTAMP:20260424T182306
CREATED:20240101T194225Z
LAST-MODIFIED:20240101T194225Z
UID:14189-1712487600-1712489400@sovereigngraceurc.org
SUMMARY:Beginers Catechism
DESCRIPTION:
URL:https://sovereigngraceurc.org/event/beginers-catechism-88
CATEGORIES:Catechism
END:VEVENT
BEGIN:VEVENT
DTSTART;TZID=America/Detroit:20240331T110000
DTEND;TZID=America/Detroit:20240331T113000
DTSTAMP:20260424T182306
CREATED:20240101T194656Z
LAST-MODIFIED:20240101T194656Z
UID:14207-1711882800-1711884600@sovereigngraceurc.org
SUMMARY:Seniors Catechism
DESCRIPTION:
URL:https://sovereigngraceurc.org/event/seniors-catechism-81
CATEGORIES:Catechism
END:VEVENT
BEGIN:VEVENT
DTSTART;TZID=America/Detroit:20240324T110000
DTEND;TZID=America/Detroit:20240324T113000
DTSTAMP:20260424T182306
CREATED:20240101T194655Z
LAST-MODIFIED:20240101T194655Z
UID:14206-1711278000-1711279800@sovereigngraceurc.org
SUMMARY:Seniors Catechism
DESCRIPTION:
URL:https://sovereigngraceurc.org/event/seniors-catechism-80
CATEGORIES:Catechism
END:VEVENT
BEGIN:VEVENT
DTSTART;TZID=America/Detroit:20240324T110000
DTEND;TZID=America/Detroit:20240324T113000
DTSTAMP:20260424T182306
CREATED:20240101T194225Z
LAST-MODIFIED:20240101T194225Z
UID:14187-1711278000-1711279800@sovereigngraceurc.org
SUMMARY:Beginers Catechism
DESCRIPTION:
URL:https://sovereigngraceurc.org/event/beginers-catechism-86
CATEGORIES:Catechism
END:VEVENT
BEGIN:VEVENT
DTSTART;TZID=America/Detroit:20240317T110000
DTEND;TZID=America/Detroit:20240317T113000
DTSTAMP:20260424T182306
CREATED:20240101T194457Z
LAST-MODIFIED:20240101T194457Z
UID:14205-1710673200-1710675000@sovereigngraceurc.org
SUMMARY:Seniors Catechism
DESCRIPTION:
URL:https://sovereigngraceurc.org/event/seniors-catechism-79
CATEGORIES:Catechism
END:VEVENT
BEGIN:VEVENT
DTSTART;TZID=America/Detroit:20240317T110000
DTEND;TZID=America/Detroit:20240317T113000
DTSTAMP:20260424T182306
CREATED:20240101T194224Z
LAST-MODIFIED:20240101T194224Z
UID:14186-1710673200-1710675000@sovereigngraceurc.org
SUMMARY:Beginers Catechism
DESCRIPTION:
URL:https://sovereigngraceurc.org/event/beginers-catechism-85
CATEGORIES:Catechism
END:VEVENT
BEGIN:VEVENT
DTSTART;TZID=America/Detroit:20240310T110000
DTEND;TZID=America/Detroit:20240310T113000
DTSTAMP:20260424T182306
CREATED:20240101T194456Z
LAST-MODIFIED:20240101T194456Z
UID:14204-1710068400-1710070200@sovereigngraceurc.org
SUMMARY:Seniors Catechism
DESCRIPTION:
URL:https://sovereigngraceurc.org/event/seniors-catechism-78
CATEGORIES:Catechism
END:VEVENT
BEGIN:VEVENT
DTSTART;TZID=America/Detroit:20240310T110000
DTEND;TZID=America/Detroit:20240310T113000
DTSTAMP:20260424T182306
CREATED:20240101T194013Z
LAST-MODIFIED:20240101T194013Z
UID:14179-1710068400-1710070200@sovereigngraceurc.org
SUMMARY:Beginers Catechism
DESCRIPTION:
URL:https://sovereigngraceurc.org/event/beginers-catechism-84
CATEGORIES:Catechism
END:VEVENT
BEGIN:VEVENT
DTSTART;TZID=America/Detroit:20240303T110000
DTEND;TZID=America/Detroit:20240303T113000
DTSTAMP:20260424T182306
CREATED:20240101T194456Z
LAST-MODIFIED:20240101T194456Z
UID:14203-1709463600-1709465400@sovereigngraceurc.org
SUMMARY:Seniors Catechism
DESCRIPTION:
URL:https://sovereigngraceurc.org/event/seniors-catechism-77
CATEGORIES:Catechism
END:VEVENT
BEGIN:VEVENT
DTSTART;TZID=America/Detroit:20240303T110000
DTEND;TZID=America/Detroit:20240303T113000
DTSTAMP:20260424T182306
CREATED:20240101T194012Z
LAST-MODIFIED:20240101T194012Z
UID:14178-1709463600-1709465400@sovereigngraceurc.org
SUMMARY:Beginers Catechism
DESCRIPTION:
URL:https://sovereigngraceurc.org/event/beginers-catechism-83
CATEGORIES:Catechism
END:VEVENT
BEGIN:VEVENT
DTSTART;TZID=America/Detroit:20240225T110000
DTEND;TZID=America/Detroit:20240225T113000
DTSTAMP:20260424T182306
CREATED:20240101T194456Z
LAST-MODIFIED:20240101T194456Z
UID:14202-1708858800-1708860600@sovereigngraceurc.org
SUMMARY:Seniors Catechism
DESCRIPTION:
URL:https://sovereigngraceurc.org/event/seniors-catechism-76
CATEGORIES:Catechism
END:VEVENT
BEGIN:VEVENT
DTSTART;TZID=America/Detroit:20240225T110000
DTEND;TZID=America/Detroit:20240225T113000
DTSTAMP:20260424T182306
CREATED:20240101T194012Z
LAST-MODIFIED:20240101T194012Z
UID:14177-1708858800-1708860600@sovereigngraceurc.org
SUMMARY:Beginers Catechism
DESCRIPTION:
URL:https://sovereigngraceurc.org/event/beginers-catechism-82
CATEGORIES:Catechism
END:VEVENT
BEGIN:VEVENT
DTSTART;TZID=America/Detroit:20240218T110000
DTEND;TZID=America/Detroit:20240218T113000
DTSTAMP:20260424T182306
CREATED:20240101T194455Z
LAST-MODIFIED:20240101T194455Z
UID:14201-1708254000-1708255800@sovereigngraceurc.org
SUMMARY:Seniors Catechism
DESCRIPTION:
URL:https://sovereigngraceurc.org/event/seniors-catechism-75
CATEGORIES:Catechism
END:VEVENT
BEGIN:VEVENT
DTSTART;TZID=America/Detroit:20240218T110000
DTEND;TZID=America/Detroit:20240218T113000
DTSTAMP:20260424T182306
CREATED:20240101T194012Z
LAST-MODIFIED:20240101T194012Z
UID:14176-1708254000-1708255800@sovereigngraceurc.org
SUMMARY:Beginers Catechism
DESCRIPTION:
URL:https://sovereigngraceurc.org/event/beginers-catechism-81
CATEGORIES:Catechism
END:VEVENT
BEGIN:VEVENT
DTSTART;TZID=America/Detroit:20240211T110000
DTEND;TZID=America/Detroit:20240211T113000
DTSTAMP:20260424T182306
CREATED:20240101T194257Z
LAST-MODIFIED:20240101T194257Z
UID:14200-1707649200-1707651000@sovereigngraceurc.org
SUMMARY:Seniors Catechism
DESCRIPTION:
URL:https://sovereigngraceurc.org/event/seniors-catechism-74
CATEGORIES:Catechism
END:VEVENT
BEGIN:VEVENT
DTSTART;TZID=America/Detroit:20240211T110000
DTEND;TZID=America/Detroit:20240211T113000
DTSTAMP:20260424T182306
CREATED:20240101T194011Z
LAST-MODIFIED:20240101T194011Z
UID:14175-1707649200-1707651000@sovereigngraceurc.org
SUMMARY:Beginers Catechism
DESCRIPTION:
URL:https://sovereigngraceurc.org/event/beginers-catechism-80
CATEGORIES:Catechism
END:VEVENT
BEGIN:VEVENT
DTSTART;TZID=America/Detroit:20240204T110000
DTEND;TZID=America/Detroit:20240204T113000
DTSTAMP:20260424T182306
CREATED:20240101T194256Z
LAST-MODIFIED:20240101T194256Z
UID:14199-1707044400-1707046200@sovereigngraceurc.org
SUMMARY:Seniors Catechism
DESCRIPTION:
URL:https://sovereigngraceurc.org/event/seniors-catechism-73
CATEGORIES:Catechism
END:VEVENT
BEGIN:VEVENT
DTSTART;TZID=America/Detroit:20240204T110000
DTEND;TZID=America/Detroit:20240204T113000
DTSTAMP:20260424T182306
CREATED:20240101T194010Z
LAST-MODIFIED:20240101T194010Z
UID:14174-1707044400-1707046200@sovereigngraceurc.org
SUMMARY:Beginers Catechism
DESCRIPTION:
URL:https://sovereigngraceurc.org/event/beginers-catechism-79
CATEGORIES:Catechism
END:VEVENT
BEGIN:VEVENT
DTSTART;TZID=America/Detroit:20240128T160000
DTEND;TZID=America/Detroit:20240128T170000
DTSTAMP:20260424T182306
CREATED:20251130T161838Z
LAST-MODIFIED:20251130T161838Z
UID:16618-1706457600-1706461200@sovereigngraceurc.org
SUMMARY:Reformed Doctrine Class
DESCRIPTION:
URL:https://sovereigngraceurc.org/event/reformed-doctrine-class-4
CATEGORIES:Catechism
END:VEVENT
BEGIN:VEVENT
DTSTART;TZID=America/Detroit:20240128T110000
DTEND;TZID=America/Detroit:20240128T113000
DTSTAMP:20260424T182306
CREATED:20240101T194256Z
LAST-MODIFIED:20240101T194256Z
UID:14198-1706439600-1706441400@sovereigngraceurc.org
SUMMARY:Seniors Catechism
DESCRIPTION:
URL:https://sovereigngraceurc.org/event/seniors-catechism-72
CATEGORIES:Catechism
END:VEVENT
BEGIN:VEVENT
DTSTART;TZID=America/Detroit:20240128T110000
DTEND;TZID=America/Detroit:20240128T113000
DTSTAMP:20260424T182306
CREATED:20240101T194010Z
LAST-MODIFIED:20240101T194010Z
UID:14173-1706439600-1706441400@sovereigngraceurc.org
SUMMARY:Beginers Catechism
DESCRIPTION:
URL:https://sovereigngraceurc.org/event/beginers-catechism-78
CATEGORIES:Catechism
END:VEVENT
BEGIN:VEVENT
DTSTART;TZID=America/Detroit:20240121T110000
DTEND;TZID=America/Detroit:20240121T113000
DTSTAMP:20260424T182306
CREATED:20240101T194256Z
LAST-MODIFIED:20240101T194256Z
UID:14197-1705834800-1705836600@sovereigngraceurc.org
SUMMARY:Seniors Catechism
DESCRIPTION:
URL:https://sovereigngraceurc.org/event/seniors-catechism-71
CATEGORIES:Catechism
END:VEVENT
END:VCALENDAR