BEGIN:VCALENDAR
VERSION:2.0
PRODID:-//Sovereign Grace URC - ECPv6.15.20//NONSGML v1.0//EN
CALSCALE:GREGORIAN
METHOD:PUBLISH
X-WR-CALNAME:Sovereign Grace URC
X-ORIGINAL-URL:https://sovereigngraceurc.org
X-WR-CALDESC:Events for Sovereign Grace URC
REFRESH-INTERVAL;VALUE=DURATION:PT1H
X-Robots-Tag:noindex
X-PUBLISHED-TTL:PT1H
BEGIN:VTIMEZONE
TZID:America/Detroit
BEGIN:DAYLIGHT
TZOFFSETFROM:-0500
TZOFFSETTO:-0400
TZNAME:EDT
DTSTART:20230312T070000
END:DAYLIGHT
BEGIN:STANDARD
TZOFFSETFROM:-0400
TZOFFSETTO:-0500
TZNAME:EST
DTSTART:20231105T060000
END:STANDARD
BEGIN:DAYLIGHT
TZOFFSETFROM:-0500
TZOFFSETTO:-0400
TZNAME:EDT
DTSTART:20240310T070000
END:DAYLIGHT
BEGIN:STANDARD
TZOFFSETFROM:-0400
TZOFFSETTO:-0500
TZNAME:EST
DTSTART:20241103T060000
END:STANDARD
BEGIN:DAYLIGHT
TZOFFSETFROM:-0500
TZOFFSETTO:-0400
TZNAME:EDT
DTSTART:20250309T070000
END:DAYLIGHT
BEGIN:STANDARD
TZOFFSETFROM:-0400
TZOFFSETTO:-0500
TZNAME:EST
DTSTART:20251102T060000
END:STANDARD
BEGIN:DAYLIGHT
TZOFFSETFROM:-0500
TZOFFSETTO:-0400
TZNAME:EDT
DTSTART:20260308T070000
END:DAYLIGHT
BEGIN:STANDARD
TZOFFSETFROM:-0400
TZOFFSETTO:-0500
TZNAME:EST
DTSTART:20261101T060000
END:STANDARD
END:VTIMEZONE
BEGIN:VEVENT
DTSTART;TZID=America/Detroit:20250105T183000
DTEND;TZID=America/Detroit:20250105T191500
DTSTAMP:20260424T144351
CREATED:20250104T014622Z
LAST-MODIFIED:20250104T015252Z
UID:15370-1736101800-1736104500@sovereigngraceurc.org
SUMMARY:Seniors Catechism
DESCRIPTION:
URL:https://sovereigngraceurc.org/event/seniors-catechism-88
CATEGORIES:Catechism
END:VEVENT
BEGIN:VEVENT
DTSTART;TZID=America/Detroit:20250105T183000
DTEND;TZID=America/Detroit:20250105T191500
DTSTAMP:20260424T144351
CREATED:20250104T014526Z
LAST-MODIFIED:20250104T014526Z
UID:15351-1736101800-1736104500@sovereigngraceurc.org
SUMMARY:Beginers Catechism
DESCRIPTION:
URL:https://sovereigngraceurc.org/event/beginers-catechism-108
CATEGORIES:Catechism
END:VEVENT
BEGIN:VEVENT
DTSTART;TZID=America/Detroit:20241215T110000
DTEND;TZID=America/Detroit:20241215T113000
DTSTAMP:20260424T144352
CREATED:20241103T190608Z
LAST-MODIFIED:20241103T190608Z
UID:15191-1734260400-1734262200@sovereigngraceurc.org
SUMMARY:Wisdom Discussion Group
DESCRIPTION:
URL:https://sovereigngraceurc.org/event/wisdom-discussion-group-14
CATEGORIES:Catechism
END:VEVENT
BEGIN:VEVENT
DTSTART;TZID=America/Detroit:20241215T110000
DTEND;TZID=America/Detroit:20241215T113000
DTSTAMP:20260424T144352
CREATED:20241103T190450Z
LAST-MODIFIED:20241103T190450Z
UID:15174-1734260400-1734262200@sovereigngraceurc.org
SUMMARY:Doctrine and Life Class
DESCRIPTION:
URL:https://sovereigngraceurc.org/event/doctrine-and-life-class-12
CATEGORIES:Catechism
END:VEVENT
BEGIN:VEVENT
DTSTART;TZID=America/Detroit:20241215T110000
DTEND;TZID=America/Detroit:20241215T113000
DTSTAMP:20260424T144352
CREATED:20241103T190434Z
LAST-MODIFIED:20241103T190434Z
UID:15168-1734260400-1734262200@sovereigngraceurc.org
SUMMARY:Beginers Catechism
DESCRIPTION:
URL:https://sovereigngraceurc.org/event/beginers-catechism-107
CATEGORIES:Catechism
END:VEVENT
BEGIN:VEVENT
DTSTART;TZID=America/Detroit:20241208T110000
DTEND;TZID=America/Detroit:20241208T113000
DTSTAMP:20260424T144352
CREATED:20241103T190608Z
LAST-MODIFIED:20241103T190608Z
UID:15190-1733655600-1733657400@sovereigngraceurc.org
SUMMARY:Wisdom Discussion Group
DESCRIPTION:
URL:https://sovereigngraceurc.org/event/wisdom-discussion-group-13
CATEGORIES:Catechism
END:VEVENT
BEGIN:VEVENT
DTSTART;TZID=America/Detroit:20241208T110000
DTEND;TZID=America/Detroit:20241208T113000
DTSTAMP:20260424T144352
CREATED:20241103T190449Z
LAST-MODIFIED:20241103T190449Z
UID:15173-1733655600-1733657400@sovereigngraceurc.org
SUMMARY:Doctrine and Life Class
DESCRIPTION:
URL:https://sovereigngraceurc.org/event/doctrine-and-life-class-11
CATEGORIES:Catechism
END:VEVENT
BEGIN:VEVENT
DTSTART;TZID=America/Detroit:20241208T110000
DTEND;TZID=America/Detroit:20241208T113000
DTSTAMP:20260424T144352
CREATED:20241103T190433Z
LAST-MODIFIED:20241103T190433Z
UID:15167-1733655600-1733657400@sovereigngraceurc.org
SUMMARY:Beginers Catechism
DESCRIPTION:
URL:https://sovereigngraceurc.org/event/beginers-catechism-106
CATEGORIES:Catechism
END:VEVENT
BEGIN:VEVENT
DTSTART;TZID=America/Detroit:20241201T110000
DTEND;TZID=America/Detroit:20241201T113000
DTSTAMP:20260424T144352
CREATED:20241103T190607Z
LAST-MODIFIED:20241103T190607Z
UID:15189-1733050800-1733052600@sovereigngraceurc.org
SUMMARY:Wisdom Discussion Group
DESCRIPTION:
URL:https://sovereigngraceurc.org/event/wisdom-discussion-group-12
CATEGORIES:Catechism
END:VEVENT
BEGIN:VEVENT
DTSTART;TZID=America/Detroit:20241201T110000
DTEND;TZID=America/Detroit:20241201T113000
DTSTAMP:20260424T144352
CREATED:20241103T190448Z
LAST-MODIFIED:20241103T190448Z
UID:15172-1733050800-1733052600@sovereigngraceurc.org
SUMMARY:Doctrine and Life Class
DESCRIPTION:
URL:https://sovereigngraceurc.org/event/doctrine-and-life-class-10
CATEGORIES:Catechism
END:VEVENT
BEGIN:VEVENT
DTSTART;TZID=America/Detroit:20241201T110000
DTEND;TZID=America/Detroit:20241201T113000
DTSTAMP:20260424T144352
CREATED:20241103T190430Z
LAST-MODIFIED:20241103T190430Z
UID:15166-1733050800-1733052600@sovereigngraceurc.org
SUMMARY:Beginers Catechism
DESCRIPTION:
URL:https://sovereigngraceurc.org/event/beginers-catechism-105
CATEGORIES:Catechism
END:VEVENT
BEGIN:VEVENT
DTSTART;TZID=America/Detroit:20241124T110000
DTEND;TZID=America/Detroit:20241124T113000
DTSTAMP:20260424T144352
CREATED:20241103T190606Z
LAST-MODIFIED:20241103T190606Z
UID:15188-1732446000-1732447800@sovereigngraceurc.org
SUMMARY:Wisdom Discussion Group
DESCRIPTION:
URL:https://sovereigngraceurc.org/event/wisdom-discussion-group-11
CATEGORIES:Catechism
END:VEVENT
BEGIN:VEVENT
DTSTART;TZID=America/Detroit:20241124T110000
DTEND;TZID=America/Detroit:20241124T113000
DTSTAMP:20260424T144352
CREATED:20241103T190437Z
LAST-MODIFIED:20241103T190437Z
UID:15171-1732446000-1732447800@sovereigngraceurc.org
SUMMARY:Doctrine and Life Class
DESCRIPTION:
URL:https://sovereigngraceurc.org/event/doctrine-and-life-class-9
CATEGORIES:Catechism
END:VEVENT
BEGIN:VEVENT
DTSTART;TZID=America/Detroit:20241124T110000
DTEND;TZID=America/Detroit:20241124T113000
DTSTAMP:20260424T144352
CREATED:20241103T190430Z
LAST-MODIFIED:20241103T190430Z
UID:15165-1732446000-1732447800@sovereigngraceurc.org
SUMMARY:Beginers Catechism
DESCRIPTION:
URL:https://sovereigngraceurc.org/event/beginers-catechism-104
CATEGORIES:Catechism
END:VEVENT
BEGIN:VEVENT
DTSTART;TZID=America/Detroit:20241117T110000
DTEND;TZID=America/Detroit:20241117T113000
DTSTAMP:20260424T144352
CREATED:20241103T190605Z
LAST-MODIFIED:20241103T190605Z
UID:15187-1731841200-1731843000@sovereigngraceurc.org
SUMMARY:Wisdom Discussion Group
DESCRIPTION:
URL:https://sovereigngraceurc.org/event/wisdom-discussion-group-10
CATEGORIES:Catechism
END:VEVENT
BEGIN:VEVENT
DTSTART;TZID=America/Detroit:20241117T110000
DTEND;TZID=America/Detroit:20241117T113000
DTSTAMP:20260424T144352
CREATED:20241103T190436Z
LAST-MODIFIED:20241103T190436Z
UID:15170-1731841200-1731843000@sovereigngraceurc.org
SUMMARY:Doctrine and Life Class
DESCRIPTION:
URL:https://sovereigngraceurc.org/event/doctrine-and-life-class-8
CATEGORIES:Catechism
END:VEVENT
BEGIN:VEVENT
DTSTART;TZID=America/Detroit:20241117T110000
DTEND;TZID=America/Detroit:20241117T113000
DTSTAMP:20260424T144352
CREATED:20241103T190429Z
LAST-MODIFIED:20241103T190429Z
UID:15164-1731841200-1731843000@sovereigngraceurc.org
SUMMARY:Beginers Catechism
DESCRIPTION:
URL:https://sovereigngraceurc.org/event/beginers-catechism-103
CATEGORIES:Catechism
END:VEVENT
BEGIN:VEVENT
DTSTART;TZID=America/Detroit:20241110T110000
DTEND;TZID=America/Detroit:20241110T113000
DTSTAMP:20260424T144352
CREATED:20241103T190551Z
LAST-MODIFIED:20241103T190551Z
UID:15186-1731236400-1731238200@sovereigngraceurc.org
SUMMARY:Wisdom Discussion Group
DESCRIPTION:
URL:https://sovereigngraceurc.org/event/wisdom-discussion-group-9
CATEGORIES:Catechism
END:VEVENT
BEGIN:VEVENT
DTSTART;TZID=America/Detroit:20241110T110000
DTEND;TZID=America/Detroit:20241110T113000
DTSTAMP:20260424T144352
CREATED:20241103T190435Z
LAST-MODIFIED:20241103T190435Z
UID:15169-1731236400-1731238200@sovereigngraceurc.org
SUMMARY:Doctrine and Life Class
DESCRIPTION:
URL:https://sovereigngraceurc.org/event/doctrine-and-life-class-7
CATEGORIES:Catechism
END:VEVENT
BEGIN:VEVENT
DTSTART;TZID=America/Detroit:20241110T110000
DTEND;TZID=America/Detroit:20241110T113000
DTSTAMP:20260424T144352
CREATED:20241103T190428Z
LAST-MODIFIED:20241103T190428Z
UID:15163-1731236400-1731238200@sovereigngraceurc.org
SUMMARY:Beginers Catechism
DESCRIPTION:
URL:https://sovereigngraceurc.org/event/beginers-catechism-102
CATEGORIES:Catechism
END:VEVENT
BEGIN:VEVENT
DTSTART;TZID=America/Detroit:20241103T110000
DTEND;TZID=America/Detroit:20241103T113000
DTSTAMP:20260424T144352
CREATED:20241103T190551Z
LAST-MODIFIED:20241103T190551Z
UID:15185-1730631600-1730633400@sovereigngraceurc.org
SUMMARY:Wisdom Discussion Group
DESCRIPTION:
URL:https://sovereigngraceurc.org/event/wisdom-discussion-group-8
CATEGORIES:Catechism
END:VEVENT
BEGIN:VEVENT
DTSTART;TZID=America/Detroit:20241103T110000
DTEND;TZID=America/Detroit:20241103T113000
DTSTAMP:20260424T144352
CREATED:20241103T190427Z
LAST-MODIFIED:20241103T190427Z
UID:15162-1730631600-1730633400@sovereigngraceurc.org
SUMMARY:Beginers Catechism
DESCRIPTION:
URL:https://sovereigngraceurc.org/event/beginers-catechism-101
CATEGORIES:Catechism
END:VEVENT
BEGIN:VEVENT
DTSTART;TZID=America/Detroit:20240505T110000
DTEND;TZID=America/Detroit:20240505T113000
DTSTAMP:20260424T144352
CREATED:20240101T194856Z
LAST-MODIFIED:20240101T194856Z
UID:14212-1714906800-1714908600@sovereigngraceurc.org
SUMMARY:Seniors Catechism
DESCRIPTION:
URL:https://sovereigngraceurc.org/event/seniors-catechism-86
CATEGORIES:Catechism
END:VEVENT
BEGIN:VEVENT
DTSTART;TZID=America/Detroit:20240505T110000
DTEND;TZID=America/Detroit:20240505T113000
DTSTAMP:20260424T144352
CREATED:20240101T194240Z
LAST-MODIFIED:20240101T194240Z
UID:14193-1714906800-1714908600@sovereigngraceurc.org
SUMMARY:Beginers Catechism
DESCRIPTION:
URL:https://sovereigngraceurc.org/event/beginers-catechism-92
CATEGORIES:Catechism
END:VEVENT
BEGIN:VEVENT
DTSTART;TZID=America/Detroit:20240428T110000
DTEND;TZID=America/Detroit:20240428T113000
DTSTAMP:20260424T144352
CREATED:20240101T194856Z
LAST-MODIFIED:20240101T194856Z
UID:14211-1714302000-1714303800@sovereigngraceurc.org
SUMMARY:Seniors Catechism
DESCRIPTION:
URL:https://sovereigngraceurc.org/event/seniors-catechism-85
CATEGORIES:Catechism
END:VEVENT
BEGIN:VEVENT
DTSTART;TZID=America/Detroit:20240414T110000
DTEND;TZID=America/Detroit:20240414T113000
DTSTAMP:20260424T144352
CREATED:20240101T194656Z
LAST-MODIFIED:20240101T194656Z
UID:14209-1713092400-1713094200@sovereigngraceurc.org
SUMMARY:Seniors Catechism
DESCRIPTION:
URL:https://sovereigngraceurc.org/event/seniors-catechism-83
CATEGORIES:Catechism
END:VEVENT
BEGIN:VEVENT
DTSTART;TZID=America/Detroit:20240414T110000
DTEND;TZID=America/Detroit:20240414T113000
DTSTAMP:20260424T144352
CREATED:20240101T194225Z
LAST-MODIFIED:20240101T194225Z
UID:14190-1713092400-1713094200@sovereigngraceurc.org
SUMMARY:Beginers Catechism
DESCRIPTION:
URL:https://sovereigngraceurc.org/event/beginers-catechism-89
CATEGORIES:Catechism
END:VEVENT
BEGIN:VEVENT
DTSTART;TZID=America/Detroit:20240407T110000
DTEND;TZID=America/Detroit:20240407T113000
DTSTAMP:20260424T144352
CREATED:20240101T194656Z
LAST-MODIFIED:20240101T194656Z
UID:14208-1712487600-1712489400@sovereigngraceurc.org
SUMMARY:Seniors Catechism
DESCRIPTION:
URL:https://sovereigngraceurc.org/event/seniors-catechism-82
CATEGORIES:Catechism
END:VEVENT
BEGIN:VEVENT
DTSTART;TZID=America/Detroit:20240407T110000
DTEND;TZID=America/Detroit:20240407T113000
DTSTAMP:20260424T144352
CREATED:20240101T194225Z
LAST-MODIFIED:20240101T194225Z
UID:14189-1712487600-1712489400@sovereigngraceurc.org
SUMMARY:Beginers Catechism
DESCRIPTION:
URL:https://sovereigngraceurc.org/event/beginers-catechism-88
CATEGORIES:Catechism
END:VEVENT
BEGIN:VEVENT
DTSTART;TZID=America/Detroit:20240331T110000
DTEND;TZID=America/Detroit:20240331T113000
DTSTAMP:20260424T144352
CREATED:20240101T194656Z
LAST-MODIFIED:20240101T194656Z
UID:14207-1711882800-1711884600@sovereigngraceurc.org
SUMMARY:Seniors Catechism
DESCRIPTION:
URL:https://sovereigngraceurc.org/event/seniors-catechism-81
CATEGORIES:Catechism
END:VEVENT
END:VCALENDAR