BEGIN:VCALENDAR
VERSION:2.0
PRODID:-//Sovereign Grace URC - ECPv6.15.20//NONSGML v1.0//EN
CALSCALE:GREGORIAN
METHOD:PUBLISH
X-ORIGINAL-URL:https://sovereigngraceurc.org
X-WR-CALDESC:Events for Sovereign Grace URC
REFRESH-INTERVAL;VALUE=DURATION:PT1H
X-Robots-Tag:noindex
X-PUBLISHED-TTL:PT1H
BEGIN:VTIMEZONE
TZID:America/Detroit
BEGIN:DAYLIGHT
TZOFFSETFROM:-0500
TZOFFSETTO:-0400
TZNAME:EDT
DTSTART:20210314T070000
END:DAYLIGHT
BEGIN:STANDARD
TZOFFSETFROM:-0400
TZOFFSETTO:-0500
TZNAME:EST
DTSTART:20211107T060000
END:STANDARD
BEGIN:DAYLIGHT
TZOFFSETFROM:-0500
TZOFFSETTO:-0400
TZNAME:EDT
DTSTART:20220313T070000
END:DAYLIGHT
BEGIN:STANDARD
TZOFFSETFROM:-0400
TZOFFSETTO:-0500
TZNAME:EST
DTSTART:20221106T060000
END:STANDARD
BEGIN:DAYLIGHT
TZOFFSETFROM:-0500
TZOFFSETTO:-0400
TZNAME:EDT
DTSTART:20230312T070000
END:DAYLIGHT
BEGIN:STANDARD
TZOFFSETFROM:-0400
TZOFFSETTO:-0500
TZNAME:EST
DTSTART:20231105T060000
END:STANDARD
END:VTIMEZONE
BEGIN:VEVENT
DTSTART;TZID=America/Detroit:20220403T110000
DTEND;TZID=America/Detroit:20220403T113000
DTSTAMP:20260426T000906
CREATED:20220108T204125Z
LAST-MODIFIED:20220108T204125Z
UID:12708-1648983600-1648985400@sovereigngraceurc.org
SUMMARY:Belgic Confession Class
DESCRIPTION:
URL:https://sovereigngraceurc.org/event/belgic-confession-class-28
CATEGORIES:Catechism
END:VEVENT
BEGIN:VEVENT
DTSTART;TZID=America/Detroit:20220327T184500
DTEND;TZID=America/Detroit:20220327T193000
DTSTAMP:20260426T000906
CREATED:20220108T204310Z
LAST-MODIFIED:20220108T204310Z
UID:12745-1648406700-1648409400@sovereigngraceurc.org
SUMMARY:Seniors Catechism
DESCRIPTION:
URL:https://sovereigngraceurc.org/event/seniors-catechism-19
CATEGORIES:Catechism
END:VEVENT
BEGIN:VEVENT
DTSTART;TZID=America/Detroit:20220327T110000
DTEND;TZID=America/Detroit:20220327T113000
DTSTAMP:20260426T000906
CREATED:20220108T204224Z
LAST-MODIFIED:20220108T204224Z
UID:12726-1648378800-1648380600@sovereigngraceurc.org
SUMMARY:Beginers Catechism
DESCRIPTION:
URL:https://sovereigngraceurc.org/event/beginers-catechism-26
CATEGORIES:Catechism
END:VEVENT
BEGIN:VEVENT
DTSTART;TZID=America/Detroit:20220327T110000
DTEND;TZID=America/Detroit:20220327T113000
DTSTAMP:20260426T000906
CREATED:20220108T204125Z
LAST-MODIFIED:20220108T204125Z
UID:12707-1648378800-1648380600@sovereigngraceurc.org
SUMMARY:Belgic Confession Class
DESCRIPTION:
URL:https://sovereigngraceurc.org/event/belgic-confession-class-27
CATEGORIES:Catechism
END:VEVENT
BEGIN:VEVENT
DTSTART;TZID=America/Detroit:20220320T184500
DTEND;TZID=America/Detroit:20220320T193000
DTSTAMP:20260426T000906
CREATED:20220108T204310Z
LAST-MODIFIED:20220108T204310Z
UID:12744-1647801900-1647804600@sovereigngraceurc.org
SUMMARY:Seniors Catechism
DESCRIPTION:
URL:https://sovereigngraceurc.org/event/seniors-catechism-18
CATEGORIES:Catechism
END:VEVENT
BEGIN:VEVENT
DTSTART;TZID=America/Detroit:20220320T110000
DTEND;TZID=America/Detroit:20220320T113000
DTSTAMP:20260426T000906
CREATED:20220108T204211Z
LAST-MODIFIED:20220108T204211Z
UID:12725-1647774000-1647775800@sovereigngraceurc.org
SUMMARY:Beginers Catechism
DESCRIPTION:
URL:https://sovereigngraceurc.org/event/beginers-catechism-25
CATEGORIES:Catechism
END:VEVENT
BEGIN:VEVENT
DTSTART;TZID=America/Detroit:20220320T110000
DTEND;TZID=America/Detroit:20220320T113000
DTSTAMP:20260426T000906
CREATED:20220108T204124Z
LAST-MODIFIED:20220108T204124Z
UID:12706-1647774000-1647775800@sovereigngraceurc.org
SUMMARY:Belgic Confession Class
DESCRIPTION:
URL:https://sovereigngraceurc.org/event/belgic-confession-class-26
CATEGORIES:Catechism
END:VEVENT
BEGIN:VEVENT
DTSTART;TZID=America/Detroit:20220313T184500
DTEND;TZID=America/Detroit:20220313T193000
DTSTAMP:20260426T000906
CREATED:20220108T204310Z
LAST-MODIFIED:20220108T204310Z
UID:12743-1647197100-1647199800@sovereigngraceurc.org
SUMMARY:Seniors Catechism
DESCRIPTION:
URL:https://sovereigngraceurc.org/event/seniors-catechism-17
CATEGORIES:Catechism
END:VEVENT
BEGIN:VEVENT
DTSTART;TZID=America/Detroit:20220313T110000
DTEND;TZID=America/Detroit:20220313T113000
DTSTAMP:20260426T000906
CREATED:20220108T204211Z
LAST-MODIFIED:20220108T204211Z
UID:12724-1647169200-1647171000@sovereigngraceurc.org
SUMMARY:Beginers Catechism
DESCRIPTION:
URL:https://sovereigngraceurc.org/event/beginers-catechism-24
CATEGORIES:Catechism
END:VEVENT
BEGIN:VEVENT
DTSTART;TZID=America/Detroit:20220313T110000
DTEND;TZID=America/Detroit:20220313T113000
DTSTAMP:20260426T000906
CREATED:20220108T204111Z
LAST-MODIFIED:20220108T204111Z
UID:12705-1647169200-1647171000@sovereigngraceurc.org
SUMMARY:Belgic Confession Class
DESCRIPTION:
URL:https://sovereigngraceurc.org/event/belgic-confession-class-25
CATEGORIES:Catechism
END:VEVENT
BEGIN:VEVENT
DTSTART;TZID=America/Detroit:20220306T184500
DTEND;TZID=America/Detroit:20220306T193000
DTSTAMP:20260426T000906
CREATED:20220108T204310Z
LAST-MODIFIED:20220108T204310Z
UID:12742-1646592300-1646595000@sovereigngraceurc.org
SUMMARY:Seniors Catechism
DESCRIPTION:
URL:https://sovereigngraceurc.org/event/seniors-catechism-16
CATEGORIES:Catechism
END:VEVENT
BEGIN:VEVENT
DTSTART;TZID=America/Detroit:20220306T110000
DTEND;TZID=America/Detroit:20220306T113000
DTSTAMP:20260426T000906
CREATED:20220108T204210Z
LAST-MODIFIED:20220108T204210Z
UID:12723-1646564400-1646566200@sovereigngraceurc.org
SUMMARY:Beginers Catechism
DESCRIPTION:
URL:https://sovereigngraceurc.org/event/beginers-catechism-23
CATEGORIES:Catechism
END:VEVENT
BEGIN:VEVENT
DTSTART;TZID=America/Detroit:20220306T110000
DTEND;TZID=America/Detroit:20220306T113000
DTSTAMP:20260426T000906
CREATED:20220108T204111Z
LAST-MODIFIED:20220108T204111Z
UID:12704-1646564400-1646566200@sovereigngraceurc.org
SUMMARY:Belgic Confession Class
DESCRIPTION:
URL:https://sovereigngraceurc.org/event/belgic-confession-class-24
CATEGORIES:Catechism
END:VEVENT
BEGIN:VEVENT
DTSTART;TZID=America/Detroit:20220227T184500
DTEND;TZID=America/Detroit:20220227T193000
DTSTAMP:20260426T000906
CREATED:20220108T204309Z
LAST-MODIFIED:20220108T204309Z
UID:12741-1645987500-1645990200@sovereigngraceurc.org
SUMMARY:Seniors Catechism
DESCRIPTION:
URL:https://sovereigngraceurc.org/event/seniors-catechism-15
CATEGORIES:Catechism
END:VEVENT
BEGIN:VEVENT
DTSTART;TZID=America/Detroit:20220227T110000
DTEND;TZID=America/Detroit:20220227T113000
DTSTAMP:20260426T000906
CREATED:20220108T204210Z
LAST-MODIFIED:20220108T204210Z
UID:12722-1645959600-1645961400@sovereigngraceurc.org
SUMMARY:Beginers Catechism
DESCRIPTION:
URL:https://sovereigngraceurc.org/event/beginers-catechism-22
CATEGORIES:Catechism
END:VEVENT
BEGIN:VEVENT
DTSTART;TZID=America/Detroit:20220227T110000
DTEND;TZID=America/Detroit:20220227T113000
DTSTAMP:20260426T000906
CREATED:20220108T204110Z
LAST-MODIFIED:20220108T204110Z
UID:12703-1645959600-1645961400@sovereigngraceurc.org
SUMMARY:Belgic Confession Class
DESCRIPTION:
URL:https://sovereigngraceurc.org/event/belgic-confession-class-23
CATEGORIES:Catechism
END:VEVENT
BEGIN:VEVENT
DTSTART;TZID=America/Detroit:20220220T184500
DTEND;TZID=America/Detroit:20220220T193000
DTSTAMP:20260426T000906
CREATED:20220108T204255Z
LAST-MODIFIED:20220108T204255Z
UID:12740-1645382700-1645385400@sovereigngraceurc.org
SUMMARY:Seniors Catechism
DESCRIPTION:
URL:https://sovereigngraceurc.org/event/seniors-catechism-14
CATEGORIES:Catechism
END:VEVENT
BEGIN:VEVENT
DTSTART;TZID=America/Detroit:20220220T110000
DTEND;TZID=America/Detroit:20220220T113000
DTSTAMP:20260426T000906
CREATED:20220108T204209Z
LAST-MODIFIED:20220108T204209Z
UID:12721-1645354800-1645356600@sovereigngraceurc.org
SUMMARY:Beginers Catechism
DESCRIPTION:
URL:https://sovereigngraceurc.org/event/beginers-catechism-21
CATEGORIES:Catechism
END:VEVENT
BEGIN:VEVENT
DTSTART;TZID=America/Detroit:20220220T110000
DTEND;TZID=America/Detroit:20220220T113000
DTSTAMP:20260426T000906
CREATED:20220108T204110Z
LAST-MODIFIED:20220108T204110Z
UID:12702-1645354800-1645356600@sovereigngraceurc.org
SUMMARY:Belgic Confession Class
DESCRIPTION:
URL:https://sovereigngraceurc.org/event/belgic-confession-class-22
CATEGORIES:Catechism
END:VEVENT
BEGIN:VEVENT
DTSTART;TZID=America/Detroit:20220213T184500
DTEND;TZID=America/Detroit:20220213T193000
DTSTAMP:20260426T000906
CREATED:20220108T204255Z
LAST-MODIFIED:20220108T204255Z
UID:12739-1644777900-1644780600@sovereigngraceurc.org
SUMMARY:Seniors Catechism
DESCRIPTION:
URL:https://sovereigngraceurc.org/event/seniors-catechism-13
CATEGORIES:Catechism
END:VEVENT
BEGIN:VEVENT
DTSTART;TZID=America/Detroit:20220213T110000
DTEND;TZID=America/Detroit:20220213T113000
DTSTAMP:20260426T000906
CREATED:20220108T204156Z
LAST-MODIFIED:20220108T204156Z
UID:12720-1644750000-1644751800@sovereigngraceurc.org
SUMMARY:Beginers Catechism
DESCRIPTION:
URL:https://sovereigngraceurc.org/event/beginers-catechism-20
CATEGORIES:Catechism
END:VEVENT
BEGIN:VEVENT
DTSTART;TZID=America/Detroit:20220213T110000
DTEND;TZID=America/Detroit:20220213T113000
DTSTAMP:20260426T000906
CREATED:20220108T204110Z
LAST-MODIFIED:20220108T204110Z
UID:12701-1644750000-1644751800@sovereigngraceurc.org
SUMMARY:Belgic Confession Class
DESCRIPTION:
URL:https://sovereigngraceurc.org/event/belgic-confession-class-21
CATEGORIES:Catechism
END:VEVENT
BEGIN:VEVENT
DTSTART;TZID=America/Detroit:20220206T184500
DTEND;TZID=America/Detroit:20220206T193000
DTSTAMP:20260426T000906
CREATED:20220108T204255Z
LAST-MODIFIED:20220108T204255Z
UID:12738-1644173100-1644175800@sovereigngraceurc.org
SUMMARY:Seniors Catechism
DESCRIPTION:
URL:https://sovereigngraceurc.org/event/seniors-catechism-12
CATEGORIES:Catechism
END:VEVENT
BEGIN:VEVENT
DTSTART;TZID=America/Detroit:20220206T110000
DTEND;TZID=America/Detroit:20220206T113000
DTSTAMP:20260426T000906
CREATED:20220108T204155Z
LAST-MODIFIED:20220108T204155Z
UID:12719-1644145200-1644147000@sovereigngraceurc.org
SUMMARY:Beginers Catechism
DESCRIPTION:
URL:https://sovereigngraceurc.org/event/beginers-catechism-19
CATEGORIES:Catechism
END:VEVENT
BEGIN:VEVENT
DTSTART;TZID=America/Detroit:20220206T110000
DTEND;TZID=America/Detroit:20220206T113000
DTSTAMP:20260426T000906
CREATED:20220108T204059Z
LAST-MODIFIED:20220108T204059Z
UID:12700-1644145200-1644147000@sovereigngraceurc.org
SUMMARY:Belgic Confession Class
DESCRIPTION:
URL:https://sovereigngraceurc.org/event/belgic-confession-class-20
CATEGORIES:Catechism
END:VEVENT
BEGIN:VEVENT
DTSTART;TZID=America/Detroit:20220130T184500
DTEND;TZID=America/Detroit:20220130T193000
DTSTAMP:20260426T000906
CREATED:20220108T204255Z
LAST-MODIFIED:20220108T204255Z
UID:12737-1643568300-1643571000@sovereigngraceurc.org
SUMMARY:Seniors Catechism
DESCRIPTION:
URL:https://sovereigngraceurc.org/event/seniors-catechism-11
CATEGORIES:Catechism
END:VEVENT
BEGIN:VEVENT
DTSTART;TZID=America/Detroit:20220130T110000
DTEND;TZID=America/Detroit:20220130T113000
DTSTAMP:20260426T000906
CREATED:20220108T204155Z
LAST-MODIFIED:20220108T204155Z
UID:12718-1643540400-1643542200@sovereigngraceurc.org
SUMMARY:Beginers Catechism
DESCRIPTION:
URL:https://sovereigngraceurc.org/event/beginers-catechism-18
CATEGORIES:Catechism
END:VEVENT
BEGIN:VEVENT
DTSTART;TZID=America/Detroit:20220130T110000
DTEND;TZID=America/Detroit:20220130T113000
DTSTAMP:20260426T000906
CREATED:20220108T204059Z
LAST-MODIFIED:20220108T204059Z
UID:12699-1643540400-1643542200@sovereigngraceurc.org
SUMMARY:Belgic Confession Class
DESCRIPTION:
URL:https://sovereigngraceurc.org/event/belgic-confession-class-19
CATEGORIES:Catechism
END:VEVENT
BEGIN:VEVENT
DTSTART;TZID=America/Detroit:20220123T184500
DTEND;TZID=America/Detroit:20220123T193000
DTSTAMP:20260426T000906
CREATED:20220108T204254Z
LAST-MODIFIED:20220108T204254Z
UID:12736-1642963500-1642966200@sovereigngraceurc.org
SUMMARY:Seniors Catechism
DESCRIPTION:
URL:https://sovereigngraceurc.org/event/seniors-catechism-10
CATEGORIES:Catechism
END:VEVENT
BEGIN:VEVENT
DTSTART;TZID=America/Detroit:20220123T110000
DTEND;TZID=America/Detroit:20220123T113000
DTSTAMP:20260426T000906
CREATED:20220108T204155Z
LAST-MODIFIED:20220108T204155Z
UID:12717-1642935600-1642937400@sovereigngraceurc.org
SUMMARY:Beginers Catechism
DESCRIPTION:
URL:https://sovereigngraceurc.org/event/beginers-catechism-17
CATEGORIES:Catechism
END:VEVENT
END:VCALENDAR