BEGIN:VCALENDAR
VERSION:2.0
PRODID:-//Sovereign Grace URC - ECPv6.15.20//NONSGML v1.0//EN
CALSCALE:GREGORIAN
METHOD:PUBLISH
X-WR-CALNAME:Sovereign Grace URC
X-ORIGINAL-URL:https://sovereigngraceurc.org
X-WR-CALDESC:Events for Sovereign Grace URC
REFRESH-INTERVAL;VALUE=DURATION:PT1H
X-Robots-Tag:noindex
X-PUBLISHED-TTL:PT1H
BEGIN:VTIMEZONE
TZID:America/Detroit
BEGIN:DAYLIGHT
TZOFFSETFROM:-0500
TZOFFSETTO:-0400
TZNAME:EDT
DTSTART:20210314T070000
END:DAYLIGHT
BEGIN:STANDARD
TZOFFSETFROM:-0400
TZOFFSETTO:-0500
TZNAME:EST
DTSTART:20211107T060000
END:STANDARD
BEGIN:DAYLIGHT
TZOFFSETFROM:-0500
TZOFFSETTO:-0400
TZNAME:EDT
DTSTART:20220313T070000
END:DAYLIGHT
BEGIN:STANDARD
TZOFFSETFROM:-0400
TZOFFSETTO:-0500
TZNAME:EST
DTSTART:20221106T060000
END:STANDARD
BEGIN:DAYLIGHT
TZOFFSETFROM:-0500
TZOFFSETTO:-0400
TZNAME:EDT
DTSTART:20230312T070000
END:DAYLIGHT
BEGIN:STANDARD
TZOFFSETFROM:-0400
TZOFFSETTO:-0500
TZNAME:EST
DTSTART:20231105T060000
END:STANDARD
END:VTIMEZONE
BEGIN:VEVENT
DTSTART;TZID=America/Detroit:20221106T184500
DTEND;TZID=America/Detroit:20221106T193000
DTSTAMP:20260425T153439
CREATED:20220911T193115Z
LAST-MODIFIED:20220911T193115Z
UID:13098-1667760300-1667763000@sovereigngraceurc.org
SUMMARY:Seniors Catechism
DESCRIPTION:
URL:https://sovereigngraceurc.org/event/seniors-catechism-33
CATEGORIES:Catechism
END:VEVENT
BEGIN:VEVENT
DTSTART;TZID=America/Detroit:20221106T110000
DTEND;TZID=America/Detroit:20221106T113000
DTSTAMP:20260425T153439
CREATED:20220911T193035Z
LAST-MODIFIED:20220911T193035Z
UID:13084-1667732400-1667734200@sovereigngraceurc.org
SUMMARY:Beginers Catechism
DESCRIPTION:
URL:https://sovereigngraceurc.org/event/beginers-catechism-39
CATEGORIES:Catechism
END:VEVENT
BEGIN:VEVENT
DTSTART;TZID=America/Detroit:20221106T110000
DTEND;TZID=America/Detroit:20221106T113000
DTSTAMP:20260425T153439
CREATED:20220911T192948Z
LAST-MODIFIED:20220911T192948Z
UID:13070-1667732400-1667734200@sovereigngraceurc.org
SUMMARY:Belgic Confession Class
DESCRIPTION:
URL:https://sovereigngraceurc.org/event/belgic-confession-class-39
CATEGORIES:Catechism
END:VEVENT
BEGIN:VEVENT
DTSTART;TZID=America/Detroit:20221030T184500
DTEND;TZID=America/Detroit:20221030T193000
DTSTAMP:20260425T153439
CREATED:20220911T193115Z
LAST-MODIFIED:20220911T193115Z
UID:13097-1667155500-1667158200@sovereigngraceurc.org
SUMMARY:Seniors Catechism
DESCRIPTION:
URL:https://sovereigngraceurc.org/event/seniors-catechism-32
CATEGORIES:Catechism
END:VEVENT
BEGIN:VEVENT
DTSTART;TZID=America/Detroit:20221030T110000
DTEND;TZID=America/Detroit:20221030T113000
DTSTAMP:20260425T153439
CREATED:20220911T193035Z
LAST-MODIFIED:20220911T193035Z
UID:13083-1667127600-1667129400@sovereigngraceurc.org
SUMMARY:Beginers Catechism
DESCRIPTION:
URL:https://sovereigngraceurc.org/event/beginers-catechism-38
CATEGORIES:Catechism
END:VEVENT
BEGIN:VEVENT
DTSTART;TZID=America/Detroit:20221030T110000
DTEND;TZID=America/Detroit:20221030T113000
DTSTAMP:20260425T153439
CREATED:20220911T192948Z
LAST-MODIFIED:20220911T192948Z
UID:13069-1667127600-1667129400@sovereigngraceurc.org
SUMMARY:Belgic Confession Class
DESCRIPTION:
URL:https://sovereigngraceurc.org/event/belgic-confession-class-38
CATEGORIES:Catechism
END:VEVENT
BEGIN:VEVENT
DTSTART;TZID=America/Detroit:20221023T184500
DTEND;TZID=America/Detroit:20221023T193000
DTSTAMP:20260425T153439
CREATED:20220911T193101Z
LAST-MODIFIED:20220911T193101Z
UID:13096-1666550700-1666553400@sovereigngraceurc.org
SUMMARY:Seniors Catechism
DESCRIPTION:
URL:https://sovereigngraceurc.org/event/seniors-catechism-31
CATEGORIES:Catechism
END:VEVENT
BEGIN:VEVENT
DTSTART;TZID=America/Detroit:20221023T110000
DTEND;TZID=America/Detroit:20221023T113000
DTSTAMP:20260425T153439
CREATED:20220911T193034Z
LAST-MODIFIED:20220911T193034Z
UID:13082-1666522800-1666524600@sovereigngraceurc.org
SUMMARY:Beginers Catechism
DESCRIPTION:
URL:https://sovereigngraceurc.org/event/beginers-catechism-37
CATEGORIES:Catechism
END:VEVENT
BEGIN:VEVENT
DTSTART;TZID=America/Detroit:20221023T110000
DTEND;TZID=America/Detroit:20221023T113000
DTSTAMP:20260425T153439
CREATED:20220911T192947Z
LAST-MODIFIED:20220911T192947Z
UID:13068-1666522800-1666524600@sovereigngraceurc.org
SUMMARY:Belgic Confession Class
DESCRIPTION:
URL:https://sovereigngraceurc.org/event/belgic-confession-class-37
CATEGORIES:Catechism
END:VEVENT
BEGIN:VEVENT
DTSTART;TZID=America/Detroit:20221016T184500
DTEND;TZID=America/Detroit:20221016T193000
DTSTAMP:20260425T153439
CREATED:20220911T193100Z
LAST-MODIFIED:20220911T193100Z
UID:13095-1665945900-1665948600@sovereigngraceurc.org
SUMMARY:Seniors Catechism
DESCRIPTION:
URL:https://sovereigngraceurc.org/event/seniors-catechism-30
CATEGORIES:Catechism
END:VEVENT
BEGIN:VEVENT
DTSTART;TZID=America/Detroit:20221016T110000
DTEND;TZID=America/Detroit:20221016T113000
DTSTAMP:20260425T153439
CREATED:20220911T193020Z
LAST-MODIFIED:20220911T193020Z
UID:13081-1665918000-1665919800@sovereigngraceurc.org
SUMMARY:Beginers Catechism
DESCRIPTION:
URL:https://sovereigngraceurc.org/event/beginers-catechism-36
CATEGORIES:Catechism
END:VEVENT
BEGIN:VEVENT
DTSTART;TZID=America/Detroit:20221016T110000
DTEND;TZID=America/Detroit:20221016T113000
DTSTAMP:20260425T153439
CREATED:20220911T192947Z
LAST-MODIFIED:20220911T192947Z
UID:13067-1665918000-1665919800@sovereigngraceurc.org
SUMMARY:Belgic Confession Class
DESCRIPTION:
URL:https://sovereigngraceurc.org/event/belgic-confession-class-36
CATEGORIES:Catechism
END:VEVENT
BEGIN:VEVENT
DTSTART;TZID=America/Detroit:20221009T184500
DTEND;TZID=America/Detroit:20221009T193000
DTSTAMP:20260425T153439
CREATED:20220911T193100Z
LAST-MODIFIED:20220911T193100Z
UID:13094-1665341100-1665343800@sovereigngraceurc.org
SUMMARY:Seniors Catechism
DESCRIPTION:
URL:https://sovereigngraceurc.org/event/seniors-catechism-29
CATEGORIES:Catechism
END:VEVENT
BEGIN:VEVENT
DTSTART;TZID=America/Detroit:20221009T110000
DTEND;TZID=America/Detroit:20221009T113000
DTSTAMP:20260425T153439
CREATED:20220911T193020Z
LAST-MODIFIED:20220911T193020Z
UID:13080-1665313200-1665315000@sovereigngraceurc.org
SUMMARY:Beginers Catechism
DESCRIPTION:
URL:https://sovereigngraceurc.org/event/beginers-catechism-35
CATEGORIES:Catechism
END:VEVENT
BEGIN:VEVENT
DTSTART;TZID=America/Detroit:20221009T110000
DTEND;TZID=America/Detroit:20221009T113000
DTSTAMP:20260425T153439
CREATED:20220911T192945Z
LAST-MODIFIED:20220911T192945Z
UID:13066-1665313200-1665315000@sovereigngraceurc.org
SUMMARY:Belgic Confession Class
DESCRIPTION:
URL:https://sovereigngraceurc.org/event/belgic-confession-class-35
CATEGORIES:Catechism
END:VEVENT
BEGIN:VEVENT
DTSTART;TZID=America/Detroit:20221002T110000
DTEND;TZID=America/Detroit:20221002T120000
DTSTAMP:20260425T153439
CREATED:20220911T193100Z
LAST-MODIFIED:20220930T005237Z
UID:13093-1664708400-1664712000@sovereigngraceurc.org
SUMMARY:Seniors Catechism
DESCRIPTION:
URL:https://sovereigngraceurc.org/event/seniors-catechism-28
LOCATION:Sovereign Grace URC\, 62 Lamoreaux Drive NE\, Comstock Park\, MI\, 49321\, United States
CATEGORIES:Catechism
END:VEVENT
BEGIN:VEVENT
DTSTART;TZID=America/Detroit:20221002T110000
DTEND;TZID=America/Detroit:20221002T113000
DTSTAMP:20260425T153439
CREATED:20220911T193019Z
LAST-MODIFIED:20220911T193019Z
UID:13079-1664708400-1664710200@sovereigngraceurc.org
SUMMARY:Beginers Catechism
DESCRIPTION:
URL:https://sovereigngraceurc.org/event/beginers-catechism-34
CATEGORIES:Catechism
END:VEVENT
BEGIN:VEVENT
DTSTART;TZID=America/Detroit:20220925T184500
DTEND;TZID=America/Detroit:20220925T193000
DTSTAMP:20260425T153439
CREATED:20220911T193100Z
LAST-MODIFIED:20220911T193100Z
UID:13092-1664131500-1664134200@sovereigngraceurc.org
SUMMARY:Seniors Catechism
DESCRIPTION:
URL:https://sovereigngraceurc.org/event/seniors-catechism-27
CATEGORIES:Catechism
END:VEVENT
BEGIN:VEVENT
DTSTART;TZID=America/Detroit:20220925T110000
DTEND;TZID=America/Detroit:20220925T113000
DTSTAMP:20260425T153439
CREATED:20220911T193019Z
LAST-MODIFIED:20220911T193019Z
UID:13078-1664103600-1664105400@sovereigngraceurc.org
SUMMARY:Beginers Catechism
DESCRIPTION:
URL:https://sovereigngraceurc.org/event/beginers-catechism-29
CATEGORIES:Catechism
END:VEVENT
BEGIN:VEVENT
DTSTART;TZID=America/Detroit:20220925T110000
DTEND;TZID=America/Detroit:20220925T113000
DTSTAMP:20260425T153439
CREATED:20220911T192945Z
LAST-MODIFIED:20220911T192945Z
UID:13064-1664103600-1664105400@sovereigngraceurc.org
SUMMARY:Belgic Confession Class
DESCRIPTION:
URL:https://sovereigngraceurc.org/event/belgic-confession-class-29
CATEGORIES:Catechism
END:VEVENT
BEGIN:VEVENT
DTSTART;TZID=America/Detroit:20220918T184500
DTEND;TZID=America/Detroit:20220918T193000
DTSTAMP:20260425T153439
CREATED:20220911T193050Z
LAST-MODIFIED:20220911T193320Z
UID:13091-1663526700-1663529400@sovereigngraceurc.org
SUMMARY:Seniors Catechism
DESCRIPTION:
URL:https://sovereigngraceurc.org/event/seniors-catechism-22
LOCATION:Sovereign Grace URC\, 62 Lamoreaux Drive NE\, Comstock Park\, MI\, 49321\, United States
CATEGORIES:Catechism
END:VEVENT
BEGIN:VEVENT
DTSTART;TZID=America/Detroit:20220918T110000
DTEND;TZID=America/Detroit:20220918T113000
DTSTAMP:20260425T153439
CREATED:20220911T193018Z
LAST-MODIFIED:20220911T193217Z
UID:13077-1663498800-1663500600@sovereigngraceurc.org
SUMMARY:Beginers Catechism
DESCRIPTION:
URL:https://sovereigngraceurc.org/event/beginers-catechism-28
CATEGORIES:Catechism
END:VEVENT
BEGIN:VEVENT
DTSTART;TZID=America/Detroit:20220918T110000
DTEND;TZID=America/Detroit:20220918T113000
DTSTAMP:20260425T153439
CREATED:20220911T192944Z
LAST-MODIFIED:20220911T193259Z
UID:13063-1663498800-1663500600@sovereigngraceurc.org
SUMMARY:Belgic Confession Class
DESCRIPTION:
URL:https://sovereigngraceurc.org/event/belgic-confession-class-15
LOCATION:Sovereign Grace URC\, 62 Lamoreaux Drive NE\, Comstock Park\, MI\, 49321\, United States
CATEGORIES:Catechism
END:VEVENT
BEGIN:VEVENT
DTSTART;TZID=America/Detroit:20220911T184500
DTEND;TZID=America/Detroit:20220911T193000
DTSTAMP:20260425T153439
CREATED:20220911T193050Z
LAST-MODIFIED:20220911T193050Z
UID:13090-1662921900-1662924600@sovereigngraceurc.org
SUMMARY:Seniors Catechism
DESCRIPTION:
URL:https://sovereigngraceurc.org/event/seniors-catechism-21
CATEGORIES:Catechism
END:VEVENT
BEGIN:VEVENT
DTSTART;TZID=America/Detroit:20220911T110000
DTEND;TZID=America/Detroit:20220911T113000
DTSTAMP:20260425T153439
CREATED:20220911T193004Z
LAST-MODIFIED:20220911T193004Z
UID:13076-1662894000-1662895800@sovereigngraceurc.org
SUMMARY:Beginers Catechism
DESCRIPTION:
URL:https://sovereigngraceurc.org/event/beginers-catechism-14
CATEGORIES:Catechism
END:VEVENT
BEGIN:VEVENT
DTSTART;TZID=America/Detroit:20220911T110000
DTEND;TZID=America/Detroit:20220911T113000
DTSTAMP:20260425T153439
CREATED:20220911T192944Z
LAST-MODIFIED:20220911T192944Z
UID:13062-1662894000-1662895800@sovereigngraceurc.org
SUMMARY:Belgic Confession Class
DESCRIPTION:
URL:https://sovereigngraceurc.org/event/belgic-confession-class-13
CATEGORIES:Catechism
END:VEVENT
BEGIN:VEVENT
DTSTART;TZID=America/Detroit:20220515T184500
DTEND;TZID=America/Detroit:20220515T193000
DTSTAMP:20260425T153439
CREATED:20220108T204338Z
LAST-MODIFIED:20220108T204338Z
UID:12752-1652640300-1652643000@sovereigngraceurc.org
SUMMARY:Seniors Catechism
DESCRIPTION:
URL:https://sovereigngraceurc.org/event/seniors-catechism-26
CATEGORIES:Catechism
END:VEVENT
BEGIN:VEVENT
DTSTART;TZID=America/Detroit:20220515T110000
DTEND;TZID=America/Detroit:20220515T113000
DTSTAMP:20260425T153439
CREATED:20220108T204240Z
LAST-MODIFIED:20220108T204240Z
UID:12733-1652612400-1652614200@sovereigngraceurc.org
SUMMARY:Beginers Catechism
DESCRIPTION:
URL:https://sovereigngraceurc.org/event/beginers-catechism-33
CATEGORIES:Catechism
END:VEVENT
BEGIN:VEVENT
DTSTART;TZID=America/Detroit:20220515T110000
DTEND;TZID=America/Detroit:20220515T113000
DTSTAMP:20260425T153439
CREATED:20220108T204141Z
LAST-MODIFIED:20220108T204141Z
UID:12714-1652612400-1652614200@sovereigngraceurc.org
SUMMARY:Belgic Confession Class
DESCRIPTION:
URL:https://sovereigngraceurc.org/event/belgic-confession-class-34
CATEGORIES:Catechism
END:VEVENT
BEGIN:VEVENT
DTSTART;TZID=America/Detroit:20220508T184500
DTEND;TZID=America/Detroit:20220508T193000
DTSTAMP:20260425T153439
CREATED:20220108T204338Z
LAST-MODIFIED:20220108T204338Z
UID:12751-1652035500-1652038200@sovereigngraceurc.org
SUMMARY:Seniors Catechism
DESCRIPTION:
URL:https://sovereigngraceurc.org/event/seniors-catechism-25
CATEGORIES:Catechism
END:VEVENT
END:VCALENDAR