BEGIN:VCALENDAR
VERSION:2.0
PRODID:-//Sovereign Grace URC - ECPv6.15.20//NONSGML v1.0//EN
CALSCALE:GREGORIAN
METHOD:PUBLISH
X-ORIGINAL-URL:https://sovereigngraceurc.org
X-WR-CALDESC:Events for Sovereign Grace URC
REFRESH-INTERVAL;VALUE=DURATION:PT1H
X-Robots-Tag:noindex
X-PUBLISHED-TTL:PT1H
BEGIN:VTIMEZONE
TZID:America/Detroit
BEGIN:DAYLIGHT
TZOFFSETFROM:-0500
TZOFFSETTO:-0400
TZNAME:EDT
DTSTART:20240310T070000
END:DAYLIGHT
BEGIN:STANDARD
TZOFFSETFROM:-0400
TZOFFSETTO:-0500
TZNAME:EST
DTSTART:20241103T060000
END:STANDARD
BEGIN:DAYLIGHT
TZOFFSETFROM:-0500
TZOFFSETTO:-0400
TZNAME:EDT
DTSTART:20250309T070000
END:DAYLIGHT
BEGIN:STANDARD
TZOFFSETFROM:-0400
TZOFFSETTO:-0500
TZNAME:EST
DTSTART:20251102T060000
END:STANDARD
BEGIN:DAYLIGHT
TZOFFSETFROM:-0500
TZOFFSETTO:-0400
TZNAME:EDT
DTSTART:20260308T070000
END:DAYLIGHT
BEGIN:STANDARD
TZOFFSETFROM:-0400
TZOFFSETTO:-0500
TZNAME:EST
DTSTART:20261101T060000
END:STANDARD
END:VTIMEZONE
BEGIN:VEVENT
DTSTART;TZID=America/Detroit:20250105T183000
DTEND;TZID=America/Detroit:20250105T191500
DTSTAMP:20260425T121025
CREATED:20250104T014622Z
LAST-MODIFIED:20250104T015252Z
UID:15370-1736101800-1736104500@sovereigngraceurc.org
SUMMARY:Seniors Catechism
DESCRIPTION:
URL:https://sovereigngraceurc.org/event/seniors-catechism-88
CATEGORIES:Catechism
END:VEVENT
BEGIN:VEVENT
DTSTART;TZID=America/Detroit:20250112T183000
DTEND;TZID=America/Detroit:20250112T191500
DTSTAMP:20260425T121025
CREATED:20250104T014526Z
LAST-MODIFIED:20250104T014526Z
UID:15352-1736706600-1736709300@sovereigngraceurc.org
SUMMARY:Beginers Catechism
DESCRIPTION:
URL:https://sovereigngraceurc.org/event/beginers-catechism-109
CATEGORIES:Catechism
END:VEVENT
BEGIN:VEVENT
DTSTART;TZID=America/Detroit:20250112T183000
DTEND;TZID=America/Detroit:20250112T191500
DTSTAMP:20260425T121025
CREATED:20250104T014635Z
LAST-MODIFIED:20250104T015342Z
UID:15371-1736706600-1736709300@sovereigngraceurc.org
SUMMARY:Seniors Catechism
DESCRIPTION:
URL:https://sovereigngraceurc.org/event/seniors-catechism-89
CATEGORIES:Catechism
END:VEVENT
BEGIN:VEVENT
DTSTART;TZID=America/Detroit:20250119T183000
DTEND;TZID=America/Detroit:20250119T191500
DTSTAMP:20260425T121025
CREATED:20250104T014527Z
LAST-MODIFIED:20250104T014527Z
UID:15353-1737311400-1737314100@sovereigngraceurc.org
SUMMARY:Beginers Catechism
DESCRIPTION:
URL:https://sovereigngraceurc.org/event/beginers-catechism-110
CATEGORIES:Catechism
END:VEVENT
BEGIN:VEVENT
DTSTART;TZID=America/Detroit:20250119T183000
DTEND;TZID=America/Detroit:20250119T191500
DTSTAMP:20260425T121025
CREATED:20250104T014635Z
LAST-MODIFIED:20250104T015354Z
UID:15372-1737311400-1737314100@sovereigngraceurc.org
SUMMARY:Seniors Catechism
DESCRIPTION:
URL:https://sovereigngraceurc.org/event/seniors-catechism-90
CATEGORIES:Catechism
END:VEVENT
BEGIN:VEVENT
DTSTART;TZID=America/Detroit:20250126T183000
DTEND;TZID=America/Detroit:20250126T191500
DTSTAMP:20260425T121025
CREATED:20250104T014527Z
LAST-MODIFIED:20250104T014527Z
UID:15354-1737916200-1737918900@sovereigngraceurc.org
SUMMARY:Beginers Catechism
DESCRIPTION:
URL:https://sovereigngraceurc.org/event/beginers-catechism-111
CATEGORIES:Catechism
END:VEVENT
BEGIN:VEVENT
DTSTART;TZID=America/Detroit:20250126T183000
DTEND;TZID=America/Detroit:20250126T191500
DTSTAMP:20260425T121025
CREATED:20250104T014636Z
LAST-MODIFIED:20250104T015416Z
UID:15373-1737916200-1737918900@sovereigngraceurc.org
SUMMARY:Seniors Catechism
DESCRIPTION:
URL:https://sovereigngraceurc.org/event/seniors-catechism-91
CATEGORIES:Catechism
END:VEVENT
BEGIN:VEVENT
DTSTART;TZID=America/Detroit:20250202T183000
DTEND;TZID=America/Detroit:20250202T191500
DTSTAMP:20260425T121025
CREATED:20250104T014527Z
LAST-MODIFIED:20250104T014527Z
UID:15355-1738521000-1738523700@sovereigngraceurc.org
SUMMARY:Beginers Catechism
DESCRIPTION:
URL:https://sovereigngraceurc.org/event/beginers-catechism-112
CATEGORIES:Catechism
END:VEVENT
BEGIN:VEVENT
DTSTART;TZID=America/Detroit:20250202T183000
DTEND;TZID=America/Detroit:20250202T191500
DTSTAMP:20260425T121025
CREATED:20250104T014636Z
LAST-MODIFIED:20250104T015520Z
UID:15374-1738521000-1738523700@sovereigngraceurc.org
SUMMARY:Seniors Catechism
DESCRIPTION:
URL:https://sovereigngraceurc.org/event/seniors-catechism-92
CATEGORIES:Catechism
END:VEVENT
BEGIN:VEVENT
DTSTART;TZID=America/Detroit:20250209T183000
DTEND;TZID=America/Detroit:20250209T191500
DTSTAMP:20260425T121025
CREATED:20250104T014531Z
LAST-MODIFIED:20250104T014531Z
UID:15356-1739125800-1739128500@sovereigngraceurc.org
SUMMARY:Beginers Catechism
DESCRIPTION:
URL:https://sovereigngraceurc.org/event/beginers-catechism-113
CATEGORIES:Catechism
END:VEVENT
BEGIN:VEVENT
DTSTART;TZID=America/Detroit:20250209T183000
DTEND;TZID=America/Detroit:20250209T191500
DTSTAMP:20260425T121025
CREATED:20250104T014636Z
LAST-MODIFIED:20250104T015538Z
UID:15375-1739125800-1739128500@sovereigngraceurc.org
SUMMARY:Seniors Catechism
DESCRIPTION:
URL:https://sovereigngraceurc.org/event/seniors-catechism-93
CATEGORIES:Catechism
END:VEVENT
BEGIN:VEVENT
DTSTART;TZID=America/Detroit:20250216T183000
DTEND;TZID=America/Detroit:20250216T191500
DTSTAMP:20260425T121025
CREATED:20250104T014531Z
LAST-MODIFIED:20250104T014531Z
UID:15357-1739730600-1739733300@sovereigngraceurc.org
SUMMARY:Beginers Catechism
DESCRIPTION:
URL:https://sovereigngraceurc.org/event/beginers-catechism-114
CATEGORIES:Catechism
END:VEVENT
BEGIN:VEVENT
DTSTART;TZID=America/Detroit:20250216T183000
DTEND;TZID=America/Detroit:20250216T191500
DTSTAMP:20260425T121025
CREATED:20250104T014650Z
LAST-MODIFIED:20250104T015322Z
UID:15376-1739730600-1739733300@sovereigngraceurc.org
SUMMARY:Seniors Catechism
DESCRIPTION:
URL:https://sovereigngraceurc.org/event/seniors-catechism-94
CATEGORIES:Catechism
END:VEVENT
BEGIN:VEVENT
DTSTART;TZID=America/Detroit:20250223T183000
DTEND;TZID=America/Detroit:20250223T191500
DTSTAMP:20260425T121025
CREATED:20250104T014532Z
LAST-MODIFIED:20250104T014532Z
UID:15358-1740335400-1740338100@sovereigngraceurc.org
SUMMARY:Beginers Catechism
DESCRIPTION:
URL:https://sovereigngraceurc.org/event/beginers-catechism-115
CATEGORIES:Catechism
END:VEVENT
BEGIN:VEVENT
DTSTART;TZID=America/Detroit:20250223T183000
DTEND;TZID=America/Detroit:20250223T191500
DTSTAMP:20260425T121025
CREATED:20250104T014651Z
LAST-MODIFIED:20250104T015603Z
UID:15377-1740335400-1740338100@sovereigngraceurc.org
SUMMARY:Seniors Catechism
DESCRIPTION:
URL:https://sovereigngraceurc.org/event/seniors-catechism-95
CATEGORIES:Catechism
END:VEVENT
BEGIN:VEVENT
DTSTART;TZID=America/Detroit:20250302T183000
DTEND;TZID=America/Detroit:20250302T191500
DTSTAMP:20260425T121025
CREATED:20250104T014532Z
LAST-MODIFIED:20250104T014532Z
UID:15359-1740940200-1740942900@sovereigngraceurc.org
SUMMARY:Beginers Catechism
DESCRIPTION:
URL:https://sovereigngraceurc.org/event/beginers-catechism-116
CATEGORIES:Catechism
END:VEVENT
BEGIN:VEVENT
DTSTART;TZID=America/Detroit:20250302T183000
DTEND;TZID=America/Detroit:20250302T191500
DTSTAMP:20260425T121025
CREATED:20250104T014651Z
LAST-MODIFIED:20250104T015717Z
UID:15378-1740940200-1740942900@sovereigngraceurc.org
SUMMARY:Seniors Catechism
DESCRIPTION:
URL:https://sovereigngraceurc.org/event/seniors-catechism-96
CATEGORIES:Catechism
END:VEVENT
BEGIN:VEVENT
DTSTART;TZID=America/Detroit:20250309T183000
DTEND;TZID=America/Detroit:20250309T191500
DTSTAMP:20260425T121025
CREATED:20250104T014532Z
LAST-MODIFIED:20250104T014532Z
UID:15360-1741545000-1741547700@sovereigngraceurc.org
SUMMARY:Beginers Catechism
DESCRIPTION:
URL:https://sovereigngraceurc.org/event/beginers-catechism-117
CATEGORIES:Catechism
END:VEVENT
BEGIN:VEVENT
DTSTART;TZID=America/Detroit:20250309T183000
DTEND;TZID=America/Detroit:20250309T191500
DTSTAMP:20260425T121025
CREATED:20250104T014652Z
LAST-MODIFIED:20250104T015635Z
UID:15379-1741545000-1741547700@sovereigngraceurc.org
SUMMARY:Seniors Catechism
DESCRIPTION:
URL:https://sovereigngraceurc.org/event/seniors-catechism-97
CATEGORIES:Catechism
END:VEVENT
BEGIN:VEVENT
DTSTART;TZID=America/Detroit:20250316T183000
DTEND;TZID=America/Detroit:20250316T191500
DTSTAMP:20260425T121025
CREATED:20250104T014548Z
LAST-MODIFIED:20250104T014548Z
UID:15361-1742149800-1742152500@sovereigngraceurc.org
SUMMARY:Beginers Catechism
DESCRIPTION:
URL:https://sovereigngraceurc.org/event/beginers-catechism-118
CATEGORIES:Catechism
END:VEVENT
BEGIN:VEVENT
DTSTART;TZID=America/Detroit:20250316T183000
DTEND;TZID=America/Detroit:20250316T191500
DTSTAMP:20260425T121025
CREATED:20250104T014652Z
LAST-MODIFIED:20250104T015644Z
UID:15380-1742149800-1742152500@sovereigngraceurc.org
SUMMARY:Seniors Catechism
DESCRIPTION:
URL:https://sovereigngraceurc.org/event/seniors-catechism-98
CATEGORIES:Catechism
END:VEVENT
BEGIN:VEVENT
DTSTART;TZID=America/Detroit:20250323T183000
DTEND;TZID=America/Detroit:20250323T191500
DTSTAMP:20260425T121025
CREATED:20250104T014548Z
LAST-MODIFIED:20250104T014548Z
UID:15362-1742754600-1742757300@sovereigngraceurc.org
SUMMARY:Beginers Catechism
DESCRIPTION:
URL:https://sovereigngraceurc.org/event/beginers-catechism-119
CATEGORIES:Catechism
END:VEVENT
BEGIN:VEVENT
DTSTART;TZID=America/Detroit:20250323T183000
DTEND;TZID=America/Detroit:20250323T191500
DTSTAMP:20260425T121025
CREATED:20250104T014708Z
LAST-MODIFIED:20250104T015654Z
UID:15381-1742754600-1742757300@sovereigngraceurc.org
SUMMARY:Seniors Catechism
DESCRIPTION:
URL:https://sovereigngraceurc.org/event/seniors-catechism-99
CATEGORIES:Catechism
END:VEVENT
BEGIN:VEVENT
DTSTART;TZID=America/Detroit:20250330T183000
DTEND;TZID=America/Detroit:20250330T191500
DTSTAMP:20260425T121025
CREATED:20250104T014549Z
LAST-MODIFIED:20250104T014549Z
UID:15363-1743359400-1743362100@sovereigngraceurc.org
SUMMARY:Beginers Catechism
DESCRIPTION:
URL:https://sovereigngraceurc.org/event/beginers-catechism-120
CATEGORIES:Catechism
END:VEVENT
BEGIN:VEVENT
DTSTART;TZID=America/Detroit:20250330T183000
DTEND;TZID=America/Detroit:20250330T191500
DTSTAMP:20260425T121025
CREATED:20250104T014709Z
LAST-MODIFIED:20250104T015702Z
UID:15382-1743359400-1743362100@sovereigngraceurc.org
SUMMARY:Seniors Catechism
DESCRIPTION:
URL:https://sovereigngraceurc.org/event/seniors-catechism-100
CATEGORIES:Catechism
END:VEVENT
BEGIN:VEVENT
DTSTART;TZID=America/Detroit:20250406T183000
DTEND;TZID=America/Detroit:20250406T191500
DTSTAMP:20260425T121025
CREATED:20250104T014549Z
LAST-MODIFIED:20250104T014549Z
UID:15364-1743964200-1743966900@sovereigngraceurc.org
SUMMARY:Beginers Catechism
DESCRIPTION:
URL:https://sovereigngraceurc.org/event/beginers-catechism-121
CATEGORIES:Catechism
END:VEVENT
BEGIN:VEVENT
DTSTART;TZID=America/Detroit:20250406T183000
DTEND;TZID=America/Detroit:20250406T191500
DTSTAMP:20260425T121025
CREATED:20250104T014710Z
LAST-MODIFIED:20250104T015823Z
UID:15383-1743964200-1743966900@sovereigngraceurc.org
SUMMARY:Seniors Catechism
DESCRIPTION:
URL:https://sovereigngraceurc.org/event/seniors-catechism-101
CATEGORIES:Catechism
END:VEVENT
BEGIN:VEVENT
DTSTART;TZID=America/Detroit:20250413T183000
DTEND;TZID=America/Detroit:20250413T191500
DTSTAMP:20260425T121025
CREATED:20250104T014549Z
LAST-MODIFIED:20250104T014549Z
UID:15365-1744569000-1744571700@sovereigngraceurc.org
SUMMARY:Beginers Catechism
DESCRIPTION:
URL:https://sovereigngraceurc.org/event/beginers-catechism-122
CATEGORIES:Catechism
END:VEVENT
BEGIN:VEVENT
DTSTART;TZID=America/Detroit:20250413T183000
DTEND;TZID=America/Detroit:20250413T191500
DTSTAMP:20260425T121025
CREATED:20250104T014710Z
LAST-MODIFIED:20250104T015852Z
UID:15384-1744569000-1744571700@sovereigngraceurc.org
SUMMARY:Seniors Catechism
DESCRIPTION:
URL:https://sovereigngraceurc.org/event/seniors-catechism-102
CATEGORIES:Catechism
END:VEVENT
BEGIN:VEVENT
DTSTART;TZID=America/Detroit:20250420T183000
DTEND;TZID=America/Detroit:20250420T191500
DTSTAMP:20260425T121025
CREATED:20250104T014620Z
LAST-MODIFIED:20250104T014620Z
UID:15366-1745173800-1745176500@sovereigngraceurc.org
SUMMARY:Beginers Catechism
DESCRIPTION:
URL:https://sovereigngraceurc.org/event/beginers-catechism-123
CATEGORIES:Catechism
END:VEVENT
END:VCALENDAR