BEGIN:VCALENDAR
VERSION:2.0
PRODID:-//Sovereign Grace URC - ECPv6.15.20//NONSGML v1.0//EN
CALSCALE:GREGORIAN
METHOD:PUBLISH
X-ORIGINAL-URL:https://sovereigngraceurc.org
X-WR-CALDESC:Events for Sovereign Grace URC
REFRESH-INTERVAL;VALUE=DURATION:PT1H
X-Robots-Tag:noindex
X-PUBLISHED-TTL:PT1H
BEGIN:VTIMEZONE
TZID:America/Detroit
BEGIN:DAYLIGHT
TZOFFSETFROM:-0500
TZOFFSETTO:-0400
TZNAME:EDT
DTSTART:20210314T070000
END:DAYLIGHT
BEGIN:STANDARD
TZOFFSETFROM:-0400
TZOFFSETTO:-0500
TZNAME:EST
DTSTART:20211107T060000
END:STANDARD
BEGIN:DAYLIGHT
TZOFFSETFROM:-0500
TZOFFSETTO:-0400
TZNAME:EDT
DTSTART:20220313T070000
END:DAYLIGHT
BEGIN:STANDARD
TZOFFSETFROM:-0400
TZOFFSETTO:-0500
TZNAME:EST
DTSTART:20221106T060000
END:STANDARD
BEGIN:DAYLIGHT
TZOFFSETFROM:-0500
TZOFFSETTO:-0400
TZNAME:EDT
DTSTART:20230312T070000
END:DAYLIGHT
BEGIN:STANDARD
TZOFFSETFROM:-0400
TZOFFSETTO:-0500
TZNAME:EST
DTSTART:20231105T060000
END:STANDARD
BEGIN:DAYLIGHT
TZOFFSETFROM:-0500
TZOFFSETTO:-0400
TZNAME:EDT
DTSTART:20240310T070000
END:DAYLIGHT
BEGIN:STANDARD
TZOFFSETFROM:-0400
TZOFFSETTO:-0500
TZNAME:EST
DTSTART:20241103T060000
END:STANDARD
END:VTIMEZONE
BEGIN:VEVENT
DTSTART;TZID=America/Detroit:20230305T110000
DTEND;TZID=America/Detroit:20230305T113000
DTSTAMP:20260425T085530
CREATED:20221210T222612Z
LAST-MODIFIED:20221210T222612Z
UID:13403-1678014000-1678015800@sovereigngraceurc.org
SUMMARY:Beginers Catechism
DESCRIPTION:
URL:https://sovereigngraceurc.org/event/beginers-catechism-53
CATEGORIES:Catechism
END:VEVENT
BEGIN:VEVENT
DTSTART;TZID=America/Detroit:20230305T110000
DTEND;TZID=America/Detroit:20230305T113000
DTSTAMP:20260425T085530
CREATED:20221210T222542Z
LAST-MODIFIED:20221210T222542Z
UID:13387-1678014000-1678015800@sovereigngraceurc.org
SUMMARY:Belgic Confession Class
DESCRIPTION:
URL:https://sovereigngraceurc.org/event/belgic-confession-class-53
CATEGORIES:Catechism
END:VEVENT
BEGIN:VEVENT
DTSTART;TZID=America/Detroit:20230226T181500
DTEND;TZID=America/Detroit:20230226T190000
DTSTAMP:20260425T085530
CREATED:20221210T222658Z
LAST-MODIFIED:20221210T222658Z
UID:13418-1677435300-1677438000@sovereigngraceurc.org
SUMMARY:Seniors Catechism
DESCRIPTION:
URL:https://sovereigngraceurc.org/event/seniors-catechism-46
CATEGORIES:Catechism
END:VEVENT
BEGIN:VEVENT
DTSTART;TZID=America/Detroit:20230226T110000
DTEND;TZID=America/Detroit:20230226T113000
DTSTAMP:20260425T085530
CREATED:20221210T222612Z
LAST-MODIFIED:20221210T222612Z
UID:13402-1677409200-1677411000@sovereigngraceurc.org
SUMMARY:Beginers Catechism
DESCRIPTION:
URL:https://sovereigngraceurc.org/event/beginers-catechism-52
CATEGORIES:Catechism
END:VEVENT
BEGIN:VEVENT
DTSTART;TZID=America/Detroit:20230226T110000
DTEND;TZID=America/Detroit:20230226T113000
DTSTAMP:20260425T085530
CREATED:20221210T222530Z
LAST-MODIFIED:20221210T222530Z
UID:13386-1677409200-1677411000@sovereigngraceurc.org
SUMMARY:Belgic Confession Class
DESCRIPTION:
URL:https://sovereigngraceurc.org/event/belgic-confession-class-52
CATEGORIES:Catechism
END:VEVENT
BEGIN:VEVENT
DTSTART;TZID=America/Detroit:20230219T181500
DTEND;TZID=America/Detroit:20230219T190000
DTSTAMP:20260425T085530
CREATED:20221210T222657Z
LAST-MODIFIED:20221210T222657Z
UID:13417-1676830500-1676833200@sovereigngraceurc.org
SUMMARY:Seniors Catechism
DESCRIPTION:
URL:https://sovereigngraceurc.org/event/seniors-catechism-45
CATEGORIES:Catechism
END:VEVENT
BEGIN:VEVENT
DTSTART;TZID=America/Detroit:20230219T110000
DTEND;TZID=America/Detroit:20230219T113000
DTSTAMP:20260425T085530
CREATED:20221210T222558Z
LAST-MODIFIED:20221210T222558Z
UID:13401-1676804400-1676806200@sovereigngraceurc.org
SUMMARY:Beginers Catechism
DESCRIPTION:
URL:https://sovereigngraceurc.org/event/beginers-catechism-51
CATEGORIES:Catechism
END:VEVENT
BEGIN:VEVENT
DTSTART;TZID=America/Detroit:20230219T110000
DTEND;TZID=America/Detroit:20230219T113000
DTSTAMP:20260425T085530
CREATED:20221210T222530Z
LAST-MODIFIED:20221210T222530Z
UID:13385-1676804400-1676806200@sovereigngraceurc.org
SUMMARY:Belgic Confession Class
DESCRIPTION:
URL:https://sovereigngraceurc.org/event/belgic-confession-class-51
CATEGORIES:Catechism
END:VEVENT
BEGIN:VEVENT
DTSTART;TZID=America/Detroit:20230212T181500
DTEND;TZID=America/Detroit:20230212T190000
DTSTAMP:20260425T085530
CREATED:20221210T222643Z
LAST-MODIFIED:20221210T222643Z
UID:13416-1676225700-1676228400@sovereigngraceurc.org
SUMMARY:Seniors Catechism
DESCRIPTION:
URL:https://sovereigngraceurc.org/event/seniors-catechism-44
CATEGORIES:Catechism
END:VEVENT
BEGIN:VEVENT
DTSTART;TZID=America/Detroit:20230212T110000
DTEND;TZID=America/Detroit:20230212T113000
DTSTAMP:20260425T085530
CREATED:20221210T222558Z
LAST-MODIFIED:20221210T222558Z
UID:13400-1676199600-1676201400@sovereigngraceurc.org
SUMMARY:Beginers Catechism
DESCRIPTION:
URL:https://sovereigngraceurc.org/event/beginers-catechism-50
CATEGORIES:Catechism
END:VEVENT
BEGIN:VEVENT
DTSTART;TZID=America/Detroit:20230212T110000
DTEND;TZID=America/Detroit:20230212T113000
DTSTAMP:20260425T085530
CREATED:20221210T222529Z
LAST-MODIFIED:20221210T222529Z
UID:13384-1676199600-1676201400@sovereigngraceurc.org
SUMMARY:Belgic Confession Class
DESCRIPTION:
URL:https://sovereigngraceurc.org/event/belgic-confession-class-50
CATEGORIES:Catechism
END:VEVENT
BEGIN:VEVENT
DTSTART;TZID=America/Detroit:20230205T181500
DTEND;TZID=America/Detroit:20230205T190000
DTSTAMP:20260425T085530
CREATED:20221210T222643Z
LAST-MODIFIED:20221210T222643Z
UID:13415-1675620900-1675623600@sovereigngraceurc.org
SUMMARY:Seniors Catechism
DESCRIPTION:
URL:https://sovereigngraceurc.org/event/seniors-catechism-43
CATEGORIES:Catechism
END:VEVENT
BEGIN:VEVENT
DTSTART;TZID=America/Detroit:20230205T110000
DTEND;TZID=America/Detroit:20230205T113000
DTSTAMP:20260425T085530
CREATED:20221210T222558Z
LAST-MODIFIED:20221210T222558Z
UID:13399-1675594800-1675596600@sovereigngraceurc.org
SUMMARY:Beginers Catechism
DESCRIPTION:
URL:https://sovereigngraceurc.org/event/beginers-catechism-49
CATEGORIES:Catechism
END:VEVENT
BEGIN:VEVENT
DTSTART;TZID=America/Detroit:20230205T110000
DTEND;TZID=America/Detroit:20230205T113000
DTSTAMP:20260425T085530
CREATED:20221210T222527Z
LAST-MODIFIED:20221210T222527Z
UID:13383-1675594800-1675596600@sovereigngraceurc.org
SUMMARY:Belgic Confession Class
DESCRIPTION:
URL:https://sovereigngraceurc.org/event/belgic-confession-class-49
CATEGORIES:Catechism
END:VEVENT
BEGIN:VEVENT
DTSTART;TZID=America/Detroit:20230129T181500
DTEND;TZID=America/Detroit:20230129T190000
DTSTAMP:20260425T085530
CREATED:20221210T222643Z
LAST-MODIFIED:20221210T222643Z
UID:13414-1675016100-1675018800@sovereigngraceurc.org
SUMMARY:Seniors Catechism
DESCRIPTION:
URL:https://sovereigngraceurc.org/event/seniors-catechism-42
CATEGORIES:Catechism
END:VEVENT
BEGIN:VEVENT
DTSTART;TZID=America/Detroit:20230129T110000
DTEND;TZID=America/Detroit:20230129T113000
DTSTAMP:20260425T085530
CREATED:20221210T222558Z
LAST-MODIFIED:20221210T222558Z
UID:13398-1674990000-1674991800@sovereigngraceurc.org
SUMMARY:Beginers Catechism
DESCRIPTION:
URL:https://sovereigngraceurc.org/event/beginers-catechism-48
CATEGORIES:Catechism
END:VEVENT
BEGIN:VEVENT
DTSTART;TZID=America/Detroit:20230129T110000
DTEND;TZID=America/Detroit:20230129T113000
DTSTAMP:20260425T085530
CREATED:20221210T222527Z
LAST-MODIFIED:20221210T222527Z
UID:13382-1674990000-1674991800@sovereigngraceurc.org
SUMMARY:Belgic Confession Class
DESCRIPTION:
URL:https://sovereigngraceurc.org/event/belgic-confession-class-48
CATEGORIES:Catechism
END:VEVENT
BEGIN:VEVENT
DTSTART;TZID=America/Detroit:20230122T181500
DTEND;TZID=America/Detroit:20230122T190000
DTSTAMP:20260425T085530
CREATED:20221210T222642Z
LAST-MODIFIED:20221210T222642Z
UID:13413-1674411300-1674414000@sovereigngraceurc.org
SUMMARY:Seniors Catechism
DESCRIPTION:
URL:https://sovereigngraceurc.org/event/seniors-catechism-41
CATEGORIES:Catechism
END:VEVENT
BEGIN:VEVENT
DTSTART;TZID=America/Detroit:20230122T110000
DTEND;TZID=America/Detroit:20230122T113000
DTSTAMP:20260425T085530
CREATED:20221210T222557Z
LAST-MODIFIED:20221210T222557Z
UID:13397-1674385200-1674387000@sovereigngraceurc.org
SUMMARY:Beginers Catechism
DESCRIPTION:
URL:https://sovereigngraceurc.org/event/beginers-catechism-47
CATEGORIES:Catechism
END:VEVENT
BEGIN:VEVENT
DTSTART;TZID=America/Detroit:20230122T110000
DTEND;TZID=America/Detroit:20230122T113000
DTSTAMP:20260425T085530
CREATED:20221210T222513Z
LAST-MODIFIED:20221210T222513Z
UID:13381-1674385200-1674387000@sovereigngraceurc.org
SUMMARY:Belgic Confession Class
DESCRIPTION:
URL:https://sovereigngraceurc.org/event/belgic-confession-class-47
CATEGORIES:Catechism
END:VEVENT
BEGIN:VEVENT
DTSTART;TZID=America/Detroit:20230115T181500
DTEND;TZID=America/Detroit:20230115T190000
DTSTAMP:20260425T085530
CREATED:20221210T222642Z
LAST-MODIFIED:20221210T222642Z
UID:13412-1673806500-1673809200@sovereigngraceurc.org
SUMMARY:Seniors Catechism
DESCRIPTION:
URL:https://sovereigngraceurc.org/event/seniors-catechism-40
CATEGORIES:Catechism
END:VEVENT
BEGIN:VEVENT
DTSTART;TZID=America/Detroit:20230115T110000
DTEND;TZID=America/Detroit:20230115T113000
DTSTAMP:20260425T085530
CREATED:20221210T222556Z
LAST-MODIFIED:20221210T222556Z
UID:13396-1673780400-1673782200@sovereigngraceurc.org
SUMMARY:Beginers Catechism
DESCRIPTION:
URL:https://sovereigngraceurc.org/event/beginers-catechism-46
CATEGORIES:Catechism
END:VEVENT
BEGIN:VEVENT
DTSTART;TZID=America/Detroit:20230115T110000
DTEND;TZID=America/Detroit:20230115T113000
DTSTAMP:20260425T085530
CREATED:20221210T222513Z
LAST-MODIFIED:20221210T222513Z
UID:13380-1673780400-1673782200@sovereigngraceurc.org
SUMMARY:Belgic Confession Class
DESCRIPTION:
URL:https://sovereigngraceurc.org/event/belgic-confession-class-46
CATEGORIES:Catechism
END:VEVENT
BEGIN:VEVENT
DTSTART;TZID=America/Detroit:20230108T110000
DTEND;TZID=America/Detroit:20230108T114500
DTSTAMP:20260425T085530
CREATED:20221210T222629Z
LAST-MODIFIED:20221229T214151Z
UID:13411-1673175600-1673178300@sovereigngraceurc.org
SUMMARY:Seniors Catechism
DESCRIPTION:
URL:https://sovereigngraceurc.org/event/seniors-catechism-39
CATEGORIES:Catechism
END:VEVENT
BEGIN:VEVENT
DTSTART;TZID=America/Detroit:20230108T110000
DTEND;TZID=America/Detroit:20230108T113000
DTSTAMP:20260425T085530
CREATED:20221210T222555Z
LAST-MODIFIED:20221210T222555Z
UID:13395-1673175600-1673177400@sovereigngraceurc.org
SUMMARY:Beginers Catechism
DESCRIPTION:
URL:https://sovereigngraceurc.org/event/beginers-catechism-45
CATEGORIES:Catechism
END:VEVENT
BEGIN:VEVENT
DTSTART;TZID=America/Detroit:20221211T184500
DTEND;TZID=America/Detroit:20221211T193000
DTSTAMP:20260425T085530
CREATED:20220911T193119Z
LAST-MODIFIED:20220911T193119Z
UID:13103-1670784300-1670787000@sovereigngraceurc.org
SUMMARY:Seniors Catechism
DESCRIPTION:Join us as we continue our study of I Corinthians.
URL:https://sovereigngraceurc.org/event/seniors-catechism-38
CATEGORIES:Catechism
END:VEVENT
BEGIN:VEVENT
DTSTART;TZID=America/Detroit:20221211T110000
DTEND;TZID=America/Detroit:20221211T113000
DTSTAMP:20260425T085530
CREATED:20220911T193050Z
LAST-MODIFIED:20220911T193050Z
UID:13089-1670756400-1670758200@sovereigngraceurc.org
SUMMARY:Beginers Catechism
DESCRIPTION:
URL:https://sovereigngraceurc.org/event/beginers-catechism-44
CATEGORIES:Catechism
END:VEVENT
BEGIN:VEVENT
DTSTART;TZID=America/Detroit:20221211T110000
DTEND;TZID=America/Detroit:20221211T113000
DTSTAMP:20260425T085530
CREATED:20220911T193004Z
LAST-MODIFIED:20220911T193004Z
UID:13075-1670756400-1670758200@sovereigngraceurc.org
SUMMARY:Belgic Confession Class
DESCRIPTION:
URL:https://sovereigngraceurc.org/event/belgic-confession-class-44
CATEGORIES:Catechism
END:VEVENT
BEGIN:VEVENT
DTSTART;TZID=America/Detroit:20221204T184500
DTEND;TZID=America/Detroit:20221204T193000
DTSTAMP:20260425T085530
CREATED:20220911T193118Z
LAST-MODIFIED:20220911T193118Z
UID:13102-1670179500-1670182200@sovereigngraceurc.org
SUMMARY:Seniors Catechism
DESCRIPTION:
URL:https://sovereigngraceurc.org/event/seniors-catechism-37
CATEGORIES:Catechism
END:VEVENT
BEGIN:VEVENT
DTSTART;TZID=America/Detroit:20221204T110000
DTEND;TZID=America/Detroit:20221204T113000
DTSTAMP:20260425T085530
CREATED:20220911T193050Z
LAST-MODIFIED:20220911T193050Z
UID:13088-1670151600-1670153400@sovereigngraceurc.org
SUMMARY:Beginers Catechism
DESCRIPTION:
URL:https://sovereigngraceurc.org/event/beginers-catechism-43
CATEGORIES:Catechism
END:VEVENT
END:VCALENDAR