BEGIN:VCALENDAR
VERSION:2.0
PRODID:-//Sovereign Grace URC - ECPv6.15.20//NONSGML v1.0//EN
CALSCALE:GREGORIAN
METHOD:PUBLISH
X-ORIGINAL-URL:https://sovereigngraceurc.org
X-WR-CALDESC:Events for Sovereign Grace URC
REFRESH-INTERVAL;VALUE=DURATION:PT1H
X-Robots-Tag:noindex
X-PUBLISHED-TTL:PT1H
BEGIN:VTIMEZONE
TZID:America/Detroit
BEGIN:DAYLIGHT
TZOFFSETFROM:-0500
TZOFFSETTO:-0400
TZNAME:EDT
DTSTART:20220313T070000
END:DAYLIGHT
BEGIN:STANDARD
TZOFFSETFROM:-0400
TZOFFSETTO:-0500
TZNAME:EST
DTSTART:20221106T060000
END:STANDARD
BEGIN:DAYLIGHT
TZOFFSETFROM:-0500
TZOFFSETTO:-0400
TZNAME:EDT
DTSTART:20230312T070000
END:DAYLIGHT
BEGIN:STANDARD
TZOFFSETFROM:-0400
TZOFFSETTO:-0500
TZNAME:EST
DTSTART:20231105T060000
END:STANDARD
BEGIN:DAYLIGHT
TZOFFSETFROM:-0500
TZOFFSETTO:-0400
TZNAME:EDT
DTSTART:20240310T070000
END:DAYLIGHT
BEGIN:STANDARD
TZOFFSETFROM:-0400
TZOFFSETTO:-0500
TZNAME:EST
DTSTART:20241103T060000
END:STANDARD
END:VTIMEZONE
BEGIN:VEVENT
DTSTART;TZID=America/Detroit:20230917T110000
DTEND;TZID=America/Detroit:20230917T113000
DTSTAMP:20260425T071033
CREATED:20231019T232636Z
LAST-MODIFIED:20231019T232636Z
UID:14012-1694948400-1694950200@sovereigngraceurc.org
SUMMARY:Beginers Catechism
DESCRIPTION:
URL:https://sovereigngraceurc.org/event/beginers-catechism-62
CATEGORIES:Catechism
END:VEVENT
BEGIN:VEVENT
DTSTART;TZID=America/Detroit:20230910T110000
DTEND;TZID=America/Detroit:20230910T113000
DTSTAMP:20260425T071033
CREATED:20231019T232655Z
LAST-MODIFIED:20231019T232655Z
UID:14025-1694343600-1694345400@sovereigngraceurc.org
SUMMARY:Seniors Catechism
DESCRIPTION:
URL:https://sovereigngraceurc.org/event/seniors-catechism-55
CATEGORIES:Catechism
END:VEVENT
BEGIN:VEVENT
DTSTART;TZID=America/Detroit:20230910T110000
DTEND;TZID=America/Detroit:20230910T113000
DTSTAMP:20260425T071033
CREATED:20231019T232636Z
LAST-MODIFIED:20231019T232636Z
UID:14011-1694343600-1694345400@sovereigngraceurc.org
SUMMARY:Beginers Catechism
DESCRIPTION:
URL:https://sovereigngraceurc.org/event/beginers-catechism-61
CATEGORIES:Catechism
END:VEVENT
BEGIN:VEVENT
DTSTART;TZID=America/Detroit:20230423T181500
DTEND;TZID=America/Detroit:20230423T190000
DTSTAMP:20260425T071033
CREATED:20221210T222921Z
LAST-MODIFIED:20221210T222921Z
UID:13425-1682273700-1682276400@sovereigngraceurc.org
SUMMARY:Seniors Catechism
DESCRIPTION:
URL:https://sovereigngraceurc.org/event/seniors-catechism-53
CATEGORIES:Catechism
END:VEVENT
BEGIN:VEVENT
DTSTART;TZID=America/Detroit:20230423T110000
DTEND;TZID=America/Detroit:20230423T113000
DTSTAMP:20260425T071033
CREATED:20221210T222628Z
LAST-MODIFIED:20221210T222628Z
UID:13409-1682247600-1682249400@sovereigngraceurc.org
SUMMARY:Beginers Catechism
DESCRIPTION:
URL:https://sovereigngraceurc.org/event/beginers-catechism-59
CATEGORIES:Catechism
END:VEVENT
BEGIN:VEVENT
DTSTART;TZID=America/Detroit:20230416T181500
DTEND;TZID=America/Detroit:20230416T190000
DTSTAMP:20260425T071033
CREATED:20221210T222921Z
LAST-MODIFIED:20221210T222921Z
UID:13424-1681668900-1681671600@sovereigngraceurc.org
SUMMARY:Seniors Catechism
DESCRIPTION:
URL:https://sovereigngraceurc.org/event/seniors-catechism-52
CATEGORIES:Catechism
END:VEVENT
BEGIN:VEVENT
DTSTART;TZID=America/Detroit:20230416T110000
DTEND;TZID=America/Detroit:20230416T113000
DTSTAMP:20260425T071033
CREATED:20221210T222628Z
LAST-MODIFIED:20221210T222628Z
UID:13408-1681642800-1681644600@sovereigngraceurc.org
SUMMARY:Beginers Catechism
DESCRIPTION:
URL:https://sovereigngraceurc.org/event/beginers-catechism-58
CATEGORIES:Catechism
END:VEVENT
BEGIN:VEVENT
DTSTART;TZID=America/Detroit:20230416T110000
DTEND;TZID=America/Detroit:20230416T113000
DTSTAMP:20260425T071033
CREATED:20221210T222555Z
LAST-MODIFIED:20221210T222555Z
UID:13392-1681642800-1681644600@sovereigngraceurc.org
SUMMARY:Belgic Confession Class
DESCRIPTION:
URL:https://sovereigngraceurc.org/event/belgic-confession-class-58
CATEGORIES:Catechism
END:VEVENT
BEGIN:VEVENT
DTSTART;TZID=America/Detroit:20230402T181500
DTEND;TZID=America/Detroit:20230402T190000
DTSTAMP:20260425T071033
CREATED:20221210T222921Z
LAST-MODIFIED:20221210T222921Z
UID:13423-1680459300-1680462000@sovereigngraceurc.org
SUMMARY:Seniors Catechism
DESCRIPTION:
URL:https://sovereigngraceurc.org/event/seniors-catechism-51
CATEGORIES:Catechism
END:VEVENT
BEGIN:VEVENT
DTSTART;TZID=America/Detroit:20230402T110000
DTEND;TZID=America/Detroit:20230402T113000
DTSTAMP:20260425T071033
CREATED:20221210T222627Z
LAST-MODIFIED:20221210T222627Z
UID:13407-1680433200-1680435000@sovereigngraceurc.org
SUMMARY:Beginers Catechism
DESCRIPTION:
URL:https://sovereigngraceurc.org/event/beginers-catechism-57
CATEGORIES:Catechism
END:VEVENT
BEGIN:VEVENT
DTSTART;TZID=America/Detroit:20230402T110000
DTEND;TZID=America/Detroit:20230402T113000
DTSTAMP:20260425T071033
CREATED:20221210T222543Z
LAST-MODIFIED:20221210T222543Z
UID:13391-1680433200-1680435000@sovereigngraceurc.org
SUMMARY:Belgic Confession Class
DESCRIPTION:
URL:https://sovereigngraceurc.org/event/belgic-confession-class-57
CATEGORIES:Catechism
END:VEVENT
BEGIN:VEVENT
DTSTART;TZID=America/Detroit:20230326T181500
DTEND;TZID=America/Detroit:20230326T190000
DTSTAMP:20260425T071033
CREATED:20221210T222920Z
LAST-MODIFIED:20221210T222920Z
UID:13422-1679854500-1679857200@sovereigngraceurc.org
SUMMARY:Seniors Catechism
DESCRIPTION:
URL:https://sovereigngraceurc.org/event/seniors-catechism-50
CATEGORIES:Catechism
END:VEVENT
BEGIN:VEVENT
DTSTART;TZID=America/Detroit:20230326T110000
DTEND;TZID=America/Detroit:20230326T113000
DTSTAMP:20260425T071033
CREATED:20221210T222613Z
LAST-MODIFIED:20221210T222613Z
UID:13406-1679828400-1679830200@sovereigngraceurc.org
SUMMARY:Beginers Catechism
DESCRIPTION:
URL:https://sovereigngraceurc.org/event/beginers-catechism-56
CATEGORIES:Catechism
END:VEVENT
BEGIN:VEVENT
DTSTART;TZID=America/Detroit:20230326T110000
DTEND;TZID=America/Detroit:20230326T113000
DTSTAMP:20260425T071033
CREATED:20221210T222543Z
LAST-MODIFIED:20221210T222543Z
UID:13390-1679828400-1679830200@sovereigngraceurc.org
SUMMARY:Belgic Confession Class
DESCRIPTION:
URL:https://sovereigngraceurc.org/event/belgic-confession-class-56
CATEGORIES:Catechism
END:VEVENT
BEGIN:VEVENT
DTSTART;TZID=America/Detroit:20230319T110000
DTEND;TZID=America/Detroit:20230319T113000
DTSTAMP:20260425T071033
CREATED:20221210T222613Z
LAST-MODIFIED:20221210T222613Z
UID:13405-1679223600-1679225400@sovereigngraceurc.org
SUMMARY:Beginers Catechism
DESCRIPTION:
URL:https://sovereigngraceurc.org/event/beginers-catechism-55
CATEGORIES:Catechism
END:VEVENT
BEGIN:VEVENT
DTSTART;TZID=America/Detroit:20230319T110000
DTEND;TZID=America/Detroit:20230319T113000
DTSTAMP:20260425T071033
CREATED:20221210T222543Z
LAST-MODIFIED:20221210T222543Z
UID:13389-1679223600-1679225400@sovereigngraceurc.org
SUMMARY:Belgic Confession Class
DESCRIPTION:
URL:https://sovereigngraceurc.org/event/belgic-confession-class-55
CATEGORIES:Catechism
END:VEVENT
BEGIN:VEVENT
DTSTART;TZID=America/Detroit:20230312T181500
DTEND;TZID=America/Detroit:20230312T190000
DTSTAMP:20260425T071033
CREATED:20221210T222658Z
LAST-MODIFIED:20221210T222658Z
UID:13420-1678644900-1678647600@sovereigngraceurc.org
SUMMARY:Seniors Catechism
DESCRIPTION:
URL:https://sovereigngraceurc.org/event/seniors-catechism-48
CATEGORIES:Catechism
END:VEVENT
BEGIN:VEVENT
DTSTART;TZID=America/Detroit:20230312T110000
DTEND;TZID=America/Detroit:20230312T113000
DTSTAMP:20260425T071033
CREATED:20221210T222613Z
LAST-MODIFIED:20221210T222613Z
UID:13404-1678618800-1678620600@sovereigngraceurc.org
SUMMARY:Beginers Catechism
DESCRIPTION:
URL:https://sovereigngraceurc.org/event/beginers-catechism-54
CATEGORIES:Catechism
END:VEVENT
BEGIN:VEVENT
DTSTART;TZID=America/Detroit:20230312T110000
DTEND;TZID=America/Detroit:20230312T113000
DTSTAMP:20260425T071033
CREATED:20221210T222543Z
LAST-MODIFIED:20221210T222543Z
UID:13388-1678618800-1678620600@sovereigngraceurc.org
SUMMARY:Belgic Confession Class
DESCRIPTION:
URL:https://sovereigngraceurc.org/event/belgic-confession-class-54
CATEGORIES:Catechism
END:VEVENT
BEGIN:VEVENT
DTSTART;TZID=America/Detroit:20230305T181500
DTEND;TZID=America/Detroit:20230305T190000
DTSTAMP:20260425T071033
CREATED:20221210T222658Z
LAST-MODIFIED:20221210T222658Z
UID:13419-1678040100-1678042800@sovereigngraceurc.org
SUMMARY:Seniors Catechism
DESCRIPTION:
URL:https://sovereigngraceurc.org/event/seniors-catechism-47
CATEGORIES:Catechism
END:VEVENT
BEGIN:VEVENT
DTSTART;TZID=America/Detroit:20230305T110000
DTEND;TZID=America/Detroit:20230305T113000
DTSTAMP:20260425T071033
CREATED:20221210T222612Z
LAST-MODIFIED:20221210T222612Z
UID:13403-1678014000-1678015800@sovereigngraceurc.org
SUMMARY:Beginers Catechism
DESCRIPTION:
URL:https://sovereigngraceurc.org/event/beginers-catechism-53
CATEGORIES:Catechism
END:VEVENT
BEGIN:VEVENT
DTSTART;TZID=America/Detroit:20230305T110000
DTEND;TZID=America/Detroit:20230305T113000
DTSTAMP:20260425T071033
CREATED:20221210T222542Z
LAST-MODIFIED:20221210T222542Z
UID:13387-1678014000-1678015800@sovereigngraceurc.org
SUMMARY:Belgic Confession Class
DESCRIPTION:
URL:https://sovereigngraceurc.org/event/belgic-confession-class-53
CATEGORIES:Catechism
END:VEVENT
BEGIN:VEVENT
DTSTART;TZID=America/Detroit:20230226T181500
DTEND;TZID=America/Detroit:20230226T190000
DTSTAMP:20260425T071033
CREATED:20221210T222658Z
LAST-MODIFIED:20221210T222658Z
UID:13418-1677435300-1677438000@sovereigngraceurc.org
SUMMARY:Seniors Catechism
DESCRIPTION:
URL:https://sovereigngraceurc.org/event/seniors-catechism-46
CATEGORIES:Catechism
END:VEVENT
BEGIN:VEVENT
DTSTART;TZID=America/Detroit:20230226T110000
DTEND;TZID=America/Detroit:20230226T113000
DTSTAMP:20260425T071033
CREATED:20221210T222612Z
LAST-MODIFIED:20221210T222612Z
UID:13402-1677409200-1677411000@sovereigngraceurc.org
SUMMARY:Beginers Catechism
DESCRIPTION:
URL:https://sovereigngraceurc.org/event/beginers-catechism-52
CATEGORIES:Catechism
END:VEVENT
BEGIN:VEVENT
DTSTART;TZID=America/Detroit:20230226T110000
DTEND;TZID=America/Detroit:20230226T113000
DTSTAMP:20260425T071033
CREATED:20221210T222530Z
LAST-MODIFIED:20221210T222530Z
UID:13386-1677409200-1677411000@sovereigngraceurc.org
SUMMARY:Belgic Confession Class
DESCRIPTION:
URL:https://sovereigngraceurc.org/event/belgic-confession-class-52
CATEGORIES:Catechism
END:VEVENT
BEGIN:VEVENT
DTSTART;TZID=America/Detroit:20230219T181500
DTEND;TZID=America/Detroit:20230219T190000
DTSTAMP:20260425T071033
CREATED:20221210T222657Z
LAST-MODIFIED:20221210T222657Z
UID:13417-1676830500-1676833200@sovereigngraceurc.org
SUMMARY:Seniors Catechism
DESCRIPTION:
URL:https://sovereigngraceurc.org/event/seniors-catechism-45
CATEGORIES:Catechism
END:VEVENT
BEGIN:VEVENT
DTSTART;TZID=America/Detroit:20230219T110000
DTEND;TZID=America/Detroit:20230219T113000
DTSTAMP:20260425T071033
CREATED:20221210T222558Z
LAST-MODIFIED:20221210T222558Z
UID:13401-1676804400-1676806200@sovereigngraceurc.org
SUMMARY:Beginers Catechism
DESCRIPTION:
URL:https://sovereigngraceurc.org/event/beginers-catechism-51
CATEGORIES:Catechism
END:VEVENT
BEGIN:VEVENT
DTSTART;TZID=America/Detroit:20230219T110000
DTEND;TZID=America/Detroit:20230219T113000
DTSTAMP:20260425T071033
CREATED:20221210T222530Z
LAST-MODIFIED:20221210T222530Z
UID:13385-1676804400-1676806200@sovereigngraceurc.org
SUMMARY:Belgic Confession Class
DESCRIPTION:
URL:https://sovereigngraceurc.org/event/belgic-confession-class-51
CATEGORIES:Catechism
END:VEVENT
BEGIN:VEVENT
DTSTART;TZID=America/Detroit:20230212T181500
DTEND;TZID=America/Detroit:20230212T190000
DTSTAMP:20260425T071033
CREATED:20221210T222643Z
LAST-MODIFIED:20221210T222643Z
UID:13416-1676225700-1676228400@sovereigngraceurc.org
SUMMARY:Seniors Catechism
DESCRIPTION:
URL:https://sovereigngraceurc.org/event/seniors-catechism-44
CATEGORIES:Catechism
END:VEVENT
BEGIN:VEVENT
DTSTART;TZID=America/Detroit:20230212T110000
DTEND;TZID=America/Detroit:20230212T113000
DTSTAMP:20260425T071033
CREATED:20221210T222558Z
LAST-MODIFIED:20221210T222558Z
UID:13400-1676199600-1676201400@sovereigngraceurc.org
SUMMARY:Beginers Catechism
DESCRIPTION:
URL:https://sovereigngraceurc.org/event/beginers-catechism-50
CATEGORIES:Catechism
END:VEVENT
END:VCALENDAR