BEGIN:VCALENDAR
VERSION:2.0
PRODID:-//Sovereign Grace URC - ECPv6.15.20//NONSGML v1.0//EN
CALSCALE:GREGORIAN
METHOD:PUBLISH
X-WR-CALNAME:Sovereign Grace URC
X-ORIGINAL-URL:https://sovereigngraceurc.org
X-WR-CALDESC:Events for Sovereign Grace URC
REFRESH-INTERVAL;VALUE=DURATION:PT1H
X-Robots-Tag:noindex
X-PUBLISHED-TTL:PT1H
BEGIN:VTIMEZONE
TZID:America/Detroit
BEGIN:DAYLIGHT
TZOFFSETFROM:-0500
TZOFFSETTO:-0400
TZNAME:EDT
DTSTART:20220313T070000
END:DAYLIGHT
BEGIN:STANDARD
TZOFFSETFROM:-0400
TZOFFSETTO:-0500
TZNAME:EST
DTSTART:20221106T060000
END:STANDARD
BEGIN:DAYLIGHT
TZOFFSETFROM:-0500
TZOFFSETTO:-0400
TZNAME:EDT
DTSTART:20230312T070000
END:DAYLIGHT
BEGIN:STANDARD
TZOFFSETFROM:-0400
TZOFFSETTO:-0500
TZNAME:EST
DTSTART:20231105T060000
END:STANDARD
BEGIN:DAYLIGHT
TZOFFSETFROM:-0500
TZOFFSETTO:-0400
TZNAME:EDT
DTSTART:20240310T070000
END:DAYLIGHT
BEGIN:STANDARD
TZOFFSETFROM:-0400
TZOFFSETTO:-0500
TZNAME:EST
DTSTART:20241103T060000
END:STANDARD
BEGIN:DAYLIGHT
TZOFFSETFROM:-0500
TZOFFSETTO:-0400
TZNAME:EDT
DTSTART:20250309T070000
END:DAYLIGHT
BEGIN:STANDARD
TZOFFSETFROM:-0400
TZOFFSETTO:-0500
TZNAME:EST
DTSTART:20251102T060000
END:STANDARD
END:VTIMEZONE
BEGIN:VEVENT
DTSTART;TZID=America/Detroit:20240218T110000
DTEND;TZID=America/Detroit:20240218T113000
DTSTAMP:20260424T233821
CREATED:20240101T194455Z
LAST-MODIFIED:20240101T194455Z
UID:14201-1708254000-1708255800@sovereigngraceurc.org
SUMMARY:Seniors Catechism
DESCRIPTION:
URL:https://sovereigngraceurc.org/event/seniors-catechism-75
CATEGORIES:Catechism
END:VEVENT
BEGIN:VEVENT
DTSTART;TZID=America/Detroit:20240218T110000
DTEND;TZID=America/Detroit:20240218T113000
DTSTAMP:20260424T233821
CREATED:20240101T194012Z
LAST-MODIFIED:20240101T194012Z
UID:14176-1708254000-1708255800@sovereigngraceurc.org
SUMMARY:Beginers Catechism
DESCRIPTION:
URL:https://sovereigngraceurc.org/event/beginers-catechism-81
CATEGORIES:Catechism
END:VEVENT
BEGIN:VEVENT
DTSTART;TZID=America/Detroit:20240211T110000
DTEND;TZID=America/Detroit:20240211T113000
DTSTAMP:20260424T233821
CREATED:20240101T194257Z
LAST-MODIFIED:20240101T194257Z
UID:14200-1707649200-1707651000@sovereigngraceurc.org
SUMMARY:Seniors Catechism
DESCRIPTION:
URL:https://sovereigngraceurc.org/event/seniors-catechism-74
CATEGORIES:Catechism
END:VEVENT
BEGIN:VEVENT
DTSTART;TZID=America/Detroit:20240211T110000
DTEND;TZID=America/Detroit:20240211T113000
DTSTAMP:20260424T233821
CREATED:20240101T194011Z
LAST-MODIFIED:20240101T194011Z
UID:14175-1707649200-1707651000@sovereigngraceurc.org
SUMMARY:Beginers Catechism
DESCRIPTION:
URL:https://sovereigngraceurc.org/event/beginers-catechism-80
CATEGORIES:Catechism
END:VEVENT
BEGIN:VEVENT
DTSTART;TZID=America/Detroit:20240204T110000
DTEND;TZID=America/Detroit:20240204T113000
DTSTAMP:20260424T233821
CREATED:20240101T194256Z
LAST-MODIFIED:20240101T194256Z
UID:14199-1707044400-1707046200@sovereigngraceurc.org
SUMMARY:Seniors Catechism
DESCRIPTION:
URL:https://sovereigngraceurc.org/event/seniors-catechism-73
CATEGORIES:Catechism
END:VEVENT
BEGIN:VEVENT
DTSTART;TZID=America/Detroit:20240204T110000
DTEND;TZID=America/Detroit:20240204T113000
DTSTAMP:20260424T233821
CREATED:20240101T194010Z
LAST-MODIFIED:20240101T194010Z
UID:14174-1707044400-1707046200@sovereigngraceurc.org
SUMMARY:Beginers Catechism
DESCRIPTION:
URL:https://sovereigngraceurc.org/event/beginers-catechism-79
CATEGORIES:Catechism
END:VEVENT
BEGIN:VEVENT
DTSTART;TZID=America/Detroit:20240128T160000
DTEND;TZID=America/Detroit:20240128T170000
DTSTAMP:20260424T233821
CREATED:20251130T161838Z
LAST-MODIFIED:20251130T161838Z
UID:16618-1706457600-1706461200@sovereigngraceurc.org
SUMMARY:Reformed Doctrine Class
DESCRIPTION:
URL:https://sovereigngraceurc.org/event/reformed-doctrine-class-4
CATEGORIES:Catechism
END:VEVENT
BEGIN:VEVENT
DTSTART;TZID=America/Detroit:20240128T110000
DTEND;TZID=America/Detroit:20240128T113000
DTSTAMP:20260424T233821
CREATED:20240101T194256Z
LAST-MODIFIED:20240101T194256Z
UID:14198-1706439600-1706441400@sovereigngraceurc.org
SUMMARY:Seniors Catechism
DESCRIPTION:
URL:https://sovereigngraceurc.org/event/seniors-catechism-72
CATEGORIES:Catechism
END:VEVENT
BEGIN:VEVENT
DTSTART;TZID=America/Detroit:20240128T110000
DTEND;TZID=America/Detroit:20240128T113000
DTSTAMP:20260424T233821
CREATED:20240101T194010Z
LAST-MODIFIED:20240101T194010Z
UID:14173-1706439600-1706441400@sovereigngraceurc.org
SUMMARY:Beginers Catechism
DESCRIPTION:
URL:https://sovereigngraceurc.org/event/beginers-catechism-78
CATEGORIES:Catechism
END:VEVENT
BEGIN:VEVENT
DTSTART;TZID=America/Detroit:20240121T110000
DTEND;TZID=America/Detroit:20240121T113000
DTSTAMP:20260424T233821
CREATED:20240101T194256Z
LAST-MODIFIED:20240101T194256Z
UID:14197-1705834800-1705836600@sovereigngraceurc.org
SUMMARY:Seniors Catechism
DESCRIPTION:
URL:https://sovereigngraceurc.org/event/seniors-catechism-71
CATEGORIES:Catechism
END:VEVENT
BEGIN:VEVENT
DTSTART;TZID=America/Detroit:20240121T110000
DTEND;TZID=America/Detroit:20240121T113000
DTSTAMP:20260424T233821
CREATED:20240101T194010Z
LAST-MODIFIED:20240101T194010Z
UID:14172-1705834800-1705836600@sovereigngraceurc.org
SUMMARY:Beginers Catechism
DESCRIPTION:
URL:https://sovereigngraceurc.org/event/beginers-catechism-77
CATEGORIES:Catechism
END:VEVENT
BEGIN:VEVENT
DTSTART;TZID=America/Detroit:20240114T110000
DTEND;TZID=America/Detroit:20240114T113000
DTSTAMP:20260424T233821
CREATED:20240101T194255Z
LAST-MODIFIED:20240101T194255Z
UID:14196-1705230000-1705231800@sovereigngraceurc.org
SUMMARY:Seniors Catechism
DESCRIPTION:
URL:https://sovereigngraceurc.org/event/seniors-catechism-70
CATEGORIES:Catechism
END:VEVENT
BEGIN:VEVENT
DTSTART;TZID=America/Detroit:20240114T110000
DTEND;TZID=America/Detroit:20240114T113000
DTSTAMP:20260424T233821
CREATED:20240101T194009Z
LAST-MODIFIED:20240101T194009Z
UID:14171-1705230000-1705231800@sovereigngraceurc.org
SUMMARY:Beginers Catechism
DESCRIPTION:
URL:https://sovereigngraceurc.org/event/beginers-catechism-76
CATEGORIES:Catechism
END:VEVENT
BEGIN:VEVENT
DTSTART;TZID=America/Detroit:20240107T110000
DTEND;TZID=America/Detroit:20240107T113000
DTSTAMP:20260424T233821
CREATED:20240101T194241Z
LAST-MODIFIED:20240101T194241Z
UID:14195-1704625200-1704627000@sovereigngraceurc.org
SUMMARY:Seniors Catechism
DESCRIPTION:
URL:https://sovereigngraceurc.org/event/seniors-catechism-69
CATEGORIES:Catechism
END:VEVENT
BEGIN:VEVENT
DTSTART;TZID=America/Detroit:20240107T110000
DTEND;TZID=America/Detroit:20240107T113000
DTSTAMP:20260424T233821
CREATED:20240101T194009Z
LAST-MODIFIED:20240101T194009Z
UID:14170-1704625200-1704627000@sovereigngraceurc.org
SUMMARY:Beginers Catechism
DESCRIPTION:
URL:https://sovereigngraceurc.org/event/beginers-catechism-75
CATEGORIES:Catechism
END:VEVENT
BEGIN:VEVENT
DTSTART;TZID=America/Detroit:20231210T110000
DTEND;TZID=America/Detroit:20231210T113000
DTSTAMP:20260424T233821
CREATED:20231019T232740Z
LAST-MODIFIED:20231019T232740Z
UID:14038-1702206000-1702207800@sovereigngraceurc.org
SUMMARY:Seniors Catechism
DESCRIPTION:Join us as we continue our study of Revelation
URL:https://sovereigngraceurc.org/event/seniors-catechism-68
CATEGORIES:Catechism
END:VEVENT
BEGIN:VEVENT
DTSTART;TZID=America/Detroit:20231210T110000
DTEND;TZID=America/Detroit:20231210T113000
DTSTAMP:20260424T233821
CREATED:20231019T232655Z
LAST-MODIFIED:20231019T232655Z
UID:14024-1702206000-1702207800@sovereigngraceurc.org
SUMMARY:Beginers Catechism
DESCRIPTION:
URL:https://sovereigngraceurc.org/event/beginers-catechism-74
CATEGORIES:Catechism
END:VEVENT
BEGIN:VEVENT
DTSTART;TZID=America/Detroit:20231203T110000
DTEND;TZID=America/Detroit:20231203T113000
DTSTAMP:20260424T233821
CREATED:20231019T232740Z
LAST-MODIFIED:20231019T232740Z
UID:14037-1701601200-1701603000@sovereigngraceurc.org
SUMMARY:Seniors Catechism
DESCRIPTION:
URL:https://sovereigngraceurc.org/event/seniors-catechism-67
CATEGORIES:Catechism
END:VEVENT
BEGIN:VEVENT
DTSTART;TZID=America/Detroit:20231203T110000
DTEND;TZID=America/Detroit:20231203T113000
DTSTAMP:20260424T233821
CREATED:20231019T232655Z
LAST-MODIFIED:20231019T232655Z
UID:14023-1701601200-1701603000@sovereigngraceurc.org
SUMMARY:Beginers Catechism
DESCRIPTION:
URL:https://sovereigngraceurc.org/event/beginers-catechism-73
CATEGORIES:Catechism
END:VEVENT
BEGIN:VEVENT
DTSTART;TZID=America/Detroit:20231126T110000
DTEND;TZID=America/Detroit:20231126T113000
DTSTAMP:20260424T233821
CREATED:20231019T232739Z
LAST-MODIFIED:20231019T232739Z
UID:14036-1700996400-1700998200@sovereigngraceurc.org
SUMMARY:Seniors Catechism
DESCRIPTION:
URL:https://sovereigngraceurc.org/event/seniors-catechism-66
CATEGORIES:Catechism
END:VEVENT
BEGIN:VEVENT
DTSTART;TZID=America/Detroit:20231126T110000
DTEND;TZID=America/Detroit:20231126T113000
DTSTAMP:20260424T233821
CREATED:20231019T232655Z
LAST-MODIFIED:20231019T232655Z
UID:14022-1700996400-1700998200@sovereigngraceurc.org
SUMMARY:Beginers Catechism
DESCRIPTION:
URL:https://sovereigngraceurc.org/event/beginers-catechism-72
CATEGORIES:Catechism
END:VEVENT
BEGIN:VEVENT
DTSTART;TZID=America/Detroit:20231119T110000
DTEND;TZID=America/Detroit:20231119T113000
DTSTAMP:20260424T233821
CREATED:20231019T232725Z
LAST-MODIFIED:20231019T232725Z
UID:14035-1700391600-1700393400@sovereigngraceurc.org
SUMMARY:Seniors Catechism
DESCRIPTION:
URL:https://sovereigngraceurc.org/event/seniors-catechism-65
CATEGORIES:Catechism
END:VEVENT
BEGIN:VEVENT
DTSTART;TZID=America/Detroit:20231119T110000
DTEND;TZID=America/Detroit:20231119T113000
DTSTAMP:20260424T233821
CREATED:20231019T232654Z
LAST-MODIFIED:20231019T232654Z
UID:14021-1700391600-1700393400@sovereigngraceurc.org
SUMMARY:Beginers Catechism
DESCRIPTION:
URL:https://sovereigngraceurc.org/event/beginers-catechism-71
CATEGORIES:Catechism
END:VEVENT
BEGIN:VEVENT
DTSTART;TZID=America/Detroit:20231112T110000
DTEND;TZID=America/Detroit:20231112T113000
DTSTAMP:20260424T233821
CREATED:20231019T232725Z
LAST-MODIFIED:20231019T232725Z
UID:14034-1699786800-1699788600@sovereigngraceurc.org
SUMMARY:Seniors Catechism
DESCRIPTION:
URL:https://sovereigngraceurc.org/event/seniors-catechism-64
CATEGORIES:Catechism
END:VEVENT
BEGIN:VEVENT
DTSTART;TZID=America/Detroit:20231112T110000
DTEND;TZID=America/Detroit:20231112T113000
DTSTAMP:20260424T233821
CREATED:20231019T232640Z
LAST-MODIFIED:20231019T232640Z
UID:14020-1699786800-1699788600@sovereigngraceurc.org
SUMMARY:Beginers Catechism
DESCRIPTION:
URL:https://sovereigngraceurc.org/event/beginers-catechism-70
CATEGORIES:Catechism
END:VEVENT
BEGIN:VEVENT
DTSTART;TZID=America/Detroit:20231105T110000
DTEND;TZID=America/Detroit:20231105T113000
DTSTAMP:20260424T233821
CREATED:20231019T232725Z
LAST-MODIFIED:20231019T232725Z
UID:14033-1699182000-1699183800@sovereigngraceurc.org
SUMMARY:Seniors Catechism
DESCRIPTION:
URL:https://sovereigngraceurc.org/event/seniors-catechism-63
CATEGORIES:Catechism
END:VEVENT
BEGIN:VEVENT
DTSTART;TZID=America/Detroit:20231105T110000
DTEND;TZID=America/Detroit:20231105T113000
DTSTAMP:20260424T233821
CREATED:20231019T232640Z
LAST-MODIFIED:20231019T232640Z
UID:14019-1699182000-1699183800@sovereigngraceurc.org
SUMMARY:Beginers Catechism
DESCRIPTION:
URL:https://sovereigngraceurc.org/event/beginers-catechism-69
CATEGORIES:Catechism
END:VEVENT
BEGIN:VEVENT
DTSTART;TZID=America/Detroit:20231029T110000
DTEND;TZID=America/Detroit:20231029T113000
DTSTAMP:20260424T233821
CREATED:20231019T232725Z
LAST-MODIFIED:20231019T232725Z
UID:14032-1698577200-1698579000@sovereigngraceurc.org
SUMMARY:Seniors Catechism
DESCRIPTION:
URL:https://sovereigngraceurc.org/event/seniors-catechism-62
CATEGORIES:Catechism
END:VEVENT
BEGIN:VEVENT
DTSTART;TZID=America/Detroit:20231029T110000
DTEND;TZID=America/Detroit:20231029T113000
DTSTAMP:20260424T233821
CREATED:20231019T232639Z
LAST-MODIFIED:20231019T232639Z
UID:14018-1698577200-1698579000@sovereigngraceurc.org
SUMMARY:Beginers Catechism
DESCRIPTION:
URL:https://sovereigngraceurc.org/event/beginers-catechism-68
CATEGORIES:Catechism
END:VEVENT
BEGIN:VEVENT
DTSTART;TZID=America/Detroit:20231022T110000
DTEND;TZID=America/Detroit:20231022T113000
DTSTAMP:20260424T233821
CREATED:20231019T232724Z
LAST-MODIFIED:20231019T232724Z
UID:14031-1697972400-1697974200@sovereigngraceurc.org
SUMMARY:Seniors Catechism
DESCRIPTION:
URL:https://sovereigngraceurc.org/event/seniors-catechism-61
CATEGORIES:Catechism
END:VEVENT
END:VCALENDAR