BEGIN:VCALENDAR
VERSION:2.0
PRODID:-//Sovereign Grace URC - ECPv6.15.20//NONSGML v1.0//EN
CALSCALE:GREGORIAN
METHOD:PUBLISH
X-WR-CALNAME:Sovereign Grace URC
X-ORIGINAL-URL:https://sovereigngraceurc.org
X-WR-CALDESC:Events for Sovereign Grace URC
REFRESH-INTERVAL;VALUE=DURATION:PT1H
X-Robots-Tag:noindex
X-PUBLISHED-TTL:PT1H
BEGIN:VTIMEZONE
TZID:America/Detroit
BEGIN:DAYLIGHT
TZOFFSETFROM:-0500
TZOFFSETTO:-0400
TZNAME:EDT
DTSTART:20250309T070000
END:DAYLIGHT
BEGIN:STANDARD
TZOFFSETFROM:-0400
TZOFFSETTO:-0500
TZNAME:EST
DTSTART:20251102T060000
END:STANDARD
BEGIN:DAYLIGHT
TZOFFSETFROM:-0500
TZOFFSETTO:-0400
TZNAME:EDT
DTSTART:20260308T070000
END:DAYLIGHT
BEGIN:STANDARD
TZOFFSETFROM:-0400
TZOFFSETTO:-0500
TZNAME:EST
DTSTART:20261101T060000
END:STANDARD
BEGIN:DAYLIGHT
TZOFFSETFROM:-0500
TZOFFSETTO:-0400
TZNAME:EDT
DTSTART:20270314T070000
END:DAYLIGHT
BEGIN:STANDARD
TZOFFSETFROM:-0400
TZOFFSETTO:-0500
TZNAME:EST
DTSTART:20271107T060000
END:STANDARD
END:VTIMEZONE
BEGIN:VEVENT
DTSTART;TZID=America/Detroit:20260301T110000
DTEND;TZID=America/Detroit:20260301T114500
DTSTAMP:20260423T142801
CREATED:20251130T161807Z
LAST-MODIFIED:20251130T161807Z
UID:16603-1772362800-1772365500@sovereigngraceurc.org
SUMMARY:Junior Catechism
DESCRIPTION:
URL:https://sovereigngraceurc.org/event/junior-catechism-8
CATEGORIES:Catechism
END:VEVENT
BEGIN:VEVENT
DTSTART;TZID=America/Detroit:20260302T160000
DTEND;TZID=America/Detroit:20260302T170000
DTSTAMP:20260423T142801
CREATED:20251130T161941Z
LAST-MODIFIED:20251130T161941Z
UID:16625-1772467200-1772470800@sovereigngraceurc.org
SUMMARY:Reformed Doctrine Class
DESCRIPTION:
URL:https://sovereigngraceurc.org/event/reformed-doctrine-class-9
CATEGORIES:Catechism
END:VEVENT
BEGIN:VEVENT
DTSTART;TZID=America/Detroit:20260308T110000
DTEND;TZID=America/Detroit:20260308T114500
DTSTAMP:20260423T142801
CREATED:20251130T161808Z
LAST-MODIFIED:20251130T161808Z
UID:16604-1772967600-1772970300@sovereigngraceurc.org
SUMMARY:Junior Catechism
DESCRIPTION:
URL:https://sovereigngraceurc.org/event/junior-catechism-9
CATEGORIES:Catechism
END:VEVENT
BEGIN:VEVENT
DTSTART;TZID=America/Detroit:20260309T160000
DTEND;TZID=America/Detroit:20260309T170000
DTSTAMP:20260423T142801
CREATED:20251130T161941Z
LAST-MODIFIED:20251130T161941Z
UID:16626-1773072000-1773075600@sovereigngraceurc.org
SUMMARY:Reformed Doctrine Class
DESCRIPTION:
URL:https://sovereigngraceurc.org/event/reformed-doctrine-class-10
CATEGORIES:Catechism
END:VEVENT
BEGIN:VEVENT
DTSTART;TZID=America/Detroit:20260315T110000
DTEND;TZID=America/Detroit:20260315T114500
DTSTAMP:20260423T142801
CREATED:20251130T161808Z
LAST-MODIFIED:20251130T161808Z
UID:16605-1773572400-1773575100@sovereigngraceurc.org
SUMMARY:Junior Catechism
DESCRIPTION:
URL:https://sovereigngraceurc.org/event/junior-catechism-10
CATEGORIES:Catechism
END:VEVENT
BEGIN:VEVENT
DTSTART;TZID=America/Detroit:20260316T160000
DTEND;TZID=America/Detroit:20260316T170000
DTSTAMP:20260423T142801
CREATED:20251130T161942Z
LAST-MODIFIED:20251130T161942Z
UID:16627-1773676800-1773680400@sovereigngraceurc.org
SUMMARY:Reformed Doctrine Class
DESCRIPTION:
URL:https://sovereigngraceurc.org/event/reformed-doctrine-class-11
CATEGORIES:Catechism
END:VEVENT
BEGIN:VEVENT
DTSTART;TZID=America/Detroit:20260322T110000
DTEND;TZID=America/Detroit:20260322T114500
DTSTAMP:20260423T142801
CREATED:20251130T161816Z
LAST-MODIFIED:20251130T161816Z
UID:16606-1774177200-1774179900@sovereigngraceurc.org
SUMMARY:Junior Catechism
DESCRIPTION:
URL:https://sovereigngraceurc.org/event/junior-catechism-11
CATEGORIES:Catechism
END:VEVENT
BEGIN:VEVENT
DTSTART;TZID=America/Detroit:20260323T160000
DTEND;TZID=America/Detroit:20260323T170000
DTSTAMP:20260423T142801
CREATED:20251130T161945Z
LAST-MODIFIED:20251130T161945Z
UID:16628-1774281600-1774285200@sovereigngraceurc.org
SUMMARY:Reformed Doctrine Class
DESCRIPTION:
URL:https://sovereigngraceurc.org/event/reformed-doctrine-class-12
CATEGORIES:Catechism
END:VEVENT
BEGIN:VEVENT
DTSTART;TZID=America/Detroit:20260329T110000
DTEND;TZID=America/Detroit:20260329T114500
DTSTAMP:20260423T142801
CREATED:20251130T161817Z
LAST-MODIFIED:20251130T161817Z
UID:16607-1774782000-1774784700@sovereigngraceurc.org
SUMMARY:Junior Catechism
DESCRIPTION:
URL:https://sovereigngraceurc.org/event/junior-catechism-12
CATEGORIES:Catechism
END:VEVENT
BEGIN:VEVENT
DTSTART;TZID=America/Detroit:20260330T160000
DTEND;TZID=America/Detroit:20260330T170000
DTSTAMP:20260423T142801
CREATED:20251130T161946Z
LAST-MODIFIED:20251130T161946Z
UID:16629-1774886400-1774890000@sovereigngraceurc.org
SUMMARY:Reformed Doctrine Class
DESCRIPTION:
URL:https://sovereigngraceurc.org/event/reformed-doctrine-class-13
CATEGORIES:Catechism
END:VEVENT
END:VCALENDAR