BEGIN:VCALENDAR
VERSION:2.0
PRODID:-//Sovereign Grace URC - ECPv6.15.20//NONSGML v1.0//EN
CALSCALE:GREGORIAN
METHOD:PUBLISH
X-ORIGINAL-URL:https://sovereigngraceurc.org
X-WR-CALDESC:Events for Sovereign Grace URC
REFRESH-INTERVAL;VALUE=DURATION:PT1H
X-Robots-Tag:noindex
X-PUBLISHED-TTL:PT1H
BEGIN:VTIMEZONE
TZID:America/Detroit
BEGIN:DAYLIGHT
TZOFFSETFROM:-0500
TZOFFSETTO:-0400
TZNAME:EDT
DTSTART:20200308T070000
END:DAYLIGHT
BEGIN:STANDARD
TZOFFSETFROM:-0400
TZOFFSETTO:-0500
TZNAME:EST
DTSTART:20201101T060000
END:STANDARD
BEGIN:DAYLIGHT
TZOFFSETFROM:-0500
TZOFFSETTO:-0400
TZNAME:EDT
DTSTART:20210314T070000
END:DAYLIGHT
BEGIN:STANDARD
TZOFFSETFROM:-0400
TZOFFSETTO:-0500
TZNAME:EST
DTSTART:20211107T060000
END:STANDARD
BEGIN:DAYLIGHT
TZOFFSETFROM:-0500
TZOFFSETTO:-0400
TZNAME:EDT
DTSTART:20220313T070000
END:DAYLIGHT
BEGIN:STANDARD
TZOFFSETFROM:-0400
TZOFFSETTO:-0500
TZNAME:EST
DTSTART:20221106T060000
END:STANDARD
END:VTIMEZONE
BEGIN:VEVENT
DTSTART;TZID=America/Detroit:20210912T184500
DTEND;TZID=America/Detroit:20210912T193000
DTSTAMP:20260424T195428
CREATED:20210903T205857Z
LAST-MODIFIED:20210903T210809Z
UID:12467-1631472300-1631475000@sovereigngraceurc.org
SUMMARY:Senior Catechism Class
DESCRIPTION:
URL:https://sovereigngraceurc.org/event/senior-catechism-class
LOCATION:Sovereign Grace URC\, 62 Lamoreaux Drive NE\, Comstock Park\, MI\, 49321\, United States
CATEGORIES:Catechism Class
END:VEVENT
BEGIN:VEVENT
DTSTART;TZID=America/Detroit:20210912T113000
DTEND;TZID=America/Detroit:20210912T120000
DTSTAMP:20260424T195428
CREATED:20210903T205843Z
LAST-MODIFIED:20210903T210735Z
UID:12466-1631446200-1631448000@sovereigngraceurc.org
SUMMARY:Beginner Catechism Class
DESCRIPTION:
URL:https://sovereigngraceurc.org/event/beginner-catechism-class
LOCATION:Sovereign Grace URC\, 62 Lamoreaux Drive NE\, Comstock Park\, MI\, 49321\, United States
CATEGORIES:Catechism Class
END:VEVENT
BEGIN:VEVENT
DTSTART;TZID=America/Detroit:20210912T110000
DTEND;TZID=America/Detroit:20210912T113000
DTSTAMP:20260424T195428
CREATED:20210903T205843Z
LAST-MODIFIED:20210903T210745Z
UID:12465-1631444400-1631446200@sovereigngraceurc.org
SUMMARY:Belgic Confession Class
DESCRIPTION:
URL:https://sovereigngraceurc.org/event/belgic-confession-class
LOCATION:Sovereign Grace URC\, 62 Lamoreaux Drive NE\, Comstock Park\, MI\, 49321\, United States
CATEGORIES:Catechism Class
END:VEVENT
END:VCALENDAR