BEGIN:VCALENDAR
VERSION:2.0
PRODID:-//Sovereign Grace URC - ECPv6.15.20//NONSGML v1.0//EN
CALSCALE:GREGORIAN
METHOD:PUBLISH
X-ORIGINAL-URL:https://sovereigngraceurc.org
X-WR-CALDESC:Events for Sovereign Grace URC
REFRESH-INTERVAL;VALUE=DURATION:PT1H
X-Robots-Tag:noindex
X-PUBLISHED-TTL:PT1H
BEGIN:VTIMEZONE
TZID:America/Detroit
BEGIN:DAYLIGHT
TZOFFSETFROM:-0500
TZOFFSETTO:-0400
TZNAME:EDT
DTSTART:20210314T070000
END:DAYLIGHT
BEGIN:STANDARD
TZOFFSETFROM:-0400
TZOFFSETTO:-0500
TZNAME:EST
DTSTART:20211107T060000
END:STANDARD
BEGIN:DAYLIGHT
TZOFFSETFROM:-0500
TZOFFSETTO:-0400
TZNAME:EDT
DTSTART:20220313T070000
END:DAYLIGHT
BEGIN:STANDARD
TZOFFSETFROM:-0400
TZOFFSETTO:-0500
TZNAME:EST
DTSTART:20221106T060000
END:STANDARD
BEGIN:DAYLIGHT
TZOFFSETFROM:-0500
TZOFFSETTO:-0400
TZNAME:EDT
DTSTART:20230312T070000
END:DAYLIGHT
BEGIN:STANDARD
TZOFFSETFROM:-0400
TZOFFSETTO:-0500
TZNAME:EST
DTSTART:20231105T060000
END:STANDARD
END:VTIMEZONE
BEGIN:VEVENT
DTSTART;TZID=America/Detroit:20221102T193000
DTEND;TZID=America/Detroit:20221102T203000
DTSTAMP:20260424T165009
CREATED:20220911T193134Z
LAST-MODIFIED:20220911T193134Z
UID:13108-1667417400-1667421000@sovereigngraceurc.org
SUMMARY:Wednessday Night Bible Study
DESCRIPTION:Join us as we continue our study of I Corinthians.
URL:https://sovereigngraceurc.org/event/wednessday-night-bible-study-5
CATEGORIES:Bibley Study
END:VEVENT
BEGIN:VEVENT
DTSTART;TZID=America/Detroit:20221028T160000
DTEND;TZID=America/Detroit:20221028T170000
DTSTAMP:20260424T165009
CREATED:20220911T193335Z
LAST-MODIFIED:20220911T193335Z
UID:13123-1666972800-1666976400@sovereigngraceurc.org
SUMMARY:Remnant Bible Study
DESCRIPTION:
URL:https://sovereigngraceurc.org/event/remnant-bible-study-9
CATEGORIES:Bibley Study
END:VEVENT
BEGIN:VEVENT
DTSTART;TZID=America/Detroit:20221021T160000
DTEND;TZID=America/Detroit:20221021T170000
DTSTAMP:20260424T165009
CREATED:20220911T193334Z
LAST-MODIFIED:20220911T193334Z
UID:13122-1666368000-1666371600@sovereigngraceurc.org
SUMMARY:Remnant Bible Study
DESCRIPTION:
URL:https://sovereigngraceurc.org/event/remnant-bible-study-8
CATEGORIES:Bibley Study
END:VEVENT
BEGIN:VEVENT
DTSTART;TZID=America/Detroit:20221019T193000
DTEND;TZID=America/Detroit:20221019T203000
DTSTAMP:20260424T165009
CREATED:20220911T193134Z
LAST-MODIFIED:20220911T193134Z
UID:13107-1666207800-1666211400@sovereigngraceurc.org
SUMMARY:Wednessday Night Bible Study
DESCRIPTION:Join us as we continue our study of I Corinthians.
URL:https://sovereigngraceurc.org/event/wednessday-night-bible-study-4
CATEGORIES:Bibley Study
END:VEVENT
BEGIN:VEVENT
DTSTART;TZID=America/Detroit:20221014T160000
DTEND;TZID=America/Detroit:20221014T170000
DTSTAMP:20260424T165009
CREATED:20220911T193334Z
LAST-MODIFIED:20220911T193334Z
UID:13121-1665763200-1665766800@sovereigngraceurc.org
SUMMARY:Remnant Bible Study
DESCRIPTION:
URL:https://sovereigngraceurc.org/event/remnant-bible-study-7
CATEGORIES:Bibley Study
END:VEVENT
BEGIN:VEVENT
DTSTART;TZID=America/Detroit:20221007T160000
DTEND;TZID=America/Detroit:20221007T170000
DTSTAMP:20260424T165009
CREATED:20220911T193334Z
LAST-MODIFIED:20220911T193334Z
UID:13120-1665158400-1665162000@sovereigngraceurc.org
SUMMARY:Remnant Bible Study
DESCRIPTION:
URL:https://sovereigngraceurc.org/event/remnant-bible-study-6
CATEGORIES:Bibley Study
END:VEVENT
BEGIN:VEVENT
DTSTART;TZID=America/Detroit:20221005T193000
DTEND;TZID=America/Detroit:20221005T203000
DTSTAMP:20260424T165009
CREATED:20220911T193120Z
LAST-MODIFIED:20220911T193120Z
UID:13106-1664998200-1665001800@sovereigngraceurc.org
SUMMARY:Wednessday Night Bible Study
DESCRIPTION:Join us as we continue our study of I Corinthians.
URL:https://sovereigngraceurc.org/event/wednessday-night-bible-study-3
CATEGORIES:Bibley Study
END:VEVENT
BEGIN:VEVENT
DTSTART;TZID=America/Detroit:20220930T160000
DTEND;TZID=America/Detroit:20220930T170000
DTSTAMP:20260424T165009
CREATED:20220911T193150Z
LAST-MODIFIED:20220911T193150Z
UID:13116-1664553600-1664557200@sovereigngraceurc.org
SUMMARY:Remnant Bible Study
DESCRIPTION:
URL:https://sovereigngraceurc.org/event/remnant-bible-study-5
CATEGORIES:Bibley Study
END:VEVENT
BEGIN:VEVENT
DTSTART;TZID=America/Detroit:20220923T160000
DTEND;TZID=America/Detroit:20220923T170000
DTSTAMP:20260424T165009
CREATED:20220911T193150Z
LAST-MODIFIED:20220911T193150Z
UID:13115-1663948800-1663952400@sovereigngraceurc.org
SUMMARY:Remnant Bible Study
DESCRIPTION:
URL:https://sovereigngraceurc.org/event/remnant-bible-study-4
CATEGORIES:Bibley Study
END:VEVENT
BEGIN:VEVENT
DTSTART;TZID=America/Detroit:20220921T193000
DTEND;TZID=America/Detroit:20220921T203000
DTSTAMP:20260424T165009
CREATED:20220911T193119Z
LAST-MODIFIED:20220911T193119Z
UID:13105-1663788600-1663792200@sovereigngraceurc.org
SUMMARY:Wednessday Night Bible Study
DESCRIPTION:Join us as we continue our study of I Corinthians.
URL:https://sovereigngraceurc.org/event/wednessday-night-bible-study-2
CATEGORIES:Bibley Study
END:VEVENT
BEGIN:VEVENT
DTSTART;TZID=America/Detroit:20220916T160000
DTEND;TZID=America/Detroit:20220916T170000
DTSTAMP:20260424T165009
CREATED:20220911T193150Z
LAST-MODIFIED:20220911T193150Z
UID:13114-1663344000-1663347600@sovereigngraceurc.org
SUMMARY:Remnant Bible Study
DESCRIPTION:
URL:https://sovereigngraceurc.org/event/remnant-bible-study-3
CATEGORIES:Bibley Study
END:VEVENT
BEGIN:VEVENT
DTSTART;TZID=America/Detroit:20220909T160000
DTEND;TZID=America/Detroit:20220909T170000
DTSTAMP:20260424T165009
CREATED:20220911T193150Z
LAST-MODIFIED:20220911T193150Z
UID:13113-1662739200-1662742800@sovereigngraceurc.org
SUMMARY:Remnant Bible Study
DESCRIPTION:
URL:https://sovereigngraceurc.org/event/remnant-bible-study-2
CATEGORIES:Bibley Study
END:VEVENT
BEGIN:VEVENT
DTSTART;TZID=America/Detroit:20220907T193000
DTEND;TZID=America/Detroit:20220907T203000
DTSTAMP:20260424T165009
CREATED:20220911T193119Z
LAST-MODIFIED:20220911T193119Z
UID:13104-1662579000-1662582600@sovereigngraceurc.org
SUMMARY:Wednessday Night Bible Study
DESCRIPTION:Join us as we continue our study of I Corinthians.
URL:https://sovereigngraceurc.org/event/wednessday-night-bible-study
CATEGORIES:Bibley Study
END:VEVENT
BEGIN:VEVENT
DTSTART;TZID=America/Detroit:20220902T160000
DTEND;TZID=America/Detroit:20220902T170000
DTSTAMP:20260424T165009
CREATED:20220911T193150Z
LAST-MODIFIED:20220911T193150Z
UID:13112-1662134400-1662138000@sovereigngraceurc.org
SUMMARY:Remnant Bible Study
DESCRIPTION:
URL:https://sovereigngraceurc.org/event/remnant-bible-study
CATEGORIES:Bibley Study
END:VEVENT
END:VCALENDAR