BEGIN:VCALENDAR
VERSION:2.0
PRODID:-//Sovereign Grace URC - ECPv6.15.20//NONSGML v1.0//EN
CALSCALE:GREGORIAN
METHOD:PUBLISH
X-ORIGINAL-URL:https://sovereigngraceurc.org
X-WR-CALDESC:Events for Sovereign Grace URC
REFRESH-INTERVAL;VALUE=DURATION:PT1H
X-Robots-Tag:noindex
X-PUBLISHED-TTL:PT1H
BEGIN:VTIMEZONE
TZID:America/Detroit
BEGIN:DAYLIGHT
TZOFFSETFROM:-0500
TZOFFSETTO:-0400
TZNAME:EDT
DTSTART:20210314T070000
END:DAYLIGHT
BEGIN:STANDARD
TZOFFSETFROM:-0400
TZOFFSETTO:-0500
TZNAME:EST
DTSTART:20211107T060000
END:STANDARD
BEGIN:DAYLIGHT
TZOFFSETFROM:-0500
TZOFFSETTO:-0400
TZNAME:EDT
DTSTART:20220313T070000
END:DAYLIGHT
BEGIN:STANDARD
TZOFFSETFROM:-0400
TZOFFSETTO:-0500
TZNAME:EST
DTSTART:20221106T060000
END:STANDARD
BEGIN:DAYLIGHT
TZOFFSETFROM:-0500
TZOFFSETTO:-0400
TZNAME:EDT
DTSTART:20230312T070000
END:DAYLIGHT
BEGIN:STANDARD
TZOFFSETFROM:-0400
TZOFFSETTO:-0500
TZNAME:EST
DTSTART:20231105T060000
END:STANDARD
BEGIN:DAYLIGHT
TZOFFSETFROM:-0500
TZOFFSETTO:-0400
TZNAME:EDT
DTSTART:20240310T070000
END:DAYLIGHT
BEGIN:STANDARD
TZOFFSETFROM:-0400
TZOFFSETTO:-0500
TZNAME:EST
DTSTART:20241103T060000
END:STANDARD
END:VTIMEZONE
BEGIN:VEVENT
DTSTART;TZID=America/Detroit:20230901T160000
DTEND;TZID=America/Detroit:20230901T170000
DTSTAMP:20260424T091838
CREATED:20231019T232807Z
LAST-MODIFIED:20231019T232807Z
UID:14047-1693584000-1693587600@sovereigngraceurc.org
SUMMARY:Remnant Bible Study
DESCRIPTION:
URL:https://sovereigngraceurc.org/event/remnant-bible-study-30
LOCATION:MI
CATEGORIES:Bibley Study
END:VEVENT
BEGIN:VEVENT
DTSTART;TZID=America/Detroit:20230426T193000
DTEND;TZID=America/Detroit:20230426T203000
DTSTAMP:20260424T091838
CREATED:20221210T223051Z
LAST-MODIFIED:20221210T223051Z
UID:13435-1682537400-1682541000@sovereigngraceurc.org
SUMMARY:Wednessday Night Bible Study
DESCRIPTION:Join us as we continue our study of I Corinthians.
URL:https://sovereigngraceurc.org/event/wednessday-night-bible-study-25
LOCATION:MI
CATEGORIES:Bibley Study
END:VEVENT
BEGIN:VEVENT
DTSTART;TZID=America/Detroit:20230414T160000
DTEND;TZID=America/Detroit:20230414T170000
DTSTAMP:20260424T091838
CREATED:20221210T223322Z
LAST-MODIFIED:20221210T223322Z
UID:13449-1681488000-1681491600@sovereigngraceurc.org
SUMMARY:Remnant Bible Study
DESCRIPTION:
URL:https://sovereigngraceurc.org/event/remnant-bible-study-28
LOCATION:MI
CATEGORIES:Bibley Study
END:VEVENT
BEGIN:VEVENT
DTSTART;TZID=America/Detroit:20230412T203000
DTEND;TZID=America/Detroit:20230412T213000
DTSTAMP:20260424T091838
CREATED:20221210T223050Z
LAST-MODIFIED:20221210T223050Z
UID:13434-1681331400-1681335000@sovereigngraceurc.org
SUMMARY:Wednessday Night Bible Study
DESCRIPTION:Join us as we continue our study of I Corinthians.
URL:https://sovereigngraceurc.org/event/wednessday-night-bible-study-24
LOCATION:MI
CATEGORIES:Bibley Study
END:VEVENT
BEGIN:VEVENT
DTSTART;TZID=America/Detroit:20230407T160000
DTEND;TZID=America/Detroit:20230407T170000
DTSTAMP:20260424T091838
CREATED:20221210T223322Z
LAST-MODIFIED:20221210T223322Z
UID:13448-1680883200-1680886800@sovereigngraceurc.org
SUMMARY:Remnant Bible Study
DESCRIPTION:
URL:https://sovereigngraceurc.org/event/remnant-bible-study-27
LOCATION:MI
CATEGORIES:Bibley Study
END:VEVENT
BEGIN:VEVENT
DTSTART;TZID=America/Detroit:20230331T160000
DTEND;TZID=America/Detroit:20230331T170000
DTSTAMP:20260424T091838
CREATED:20221210T223322Z
LAST-MODIFIED:20221210T223322Z
UID:13447-1680278400-1680282000@sovereigngraceurc.org
SUMMARY:Remnant Bible Study
DESCRIPTION:
URL:https://sovereigngraceurc.org/event/remnant-bible-study-26
LOCATION:MI
CATEGORIES:Bibley Study
END:VEVENT
BEGIN:VEVENT
DTSTART;TZID=America/Detroit:20230329T193000
DTEND;TZID=America/Detroit:20230329T203000
DTSTAMP:20260424T091838
CREATED:20221210T223050Z
LAST-MODIFIED:20221210T223050Z
UID:13433-1680118200-1680121800@sovereigngraceurc.org
SUMMARY:Wednessday Night Bible Study
DESCRIPTION:Join us as we continue our study of I Corinthians.
URL:https://sovereigngraceurc.org/event/wednessday-night-bible-study-23
LOCATION:MI
CATEGORIES:Bibley Study
END:VEVENT
BEGIN:VEVENT
DTSTART;TZID=America/Detroit:20230324T160000
DTEND;TZID=America/Detroit:20230324T170000
DTSTAMP:20260424T091838
CREATED:20221210T223121Z
LAST-MODIFIED:20221210T223121Z
UID:13446-1679673600-1679677200@sovereigngraceurc.org
SUMMARY:Remnant Bible Study
DESCRIPTION:
URL:https://sovereigngraceurc.org/event/remnant-bible-study-25
LOCATION:MI
CATEGORIES:Bibley Study
END:VEVENT
BEGIN:VEVENT
DTSTART;TZID=America/Detroit:20230317T160000
DTEND;TZID=America/Detroit:20230317T170000
DTSTAMP:20260424T091838
CREATED:20221210T223121Z
LAST-MODIFIED:20221210T223121Z
UID:13445-1679068800-1679072400@sovereigngraceurc.org
SUMMARY:Remnant Bible Study
DESCRIPTION:
URL:https://sovereigngraceurc.org/event/remnant-bible-study-24
LOCATION:MI
CATEGORIES:Bibley Study
END:VEVENT
BEGIN:VEVENT
DTSTART;TZID=America/Detroit:20230315T193000
DTEND;TZID=America/Detroit:20230315T203000
DTSTAMP:20260424T091838
CREATED:20221210T223050Z
LAST-MODIFIED:20221210T223050Z
UID:13432-1678908600-1678912200@sovereigngraceurc.org
SUMMARY:Wednessday Night Bible Study
DESCRIPTION:Join us as we continue our study of I Corinthians.
URL:https://sovereigngraceurc.org/event/wednessday-night-bible-study-22
LOCATION:MI
CATEGORIES:Bibley Study
END:VEVENT
BEGIN:VEVENT
DTSTART;TZID=America/Detroit:20230310T160000
DTEND;TZID=America/Detroit:20230310T170000
DTSTAMP:20260424T091838
CREATED:20221210T223121Z
LAST-MODIFIED:20221210T223121Z
UID:13444-1678464000-1678467600@sovereigngraceurc.org
SUMMARY:Remnant Bible Study
DESCRIPTION:
URL:https://sovereigngraceurc.org/event/remnant-bible-study-23
LOCATION:MI
CATEGORIES:Bibley Study
END:VEVENT
BEGIN:VEVENT
DTSTART;TZID=America/Detroit:20230301T193000
DTEND;TZID=America/Detroit:20230301T203000
DTSTAMP:20260424T091838
CREATED:20221210T223035Z
LAST-MODIFIED:20221210T223035Z
UID:13431-1677699000-1677702600@sovereigngraceurc.org
SUMMARY:Wednessday Night Bible Study
DESCRIPTION:Join us as we continue our study of I Corinthians.
URL:https://sovereigngraceurc.org/event/wednessday-night-bible-study-21
LOCATION:MI
CATEGORIES:Bibley Study
END:VEVENT
BEGIN:VEVENT
DTSTART;TZID=America/Detroit:20230224T160000
DTEND;TZID=America/Detroit:20230224T170000
DTSTAMP:20260424T091838
CREATED:20221210T223120Z
LAST-MODIFIED:20221210T223120Z
UID:13442-1677254400-1677258000@sovereigngraceurc.org
SUMMARY:Remnant Bible Study
DESCRIPTION:
URL:https://sovereigngraceurc.org/event/remnant-bible-study-21
LOCATION:MI
CATEGORIES:Bibley Study
END:VEVENT
BEGIN:VEVENT
DTSTART;TZID=America/Detroit:20230217T160000
DTEND;TZID=America/Detroit:20230217T170000
DTSTAMP:20260424T091838
CREATED:20221210T223105Z
LAST-MODIFIED:20221210T223105Z
UID:13441-1676649600-1676653200@sovereigngraceurc.org
SUMMARY:Remnant Bible Study
DESCRIPTION:
URL:https://sovereigngraceurc.org/event/remnant-bible-study-20
LOCATION:MI
CATEGORIES:Bibley Study
END:VEVENT
BEGIN:VEVENT
DTSTART;TZID=America/Detroit:20230215T193000
DTEND;TZID=America/Detroit:20230215T203000
DTSTAMP:20260424T091838
CREATED:20221210T223035Z
LAST-MODIFIED:20221210T223035Z
UID:13430-1676489400-1676493000@sovereigngraceurc.org
SUMMARY:Wednessday Night Bible Study
DESCRIPTION:Join us as we continue our study of I Corinthians.
URL:https://sovereigngraceurc.org/event/wednessday-night-bible-study-20
LOCATION:MI
CATEGORIES:Bibley Study
END:VEVENT
BEGIN:VEVENT
DTSTART;TZID=America/Detroit:20230210T160000
DTEND;TZID=America/Detroit:20230210T170000
DTSTAMP:20260424T091838
CREATED:20221210T223105Z
LAST-MODIFIED:20221210T223105Z
UID:13440-1676044800-1676048400@sovereigngraceurc.org
SUMMARY:Remnant Bible Study
DESCRIPTION:
URL:https://sovereigngraceurc.org/event/remnant-bible-study-19
LOCATION:MI
CATEGORIES:Bibley Study
END:VEVENT
BEGIN:VEVENT
DTSTART;TZID=America/Detroit:20230203T160000
DTEND;TZID=America/Detroit:20230203T170000
DTSTAMP:20260424T091838
CREATED:20221210T223105Z
LAST-MODIFIED:20221210T223105Z
UID:13439-1675440000-1675443600@sovereigngraceurc.org
SUMMARY:Remnant Bible Study
DESCRIPTION:
URL:https://sovereigngraceurc.org/event/remnant-bible-study-18
LOCATION:MI
CATEGORIES:Bibley Study
END:VEVENT
BEGIN:VEVENT
DTSTART;TZID=America/Detroit:20230201T193000
DTEND;TZID=America/Detroit:20230201T203000
DTSTAMP:20260424T091838
CREATED:20221210T223035Z
LAST-MODIFIED:20221210T223035Z
UID:13429-1675279800-1675283400@sovereigngraceurc.org
SUMMARY:Wednessday Night Bible Study
DESCRIPTION:Join us as we continue our study of I Corinthians.
URL:https://sovereigngraceurc.org/event/wednessday-night-bible-study-19
LOCATION:MI
CATEGORIES:Bibley Study
END:VEVENT
BEGIN:VEVENT
DTSTART;TZID=America/Detroit:20230127T160000
DTEND;TZID=America/Detroit:20230127T170000
DTSTAMP:20260424T091838
CREATED:20221210T223105Z
LAST-MODIFIED:20221210T223105Z
UID:13438-1674835200-1674838800@sovereigngraceurc.org
SUMMARY:Remnant Bible Study
DESCRIPTION:
URL:https://sovereigngraceurc.org/event/remnant-bible-study-17
LOCATION:MI
CATEGORIES:Bibley Study
END:VEVENT
BEGIN:VEVENT
DTSTART;TZID=America/Detroit:20230120T160000
DTEND;TZID=America/Detroit:20230120T170000
DTSTAMP:20260424T091838
CREATED:20221210T223105Z
LAST-MODIFIED:20221210T223105Z
UID:13437-1674230400-1674234000@sovereigngraceurc.org
SUMMARY:Remnant Bible Study
DESCRIPTION:
URL:https://sovereigngraceurc.org/event/remnant-bible-study-16
LOCATION:MI
CATEGORIES:Bibley Study
END:VEVENT
BEGIN:VEVENT
DTSTART;TZID=America/Detroit:20230118T193000
DTEND;TZID=America/Detroit:20230118T203000
DTSTAMP:20260424T091838
CREATED:20221210T223034Z
LAST-MODIFIED:20221210T223034Z
UID:13428-1674070200-1674073800@sovereigngraceurc.org
SUMMARY:Wednessday Night Bible Study
DESCRIPTION:Join us as we continue our study of I Corinthians.
URL:https://sovereigngraceurc.org/event/wednessday-night-bible-study-18
LOCATION:MI
CATEGORIES:Bibley Study
END:VEVENT
BEGIN:VEVENT
DTSTART;TZID=America/Detroit:20230113T160000
DTEND;TZID=America/Detroit:20230113T170000
DTSTAMP:20260424T091838
CREATED:20221210T223051Z
LAST-MODIFIED:20221210T223051Z
UID:13436-1673625600-1673629200@sovereigngraceurc.org
SUMMARY:Remnant Bible Study
DESCRIPTION:
URL:https://sovereigngraceurc.org/event/remnant-bible-study-15
LOCATION:MI
CATEGORIES:Bibley Study
END:VEVENT
BEGIN:VEVENT
DTSTART;TZID=America/Detroit:20230104T193000
DTEND;TZID=America/Detroit:20230104T203000
DTSTAMP:20260424T091838
CREATED:20221210T223034Z
LAST-MODIFIED:20221210T223034Z
UID:13427-1672860600-1672864200@sovereigngraceurc.org
SUMMARY:Wednessday Night Bible Study
DESCRIPTION:Join us as we continue our study of I Corinthians.
URL:https://sovereigngraceurc.org/event/wednessday-night-bible-study-17
LOCATION:MI
CATEGORIES:Bibley Study
END:VEVENT
BEGIN:VEVENT
DTSTART;TZID=America/Detroit:20221214T193000
DTEND;TZID=America/Detroit:20221214T203000
DTSTAMP:20260424T091838
CREATED:20220911T193135Z
LAST-MODIFIED:20220911T193135Z
UID:13111-1671046200-1671049800@sovereigngraceurc.org
SUMMARY:Wednessday Night Bible Study
DESCRIPTION:Join us as we continue our study of I Corinthians.
URL:https://sovereigngraceurc.org/event/wednessday-night-bible-study-8
LOCATION:MI
CATEGORIES:Bibley Study
END:VEVENT
BEGIN:VEVENT
DTSTART;TZID=America/Detroit:20221202T160000
DTEND;TZID=America/Detroit:20221202T170000
DTSTAMP:20260424T091838
CREATED:20220911T193350Z
LAST-MODIFIED:20221127T122752Z
UID:13128-1669996800-1670000400@sovereigngraceurc.org
SUMMARY:Remnant Bible Study
DESCRIPTION:
URL:https://sovereigngraceurc.org/event/remnant-bible-study-14
LOCATION:MI
CATEGORIES:Bibley Study
END:VEVENT
BEGIN:VEVENT
DTSTART;TZID=America/Detroit:20221130T193000
DTEND;TZID=America/Detroit:20221130T203000
DTSTAMP:20260424T091838
CREATED:20220911T193135Z
LAST-MODIFIED:20220911T193135Z
UID:13110-1669836600-1669840200@sovereigngraceurc.org
SUMMARY:Wednessday Night Bible Study
DESCRIPTION:Join us as we continue our study of I Corinthians.
URL:https://sovereigngraceurc.org/event/wednessday-night-bible-study-7
LOCATION:MI
CATEGORIES:Bibley Study
END:VEVENT
BEGIN:VEVENT
DTSTART;TZID=America/Detroit:20221118T160000
DTEND;TZID=America/Detroit:20221118T170000
DTSTAMP:20260424T091838
CREATED:20220911T193350Z
LAST-MODIFIED:20220911T193350Z
UID:13126-1668787200-1668790800@sovereigngraceurc.org
SUMMARY:Remnant Bible Study
DESCRIPTION:
URL:https://sovereigngraceurc.org/event/remnant-bible-study-12
LOCATION:MI
CATEGORIES:Bibley Study
END:VEVENT
BEGIN:VEVENT
DTSTART;TZID=America/Detroit:20221116T193000
DTEND;TZID=America/Detroit:20221116T203000
DTSTAMP:20260424T091838
CREATED:20220911T193134Z
LAST-MODIFIED:20220911T193134Z
UID:13109-1668627000-1668630600@sovereigngraceurc.org
SUMMARY:Wednessday Night Bible Study
DESCRIPTION:Join us as we continue our study of I Corinthians.
URL:https://sovereigngraceurc.org/event/wednessday-night-bible-study-6
LOCATION:MI
CATEGORIES:Bibley Study
END:VEVENT
BEGIN:VEVENT
DTSTART;TZID=America/Detroit:20221111T160000
DTEND;TZID=America/Detroit:20221111T170000
DTSTAMP:20260424T091838
CREATED:20220911T193350Z
LAST-MODIFIED:20220911T193350Z
UID:13125-1668182400-1668186000@sovereigngraceurc.org
SUMMARY:Remnant Bible Study
DESCRIPTION:
URL:https://sovereigngraceurc.org/event/remnant-bible-study-11
LOCATION:MI
CATEGORIES:Bibley Study
END:VEVENT
BEGIN:VEVENT
DTSTART;TZID=America/Detroit:20221104T160000
DTEND;TZID=America/Detroit:20221104T170000
DTSTAMP:20260424T091838
CREATED:20220911T193335Z
LAST-MODIFIED:20220911T193335Z
UID:13124-1667577600-1667581200@sovereigngraceurc.org
SUMMARY:Remnant Bible Study
DESCRIPTION:
URL:https://sovereigngraceurc.org/event/remnant-bible-study-10
LOCATION:MI
CATEGORIES:Bibley Study
END:VEVENT
END:VCALENDAR