BEGIN:VCALENDAR
VERSION:2.0
PRODID:-//Sovereign Grace URC - ECPv6.15.20//NONSGML v1.0//EN
CALSCALE:GREGORIAN
METHOD:PUBLISH
X-WR-CALNAME:Sovereign Grace URC
X-ORIGINAL-URL:https://sovereigngraceurc.org
X-WR-CALDESC:Events for Sovereign Grace URC
REFRESH-INTERVAL;VALUE=DURATION:PT1H
X-Robots-Tag:noindex
X-PUBLISHED-TTL:PT1H
BEGIN:VTIMEZONE
TZID:America/Detroit
BEGIN:DAYLIGHT
TZOFFSETFROM:-0500
TZOFFSETTO:-0400
TZNAME:EDT
DTSTART:20180311T070000
END:DAYLIGHT
BEGIN:STANDARD
TZOFFSETFROM:-0400
TZOFFSETTO:-0500
TZNAME:EST
DTSTART:20181104T060000
END:STANDARD
BEGIN:DAYLIGHT
TZOFFSETFROM:-0500
TZOFFSETTO:-0400
TZNAME:EDT
DTSTART:20190310T070000
END:DAYLIGHT
BEGIN:STANDARD
TZOFFSETFROM:-0400
TZOFFSETTO:-0500
TZNAME:EST
DTSTART:20191103T060000
END:STANDARD
BEGIN:DAYLIGHT
TZOFFSETFROM:-0500
TZOFFSETTO:-0400
TZNAME:EDT
DTSTART:20200308T070000
END:DAYLIGHT
BEGIN:STANDARD
TZOFFSETFROM:-0400
TZOFFSETTO:-0500
TZNAME:EST
DTSTART:20201101T060000
END:STANDARD
BEGIN:DAYLIGHT
TZOFFSETFROM:-0500
TZOFFSETTO:-0400
TZNAME:EDT
DTSTART:20210314T070000
END:DAYLIGHT
BEGIN:STANDARD
TZOFFSETFROM:-0400
TZOFFSETTO:-0500
TZNAME:EST
DTSTART:20211107T060000
END:STANDARD
BEGIN:DAYLIGHT
TZOFFSETFROM:-0500
TZOFFSETTO:-0400
TZNAME:EDT
DTSTART:20220313T070000
END:DAYLIGHT
BEGIN:STANDARD
TZOFFSETFROM:-0400
TZOFFSETTO:-0500
TZNAME:EST
DTSTART:20221106T060000
END:STANDARD
BEGIN:DAYLIGHT
TZOFFSETFROM:-0500
TZOFFSETTO:-0400
TZNAME:EDT
DTSTART:20230312T070000
END:DAYLIGHT
BEGIN:STANDARD
TZOFFSETFROM:-0400
TZOFFSETTO:-0500
TZNAME:EST
DTSTART:20231105T060000
END:STANDARD
END:VTIMEZONE
BEGIN:VEVENT
DTSTART;TZID=America/Detroit:20220121T160000
DTEND;TZID=America/Detroit:20220121T170000
DTSTAMP:20260424T085727
CREATED:20210903T211530Z
LAST-MODIFIED:20211118T230631Z
UID:12546-1642780800-1642784400@sovereigngraceurc.org
SUMMARY:Mere Christianity Bible Study
DESCRIPTION:
URL:https://sovereigngraceurc.org/event/mere-christianity-bible-study-60
LOCATION:Calvin Hiemenga Hall\, 3201 Burton St SE\, Grand Rapids\, MI\, 49546\, United States
CATEGORIES:Bible Study
END:VEVENT
BEGIN:VEVENT
DTSTART;TZID=America/Detroit:20220114T160000
DTEND;TZID=America/Detroit:20220114T170000
DTSTAMP:20260424T085727
CREATED:20220108T211115Z
LAST-MODIFIED:20220108T211115Z
UID:12763-1642176000-1642179600@sovereigngraceurc.org
SUMMARY:Mere Christianity Bible Study
DESCRIPTION:
URL:https://sovereigngraceurc.org/event/mere-christianity-bible-study-63
CATEGORIES:Bible Study
END:VEVENT
BEGIN:VEVENT
DTSTART;TZID=America/Detroit:20220112T193000
DTEND;TZID=America/Detroit:20220112T210000
DTSTAMP:20260424T085727
CREATED:20220108T204338Z
LAST-MODIFIED:20220108T204338Z
UID:12753-1642015800-1642021200@sovereigngraceurc.org
SUMMARY:Wednessday Night Bible Study
DESCRIPTION:
URL:https://sovereigngraceurc.org/event/wednessday-night-bible-study-9
CATEGORIES:Bible Study
END:VEVENT
BEGIN:VEVENT
DTSTART;TZID=America/Detroit:20211215T193000
DTEND;TZID=America/Detroit:20211215T210000
DTSTAMP:20260424T085727
CREATED:20210903T211609Z
LAST-MODIFIED:20210903T211609Z
UID:12556-1639596600-1639602000@sovereigngraceurc.org
SUMMARY:Wednesday Night Bible Study
DESCRIPTION:Join us as we continue our study of Colossians.
URL:https://sovereigngraceurc.org/event/wednesday-night-bible-study-54
CATEGORIES:Bible Study
END:VEVENT
BEGIN:VEVENT
DTSTART;TZID=America/Detroit:20211203T160000
DTEND;TZID=America/Detroit:20211203T170000
DTSTAMP:20260424T085727
CREATED:20210903T211530Z
LAST-MODIFIED:20210903T211530Z
UID:12547-1638547200-1638550800@sovereigngraceurc.org
SUMMARY:Mere Christianity Bible Study
DESCRIPTION:
URL:https://sovereigngraceurc.org/event/mere-christianity-bible-study-61
LOCATION:Calvin Hiemenga Hall\, 3201 Burton St SE\, Grand Rapids\, MI\, 49546\, United States
CATEGORIES:Bible Study
END:VEVENT
BEGIN:VEVENT
DTSTART;TZID=America/Detroit:20211201T193000
DTEND;TZID=America/Detroit:20211201T210000
DTSTAMP:20260424T085727
CREATED:20210903T211608Z
LAST-MODIFIED:20210903T211608Z
UID:12555-1638387000-1638392400@sovereigngraceurc.org
SUMMARY:Wednesday Night Bible Study
DESCRIPTION:Join us as we continue our study of Colossians.
URL:https://sovereigngraceurc.org/event/wednesday-night-bible-study-53
CATEGORIES:Bible Study
END:VEVENT
BEGIN:VEVENT
DTSTART;TZID=America/Detroit:20211119T160000
DTEND;TZID=America/Detroit:20211119T170000
DTSTAMP:20260424T085727
CREATED:20210903T211529Z
LAST-MODIFIED:20210903T211529Z
UID:12545-1637337600-1637341200@sovereigngraceurc.org
SUMMARY:Mere Christianity Bible Study
DESCRIPTION:
URL:https://sovereigngraceurc.org/event/mere-christianity-bible-study-59
LOCATION:Calvin Hiemenga Hall\, 3201 Burton St SE\, Grand Rapids\, MI\, 49546\, United States
CATEGORIES:Bible Study
END:VEVENT
BEGIN:VEVENT
DTSTART;TZID=America/Detroit:20211117T193000
DTEND;TZID=America/Detroit:20211117T210000
DTSTAMP:20260424T085727
CREATED:20210903T211607Z
LAST-MODIFIED:20210903T211607Z
UID:12554-1637177400-1637182800@sovereigngraceurc.org
SUMMARY:Wednesday Night Bible Study
DESCRIPTION:Join us as we continue our study of Colossians.
URL:https://sovereigngraceurc.org/event/wednesday-night-bible-study-52
CATEGORIES:Bible Study
END:VEVENT
BEGIN:VEVENT
DTSTART;TZID=America/Detroit:20211112T160000
DTEND;TZID=America/Detroit:20211112T170000
DTSTAMP:20260424T085727
CREATED:20210903T211529Z
LAST-MODIFIED:20210903T211529Z
UID:12544-1636732800-1636736400@sovereigngraceurc.org
SUMMARY:Mere Christianity Bible Study
DESCRIPTION:
URL:https://sovereigngraceurc.org/event/mere-christianity-bible-study-58
LOCATION:Calvin Hiemenga Hall\, 3201 Burton St SE\, Grand Rapids\, MI\, 49546\, United States
CATEGORIES:Bible Study
END:VEVENT
BEGIN:VEVENT
DTSTART;TZID=America/Detroit:20211105T160000
DTEND;TZID=America/Detroit:20211105T170000
DTSTAMP:20260424T085727
CREATED:20210903T211515Z
LAST-MODIFIED:20210903T211515Z
UID:12543-1636128000-1636131600@sovereigngraceurc.org
SUMMARY:Mere Christianity Bible Study
DESCRIPTION:
URL:https://sovereigngraceurc.org/event/mere-christianity-bible-study-57
LOCATION:Calvin Hiemenga Hall\, 3201 Burton St SE\, Grand Rapids\, MI\, 49546\, United States
CATEGORIES:Bible Study
END:VEVENT
BEGIN:VEVENT
DTSTART;TZID=America/Detroit:20211103T193000
DTEND;TZID=America/Detroit:20211103T210000
DTSTAMP:20260424T085727
CREATED:20210903T211548Z
LAST-MODIFIED:20210903T211548Z
UID:12553-1635967800-1635973200@sovereigngraceurc.org
SUMMARY:Wednesday Night Bible Study
DESCRIPTION:Join us as we continue our study of Colossians.
URL:https://sovereigngraceurc.org/event/wednesday-night-bible-study-51
CATEGORIES:Bible Study
END:VEVENT
BEGIN:VEVENT
DTSTART;TZID=America/Detroit:20211029T160000
DTEND;TZID=America/Detroit:20211029T170000
DTSTAMP:20260424T085727
CREATED:20210903T211515Z
LAST-MODIFIED:20210903T211515Z
UID:12542-1635523200-1635526800@sovereigngraceurc.org
SUMMARY:Mere Christianity Bible Study
DESCRIPTION:
URL:https://sovereigngraceurc.org/event/mere-christianity-bible-study-56
LOCATION:Calvin Hiemenga Hall\, 3201 Burton St SE\, Grand Rapids\, MI\, 49546\, United States
CATEGORIES:Bible Study
END:VEVENT
BEGIN:VEVENT
DTSTART;TZID=America/Detroit:20211022T160000
DTEND;TZID=America/Detroit:20211022T170000
DTSTAMP:20260424T085727
CREATED:20210903T211514Z
LAST-MODIFIED:20210903T211514Z
UID:12541-1634918400-1634922000@sovereigngraceurc.org
SUMMARY:Mere Christianity Bible Study
DESCRIPTION:
URL:https://sovereigngraceurc.org/event/mere-christianity-bible-study-55
LOCATION:Calvin Hiemenga Hall\, 3201 Burton St SE\, Grand Rapids\, MI\, 49546\, United States
CATEGORIES:Bible Study
END:VEVENT
BEGIN:VEVENT
DTSTART;TZID=America/Detroit:20211020T193000
DTEND;TZID=America/Detroit:20211020T210000
DTSTAMP:20260424T085727
CREATED:20210903T211548Z
LAST-MODIFIED:20210903T211548Z
UID:12552-1634758200-1634763600@sovereigngraceurc.org
SUMMARY:Wednesday Night Bible Study
DESCRIPTION:Join us as we continue our study of Colossians.
URL:https://sovereigngraceurc.org/event/wednesday-night-bible-study-50
CATEGORIES:Bible Study
END:VEVENT
BEGIN:VEVENT
DTSTART;TZID=America/Detroit:20211015T160000
DTEND;TZID=America/Detroit:20211015T170000
DTSTAMP:20260424T085727
CREATED:20210903T211514Z
LAST-MODIFIED:20210903T211514Z
UID:12540-1634313600-1634317200@sovereigngraceurc.org
SUMMARY:Mere Christianity Bible Study
DESCRIPTION:
URL:https://sovereigngraceurc.org/event/mere-christianity-bible-study-54
LOCATION:Calvin Hiemenga Hall\, 3201 Burton St SE\, Grand Rapids\, MI\, 49546\, United States
CATEGORIES:Bible Study
END:VEVENT
BEGIN:VEVENT
DTSTART;TZID=America/Detroit:20211008T160000
DTEND;TZID=America/Detroit:20211008T170000
DTSTAMP:20260424T085727
CREATED:20210903T211513Z
LAST-MODIFIED:20210903T211513Z
UID:12539-1633708800-1633712400@sovereigngraceurc.org
SUMMARY:Mere Christianity Bible Study
DESCRIPTION:
URL:https://sovereigngraceurc.org/event/mere-christianity-bible-study-53
LOCATION:Calvin Hiemenga Hall\, 3201 Burton St SE\, Grand Rapids\, MI\, 49546\, United States
CATEGORIES:Bible Study
END:VEVENT
BEGIN:VEVENT
DTSTART;TZID=America/Detroit:20211006T193000
DTEND;TZID=America/Detroit:20211006T210000
DTSTAMP:20260424T085727
CREATED:20210903T211547Z
LAST-MODIFIED:20210903T211547Z
UID:12551-1633548600-1633554000@sovereigngraceurc.org
SUMMARY:Wednesday Night Bible Study
DESCRIPTION:Join us as we continue our study of Colossians.
URL:https://sovereigngraceurc.org/event/wednesday-night-bible-study-49
CATEGORIES:Bible Study
END:VEVENT
BEGIN:VEVENT
DTSTART;TZID=America/Detroit:20211001T160000
DTEND;TZID=America/Detroit:20211001T170000
DTSTAMP:20260424T085727
CREATED:20210903T211509Z
LAST-MODIFIED:20210903T211509Z
UID:12538-1633104000-1633107600@sovereigngraceurc.org
SUMMARY:Mere Christianity Bible Study
DESCRIPTION:
URL:https://sovereigngraceurc.org/event/mere-christianity-bible-study-52
LOCATION:Calvin Hiemenga Hall\, 3201 Burton St SE\, Grand Rapids\, MI\, 49546\, United States
CATEGORIES:Bible Study
END:VEVENT
BEGIN:VEVENT
DTSTART;TZID=America/Detroit:20210924T160000
DTEND;TZID=America/Detroit:20210924T170000
DTSTAMP:20260424T085727
CREATED:20210903T211508Z
LAST-MODIFIED:20210903T211508Z
UID:12537-1632499200-1632502800@sovereigngraceurc.org
SUMMARY:Mere Christianity Bible Study
DESCRIPTION:
URL:https://sovereigngraceurc.org/event/mere-christianity-bible-study-51
LOCATION:Calvin Hiemenga Hall\, 3201 Burton St SE\, Grand Rapids\, MI\, 49546\, United States
CATEGORIES:Bible Study
END:VEVENT
BEGIN:VEVENT
DTSTART;TZID=America/Detroit:20210922T193000
DTEND;TZID=America/Detroit:20210922T210000
DTSTAMP:20260424T085727
CREATED:20210903T211547Z
LAST-MODIFIED:20210903T211547Z
UID:12550-1632339000-1632344400@sovereigngraceurc.org
SUMMARY:Wednesday Night Bible Study
DESCRIPTION:Join us as we continue our study of Colossians.
URL:https://sovereigngraceurc.org/event/wednesday-night-bible-study-48
CATEGORIES:Bible Study
END:VEVENT
BEGIN:VEVENT
DTSTART;TZID=America/Detroit:20210917T160000
DTEND;TZID=America/Detroit:20210917T170000
DTSTAMP:20260424T085727
CREATED:20210903T211508Z
LAST-MODIFIED:20210903T211508Z
UID:12536-1631894400-1631898000@sovereigngraceurc.org
SUMMARY:Mere Christianity Bible Study
DESCRIPTION:
URL:https://sovereigngraceurc.org/event/mere-christianity-bible-study-50
LOCATION:Calvin Hiemenga Hall\, 3201 Burton St SE\, Grand Rapids\, MI\, 49546\, United States
CATEGORIES:Bible Study
END:VEVENT
BEGIN:VEVENT
DTSTART;TZID=America/Detroit:20210915T193000
DTEND;TZID=America/Detroit:20210915T210000
DTSTAMP:20260424T085727
CREATED:20210903T211547Z
LAST-MODIFIED:20210903T211547Z
UID:12549-1631734200-1631739600@sovereigngraceurc.org
SUMMARY:Wednesday Night Bible Study
DESCRIPTION:Join us as we begin a study of the book of Colossians.
URL:https://sovereigngraceurc.org/event/wednesday-night-bible-study-47
CATEGORIES:Bible Study
END:VEVENT
BEGIN:VEVENT
DTSTART;TZID=America/Detroit:20210910T160000
DTEND;TZID=America/Detroit:20210910T170000
DTSTAMP:20260424T085727
CREATED:20210903T211508Z
LAST-MODIFIED:20210903T211508Z
UID:12535-1631289600-1631293200@sovereigngraceurc.org
SUMMARY:Mere Christianity Bible Study
DESCRIPTION:
URL:https://sovereigngraceurc.org/event/mere-christianity-bible-study-49
LOCATION:Calvin Hiemenga Hall\, 3201 Burton St SE\, Grand Rapids\, MI\, 49546\, United States
CATEGORIES:Bible Study
END:VEVENT
BEGIN:VEVENT
DTSTART;TZID=America/Detroit:20210903T160000
DTEND;TZID=America/Detroit:20210903T170000
DTSTAMP:20260424T085727
CREATED:20210903T205741Z
LAST-MODIFIED:20210903T211507Z
UID:12442-1630684800-1630688400@sovereigngraceurc.org
SUMMARY:Mere Christianity Bible Study
DESCRIPTION:
URL:https://sovereigngraceurc.org/event/mere-christianity-bible-study-34
LOCATION:Calvin Hiemenga Hall\, 3201 Burton St SE\, Grand Rapids\, MI\, 49546\, United States
CATEGORIES:Bible Study
END:VEVENT
BEGIN:VEVENT
DTSTART;TZID=America/Detroit:20210524T193000
DTEND;TZID=America/Detroit:20210524T203000
DTSTAMP:20260424T085727
CREATED:20210502T000101Z
LAST-MODIFIED:20210502T000123Z
UID:12297-1621884600-1621888200@sovereigngraceurc.org
SUMMARY:Men's Book Club
DESCRIPTION:Join us as we continue our study of Desiring God by J.I. Packer.
URL:https://sovereigngraceurc.org/event/mens-book-club-2
LOCATION:Sovereign Grace URC\, 62 Lamoreaux Drive NE\, Comstock Park\, MI\, 49321\, United States
CATEGORIES:Bible Study
END:VEVENT
BEGIN:VEVENT
DTSTART;TZID=America/Detroit:20201007T193000
DTEND;TZID=America/Detroit:20201007T210000
DTSTAMP:20260424T085727
CREATED:20201002T015905Z
LAST-MODIFIED:20201007T230046Z
UID:11883-1602099000-1602104400@sovereigngraceurc.org
SUMMARY:Wednesday Night Bible Study
DESCRIPTION:Join us this week as we resume our study of I Peter.   We are meeting where we worship\, 739 East Beltine NE.
URL:https://sovereigngraceurc.org/event/wednesday-night-bible-study-34
CATEGORIES:Bible Study
END:VEVENT
BEGIN:VEVENT
DTSTART;TZID=America/Detroit:20200205T193000
DTEND;TZID=America/Detroit:20200205T210000
DTSTAMP:20260424T085728
CREATED:20200130T001016Z
LAST-MODIFIED:20200130T001016Z
UID:11424-1580931000-1580936400@sovereigngraceurc.org
SUMMARY:Wednesday Night Bible Study
DESCRIPTION:Join us this Wednesday as we continue our study of Hosea.  We will be studying chapters 9 and following.
URL:https://sovereigngraceurc.org/event/wednesday-night-bible-study-31
LOCATION:Rev. Dick’s House
CATEGORIES:Bible Study
END:VEVENT
BEGIN:VEVENT
DTSTART;TZID=America/Detroit:20190927T160000
DTEND;TZID=America/Detroit:20190927T170000
DTSTAMP:20260424T085728
CREATED:20190914T025348Z
LAST-MODIFIED:20190914T025436Z
UID:11092-1569600000-1569603600@sovereigngraceurc.org
SUMMARY:Mere Christianity Bible Study
DESCRIPTION:Join us as we continue our study of the Book of Acts in Room 230 of the Fine Arts Center.
URL:https://sovereigngraceurc.org/event/mere-christianity-bible-study-14
LOCATION:Calvin Hiemenga Hall\, 3201 Burton St SE\, Grand Rapids\, MI\, 49546\, United States
CATEGORIES:Bible Study
END:VEVENT
BEGIN:VEVENT
DTSTART;TZID=America/Detroit:20190920T040000
DTEND;TZID=America/Detroit:20190920T170000
DTSTAMP:20260424T085728
CREATED:20190906T014831Z
LAST-MODIFIED:20190906T014831Z
UID:11071-1568952000-1568998800@sovereigngraceurc.org
SUMMARY:Mere Christianity Bible Study
DESCRIPTION:Join us as we continue our study of the Book of Acts in Room 230 of the Fine Arts Center.
URL:https://sovereigngraceurc.org/event/mere-christianity-bible-study-13
LOCATION:Calvin Hiemenga Hall\, 3201 Burton St SE\, Grand Rapids\, MI\, 49546\, United States
CATEGORIES:Bible Study
END:VEVENT
BEGIN:VEVENT
DTSTART;TZID=America/Detroit:20190215T160000
DTEND;TZID=America/Detroit:20190215T170000
DTSTAMP:20260424T085728
CREATED:20190131T140030Z
LAST-MODIFIED:20190131T140058Z
UID:10157-1550246400-1550250000@sovereigngraceurc.org
SUMMARY:Calvin College Bible Study
DESCRIPTION:The Calvin Bible Study meets again this Friday at  4 P.M.\, room #233 in the Calvin’s Fine Arts Center.  All welcome as we continue our study of the gospel of John\, and the sufferings of Jesus.
URL:https://sovereigngraceurc.org/event/calvin-college-bible-study-3
LOCATION:Calvin Hiemenga Hall\, 3201 Burton St SE\, Grand Rapids\, MI\, 49546\, United States
CATEGORIES:Bible Study
END:VEVENT
END:VCALENDAR