BEGIN:VCALENDAR
VERSION:2.0
PRODID:-//Sovereign Grace URC - ECPv6.15.20//NONSGML v1.0//EN
CALSCALE:GREGORIAN
METHOD:PUBLISH
X-ORIGINAL-URL:https://sovereigngraceurc.org
X-WR-CALDESC:Events for Sovereign Grace URC
REFRESH-INTERVAL;VALUE=DURATION:PT1H
X-Robots-Tag:noindex
X-PUBLISHED-TTL:PT1H
BEGIN:VTIMEZONE
TZID:America/Detroit
BEGIN:DAYLIGHT
TZOFFSETFROM:-0500
TZOFFSETTO:-0400
TZNAME:EDT
DTSTART:20210314T070000
END:DAYLIGHT
BEGIN:STANDARD
TZOFFSETFROM:-0400
TZOFFSETTO:-0500
TZNAME:EST
DTSTART:20211107T060000
END:STANDARD
BEGIN:DAYLIGHT
TZOFFSETFROM:-0500
TZOFFSETTO:-0400
TZNAME:EDT
DTSTART:20220313T070000
END:DAYLIGHT
BEGIN:STANDARD
TZOFFSETFROM:-0400
TZOFFSETTO:-0500
TZNAME:EST
DTSTART:20221106T060000
END:STANDARD
BEGIN:DAYLIGHT
TZOFFSETFROM:-0500
TZOFFSETTO:-0400
TZNAME:EDT
DTSTART:20230312T070000
END:DAYLIGHT
BEGIN:STANDARD
TZOFFSETFROM:-0400
TZOFFSETTO:-0500
TZNAME:EST
DTSTART:20231105T060000
END:STANDARD
BEGIN:DAYLIGHT
TZOFFSETFROM:-0500
TZOFFSETTO:-0400
TZNAME:EDT
DTSTART:20240310T070000
END:DAYLIGHT
BEGIN:STANDARD
TZOFFSETFROM:-0400
TZOFFSETTO:-0500
TZNAME:EST
DTSTART:20241103T060000
END:STANDARD
BEGIN:DAYLIGHT
TZOFFSETFROM:-0500
TZOFFSETTO:-0400
TZNAME:EDT
DTSTART:20250309T070000
END:DAYLIGHT
BEGIN:STANDARD
TZOFFSETFROM:-0400
TZOFFSETTO:-0500
TZNAME:EST
DTSTART:20251102T060000
END:STANDARD
BEGIN:DAYLIGHT
TZOFFSETFROM:-0500
TZOFFSETTO:-0400
TZNAME:EDT
DTSTART:20260308T070000
END:DAYLIGHT
BEGIN:STANDARD
TZOFFSETFROM:-0400
TZOFFSETTO:-0500
TZNAME:EST
DTSTART:20261101T060000
END:STANDARD
END:VTIMEZONE
BEGIN:VEVENT
DTSTART;TZID=America/Detroit:20250115T193000
DTEND;TZID=America/Detroit:20250115T210000
DTSTAMP:20260424T002840
CREATED:20250104T014737Z
LAST-MODIFIED:20250104T014737Z
UID:15389-1736969400-1736974800@sovereigngraceurc.org
SUMMARY:Wednessday Night Bible Study
DESCRIPTION:
URL:https://sovereigngraceurc.org/event/wednessday-night-bible-study-50
CATEGORIES:Bible Study
END:VEVENT
BEGIN:VEVENT
DTSTART;TZID=America/Detroit:20240419T160000
DTEND;TZID=America/Detroit:20240419T170000
DTSTAMP:20260424T002840
CREATED:20240102T031238Z
LAST-MODIFIED:20240102T031238Z
UID:14238-1713542400-1713546000@sovereigngraceurc.org
SUMMARY:Mere Christianity Bible Study
DESCRIPTION:
URL:https://sovereigngraceurc.org/event/mere-christianity-bible-study-42
CATEGORIES:Bible Study
END:VEVENT
BEGIN:VEVENT
DTSTART;TZID=America/Detroit:20240417T193000
DTEND;TZID=America/Detroit:20240417T210000
DTSTAMP:20260424T002840
CREATED:20240101T195256Z
LAST-MODIFIED:20240101T195256Z
UID:14221-1713382200-1713387600@sovereigngraceurc.org
SUMMARY:Wednessday Night Bible Study
DESCRIPTION:
URL:https://sovereigngraceurc.org/event/wednessday-night-bible-study-41
CATEGORIES:Bible Study
END:VEVENT
BEGIN:VEVENT
DTSTART;TZID=America/Detroit:20240412T160000
DTEND;TZID=America/Detroit:20240412T170000
DTSTAMP:20260424T002840
CREATED:20240102T031238Z
LAST-MODIFIED:20240102T031238Z
UID:14237-1712937600-1712941200@sovereigngraceurc.org
SUMMARY:Mere Christianity Bible Study
DESCRIPTION:
URL:https://sovereigngraceurc.org/event/mere-christianity-bible-study-41
CATEGORIES:Bible Study
END:VEVENT
BEGIN:VEVENT
DTSTART;TZID=America/Detroit:20240405T160000
DTEND;TZID=America/Detroit:20240405T170000
DTSTAMP:20260424T002840
CREATED:20240102T031238Z
LAST-MODIFIED:20240102T031238Z
UID:14236-1712332800-1712336400@sovereigngraceurc.org
SUMMARY:Mere Christianity Bible Study
DESCRIPTION:
URL:https://sovereigngraceurc.org/event/mere-christianity-bible-study-40
CATEGORIES:Bible Study
END:VEVENT
BEGIN:VEVENT
DTSTART;TZID=America/Detroit:20240403T193000
DTEND;TZID=America/Detroit:20240403T210000
DTSTAMP:20260424T002840
CREATED:20240101T195057Z
LAST-MODIFIED:20240101T195057Z
UID:14220-1712172600-1712178000@sovereigngraceurc.org
SUMMARY:Wednessday Night Bible Study
DESCRIPTION:
URL:https://sovereigngraceurc.org/event/wednessday-night-bible-study-40
CATEGORIES:Bible Study
END:VEVENT
BEGIN:VEVENT
DTSTART;TZID=America/Detroit:20240322T160000
DTEND;TZID=America/Detroit:20240322T170000
DTSTAMP:20260424T002840
CREATED:20240102T031237Z
LAST-MODIFIED:20240102T031237Z
UID:14234-1711123200-1711126800@sovereigngraceurc.org
SUMMARY:Mere Christianity Bible Study
DESCRIPTION:
URL:https://sovereigngraceurc.org/event/mere-christianity-bible-study-38
CATEGORIES:Bible Study
END:VEVENT
BEGIN:VEVENT
DTSTART;TZID=America/Detroit:20240320T193000
DTEND;TZID=America/Detroit:20240320T210000
DTSTAMP:20260424T002840
CREATED:20240101T195057Z
LAST-MODIFIED:20240101T195057Z
UID:14219-1710963000-1710968400@sovereigngraceurc.org
SUMMARY:Wednessday Night Bible Study
DESCRIPTION:
URL:https://sovereigngraceurc.org/event/wednessday-night-bible-study-39
CATEGORIES:Bible Study
END:VEVENT
BEGIN:VEVENT
DTSTART;TZID=America/Detroit:20240315T160000
DTEND;TZID=America/Detroit:20240315T170000
DTSTAMP:20260424T002840
CREATED:20240102T031235Z
LAST-MODIFIED:20240102T031235Z
UID:14233-1710518400-1710522000@sovereigngraceurc.org
SUMMARY:Mere Christianity Bible Study
DESCRIPTION:
URL:https://sovereigngraceurc.org/event/mere-christianity-bible-study-37
CATEGORIES:Bible Study
END:VEVENT
BEGIN:VEVENT
DTSTART;TZID=America/Detroit:20240306T193000
DTEND;TZID=America/Detroit:20240306T210000
DTSTAMP:20260424T002840
CREATED:20240101T195056Z
LAST-MODIFIED:20240101T195056Z
UID:14218-1709753400-1709758800@sovereigngraceurc.org
SUMMARY:Wednessday Night Bible Study
DESCRIPTION:
URL:https://sovereigngraceurc.org/event/wednessday-night-bible-study-38
CATEGORIES:Bible Study
END:VEVENT
BEGIN:VEVENT
DTSTART;TZID=America/Detroit:20240301T160000
DTEND;TZID=America/Detroit:20240301T170000
DTSTAMP:20260424T002840
CREATED:20240102T031235Z
LAST-MODIFIED:20240102T031235Z
UID:14232-1709308800-1709312400@sovereigngraceurc.org
SUMMARY:Mere Christianity Bible Study
DESCRIPTION:
URL:https://sovereigngraceurc.org/event/mere-christianity-bible-study-36
CATEGORIES:Bible Study
END:VEVENT
BEGIN:VEVENT
DTSTART;TZID=America/Detroit:20240223T160000
DTEND;TZID=America/Detroit:20240223T170000
DTSTAMP:20260424T002840
CREATED:20240102T031235Z
LAST-MODIFIED:20240102T031235Z
UID:14231-1708704000-1708707600@sovereigngraceurc.org
SUMMARY:Mere Christianity Bible Study
DESCRIPTION:
URL:https://sovereigngraceurc.org/event/mere-christianity-bible-study-35
CATEGORIES:Bible Study
END:VEVENT
BEGIN:VEVENT
DTSTART;TZID=America/Detroit:20240221T193000
DTEND;TZID=America/Detroit:20240221T210000
DTSTAMP:20260424T002840
CREATED:20240101T195056Z
LAST-MODIFIED:20240101T195056Z
UID:14217-1708543800-1708549200@sovereigngraceurc.org
SUMMARY:Wednessday Night Bible Study
DESCRIPTION:
URL:https://sovereigngraceurc.org/event/wednessday-night-bible-study-37
CATEGORIES:Bible Study
END:VEVENT
BEGIN:VEVENT
DTSTART;TZID=America/Detroit:20240216T160000
DTEND;TZID=America/Detroit:20240216T170000
DTSTAMP:20260424T002840
CREATED:20240102T031235Z
LAST-MODIFIED:20240102T031235Z
UID:14230-1708099200-1708102800@sovereigngraceurc.org
SUMMARY:Mere Christianity Bible Study
DESCRIPTION:
URL:https://sovereigngraceurc.org/event/mere-christianity-bible-study-33
CATEGORIES:Bible Study
END:VEVENT
BEGIN:VEVENT
DTSTART;TZID=America/Detroit:20240209T160000
DTEND;TZID=America/Detroit:20240209T170000
DTSTAMP:20260424T002840
CREATED:20240101T195257Z
LAST-MODIFIED:20240102T031234Z
UID:14225-1707494400-1707498000@sovereigngraceurc.org
SUMMARY:Mere Christianity Bible Study
DESCRIPTION:
URL:https://sovereigngraceurc.org/event/mere-christianity-bible-study-32
CATEGORIES:Bible Study
END:VEVENT
BEGIN:VEVENT
DTSTART;TZID=America/Detroit:20240207T193000
DTEND;TZID=America/Detroit:20240207T210000
DTSTAMP:20260424T002840
CREATED:20240101T195056Z
LAST-MODIFIED:20240101T195056Z
UID:14216-1707334200-1707339600@sovereigngraceurc.org
SUMMARY:Wednessday Night Bible Study
DESCRIPTION:
URL:https://sovereigngraceurc.org/event/wednessday-night-bible-study-36
CATEGORIES:Bible Study
END:VEVENT
BEGIN:VEVENT
DTSTART;TZID=America/Detroit:20240202T160000
DTEND;TZID=America/Detroit:20240202T170000
DTSTAMP:20260424T002840
CREATED:20240101T195257Z
LAST-MODIFIED:20240101T195257Z
UID:14224-1706889600-1706893200@sovereigngraceurc.org
SUMMARY:Mere Christianity Bible Study
DESCRIPTION:
URL:https://sovereigngraceurc.org/event/mere-christianity-bible-study-31
CATEGORIES:Bible Study
END:VEVENT
BEGIN:VEVENT
DTSTART;TZID=America/Detroit:20240126T160000
DTEND;TZID=America/Detroit:20240126T170000
DTSTAMP:20260424T002840
CREATED:20240101T195257Z
LAST-MODIFIED:20240101T195257Z
UID:14223-1706284800-1706288400@sovereigngraceurc.org
SUMMARY:Mere Christianity Bible Study
DESCRIPTION:
URL:https://sovereigngraceurc.org/event/mere-christianity-bible-study-30
CATEGORIES:Bible Study
END:VEVENT
BEGIN:VEVENT
DTSTART;TZID=America/Detroit:20240124T193000
DTEND;TZID=America/Detroit:20240124T210000
DTSTAMP:20260424T002840
CREATED:20240101T194857Z
LAST-MODIFIED:20240101T194857Z
UID:14215-1706124600-1706130000@sovereigngraceurc.org
SUMMARY:Wednessday Night Bible Study
DESCRIPTION:
URL:https://sovereigngraceurc.org/event/wednessday-night-bible-study-35
CATEGORIES:Bible Study
END:VEVENT
BEGIN:VEVENT
DTSTART;TZID=America/Detroit:20240119T160000
DTEND;TZID=America/Detroit:20240119T170000
DTSTAMP:20260424T002840
CREATED:20240101T195256Z
LAST-MODIFIED:20240101T195256Z
UID:14222-1705680000-1705683600@sovereigngraceurc.org
SUMMARY:Mere Christianity Bible Study
DESCRIPTION:
URL:https://sovereigngraceurc.org/event/mere-christianity-bible-study-29
CATEGORIES:Bible Study
END:VEVENT
BEGIN:VEVENT
DTSTART;TZID=America/Detroit:20240110T193000
DTEND;TZID=America/Detroit:20240110T210000
DTSTAMP:20260424T002840
CREATED:20240101T194857Z
LAST-MODIFIED:20240101T194857Z
UID:14214-1704915000-1704920400@sovereigngraceurc.org
SUMMARY:Wednessday Night Bible Study
DESCRIPTION:
URL:https://sovereigngraceurc.org/event/wednessday-night-bible-study-34
CATEGORIES:Bible Study
END:VEVENT
BEGIN:VEVENT
DTSTART;TZID=America/Detroit:20231004T193000
DTEND;TZID=America/Detroit:20231004T203000
DTSTAMP:20260424T002840
CREATED:20230930T151036Z
LAST-MODIFIED:20230930T151044Z
UID:13977-1696447800-1696451400@sovereigngraceurc.org
SUMMARY:Wednesday Night Bible Study
DESCRIPTION:Join us as we continue our study of the book of Revelation.
URL:https://sovereigngraceurc.org/event/wednesday-night-bible-study-56
CATEGORIES:Bible Study
END:VEVENT
BEGIN:VEVENT
DTSTART;TZID=America/Detroit:20220422T160000
DTEND;TZID=America/Detroit:20220422T170000
DTSTAMP:20260424T002840
CREATED:20220108T211143Z
LAST-MODIFIED:20220108T211143Z
UID:12775-1650643200-1650646800@sovereigngraceurc.org
SUMMARY:Mere Christianity Bible Study
DESCRIPTION:
URL:https://sovereigngraceurc.org/event/mere-christianity-bible-study-75
CATEGORIES:Bible Study
END:VEVENT
BEGIN:VEVENT
DTSTART;TZID=America/Detroit:20220420T193000
DTEND;TZID=America/Detroit:20220420T210000
DTSTAMP:20260424T002840
CREATED:20220108T204355Z
LAST-MODIFIED:20220108T204355Z
UID:12760-1650483000-1650488400@sovereigngraceurc.org
SUMMARY:Wednessday Night Bible Study
DESCRIPTION:
URL:https://sovereigngraceurc.org/event/wednessday-night-bible-study-16
CATEGORIES:Bible Study
END:VEVENT
BEGIN:VEVENT
DTSTART;TZID=America/Detroit:20220408T160000
DTEND;TZID=America/Detroit:20220408T170000
DTSTAMP:20260424T002840
CREATED:20220108T211142Z
LAST-MODIFIED:20220108T211142Z
UID:12773-1649433600-1649437200@sovereigngraceurc.org
SUMMARY:Mere Christianity Bible Study
DESCRIPTION:
URL:https://sovereigngraceurc.org/event/mere-christianity-bible-study-73
CATEGORIES:Bible Study
END:VEVENT
BEGIN:VEVENT
DTSTART;TZID=America/Detroit:20220406T193000
DTEND;TZID=America/Detroit:20220406T210000
DTSTAMP:20260424T002840
CREATED:20220108T204354Z
LAST-MODIFIED:20220108T204354Z
UID:12759-1649273400-1649278800@sovereigngraceurc.org
SUMMARY:Wednessday Night Bible Study
DESCRIPTION:
URL:https://sovereigngraceurc.org/event/wednessday-night-bible-study-15
CATEGORIES:Bible Study
END:VEVENT
BEGIN:VEVENT
DTSTART;TZID=America/Detroit:20220401T160000
DTEND;TZID=America/Detroit:20220401T170000
DTSTAMP:20260424T002840
CREATED:20220108T211126Z
LAST-MODIFIED:20220108T211126Z
UID:12772-1648828800-1648832400@sovereigngraceurc.org
SUMMARY:Mere Christianity Bible Study
DESCRIPTION:
URL:https://sovereigngraceurc.org/event/mere-christianity-bible-study-72
CATEGORIES:Bible Study
END:VEVENT
BEGIN:VEVENT
DTSTART;TZID=America/Detroit:20220325T160000
DTEND;TZID=America/Detroit:20220325T170000
DTSTAMP:20260424T002840
CREATED:20220108T211126Z
LAST-MODIFIED:20220108T211126Z
UID:12771-1648224000-1648227600@sovereigngraceurc.org
SUMMARY:Mere Christianity Bible Study
DESCRIPTION:
URL:https://sovereigngraceurc.org/event/mere-christianity-bible-study-71
CATEGORIES:Bible Study
END:VEVENT
BEGIN:VEVENT
DTSTART;TZID=America/Detroit:20220323T193000
DTEND;TZID=America/Detroit:20220323T210000
DTSTAMP:20260424T002840
CREATED:20220108T204354Z
LAST-MODIFIED:20220108T204354Z
UID:12758-1648063800-1648069200@sovereigngraceurc.org
SUMMARY:Wednessday Night Bible Study
DESCRIPTION:
URL:https://sovereigngraceurc.org/event/wednessday-night-bible-study-14
CATEGORIES:Bible Study
END:VEVENT
BEGIN:VEVENT
DTSTART;TZID=America/Detroit:20220318T160000
DTEND;TZID=America/Detroit:20220318T170000
DTSTAMP:20260424T002840
CREATED:20220108T211125Z
LAST-MODIFIED:20220108T211125Z
UID:12770-1647619200-1647622800@sovereigngraceurc.org
SUMMARY:Mere Christianity Bible Study
DESCRIPTION:
URL:https://sovereigngraceurc.org/event/mere-christianity-bible-study-70
CATEGORIES:Bible Study
END:VEVENT
END:VCALENDAR