BEGIN:VCALENDAR
VERSION:2.0
PRODID:-//Sovereign Grace URC - ECPv6.15.20//NONSGML v1.0//EN
CALSCALE:GREGORIAN
METHOD:PUBLISH
X-ORIGINAL-URL:https://sovereigngraceurc.org
X-WR-CALDESC:Events for Sovereign Grace URC
REFRESH-INTERVAL;VALUE=DURATION:PT1H
X-Robots-Tag:noindex
X-PUBLISHED-TTL:PT1H
BEGIN:VTIMEZONE
TZID:America/Detroit
BEGIN:DAYLIGHT
TZOFFSETFROM:-0500
TZOFFSETTO:-0400
TZNAME:EDT
DTSTART:20230312T070000
END:DAYLIGHT
BEGIN:STANDARD
TZOFFSETFROM:-0400
TZOFFSETTO:-0500
TZNAME:EST
DTSTART:20231105T060000
END:STANDARD
BEGIN:DAYLIGHT
TZOFFSETFROM:-0500
TZOFFSETTO:-0400
TZNAME:EDT
DTSTART:20240310T070000
END:DAYLIGHT
BEGIN:STANDARD
TZOFFSETFROM:-0400
TZOFFSETTO:-0500
TZNAME:EST
DTSTART:20241103T060000
END:STANDARD
BEGIN:DAYLIGHT
TZOFFSETFROM:-0500
TZOFFSETTO:-0400
TZNAME:EDT
DTSTART:20250309T070000
END:DAYLIGHT
BEGIN:STANDARD
TZOFFSETFROM:-0400
TZOFFSETTO:-0500
TZNAME:EST
DTSTART:20251102T060000
END:STANDARD
BEGIN:DAYLIGHT
TZOFFSETFROM:-0500
TZOFFSETTO:-0400
TZNAME:EDT
DTSTART:20260308T070000
END:DAYLIGHT
BEGIN:STANDARD
TZOFFSETFROM:-0400
TZOFFSETTO:-0500
TZNAME:EST
DTSTART:20261101T060000
END:STANDARD
BEGIN:DAYLIGHT
TZOFFSETFROM:-0500
TZOFFSETTO:-0400
TZNAME:EDT
DTSTART:20270314T070000
END:DAYLIGHT
BEGIN:STANDARD
TZOFFSETFROM:-0400
TZOFFSETTO:-0500
TZNAME:EST
DTSTART:20271107T060000
END:STANDARD
END:VTIMEZONE
BEGIN:VEVENT
DTSTART;TZID=America/Detroit:20260107T193000
DTEND;TZID=America/Detroit:20260107T210000
DTSTAMP:20260423T223949
CREATED:20251130T162003Z
LAST-MODIFIED:20260103T192536Z
UID:16636-1767814200-1767819600@sovereigngraceurc.org
SUMMARY:Wednessday Night Bible Study
DESCRIPTION:
URL:https://sovereigngraceurc.org/event/wednessday-night-bible-study-58
CATEGORIES:Bible Study
END:VEVENT
BEGIN:VEVENT
DTSTART;TZID=America/Detroit:20250423T193000
DTEND;TZID=America/Detroit:20250423T210000
DTSTAMP:20260423T223949
CREATED:20250104T014756Z
LAST-MODIFIED:20250104T014756Z
UID:15396-1745436600-1745442000@sovereigngraceurc.org
SUMMARY:Wednessday Night Bible Study
DESCRIPTION:
URL:https://sovereigngraceurc.org/event/wednessday-night-bible-study-57
CATEGORIES:Bible Study
END:VEVENT
BEGIN:VEVENT
DTSTART;TZID=America/Detroit:20250411T160000
DTEND;TZID=America/Detroit:20250411T170000
DTSTAMP:20260423T223949
CREATED:20250104T014832Z
LAST-MODIFIED:20250104T014832Z
UID:15408-1744387200-1744390800@sovereigngraceurc.org
SUMMARY:Mere Christianity Bible Study
DESCRIPTION:
URL:https://sovereigngraceurc.org/event/mere-christianity-bible-study-80
CATEGORIES:Bible Study
END:VEVENT
BEGIN:VEVENT
DTSTART;TZID=America/Detroit:20250409T193000
DTEND;TZID=America/Detroit:20250409T210000
DTSTAMP:20260423T223949
CREATED:20250104T014741Z
LAST-MODIFIED:20250104T014741Z
UID:15395-1744227000-1744232400@sovereigngraceurc.org
SUMMARY:Wednessday Night Bible Study
DESCRIPTION:
URL:https://sovereigngraceurc.org/event/wednessday-night-bible-study-56
CATEGORIES:Bible Study
END:VEVENT
BEGIN:VEVENT
DTSTART;TZID=America/Detroit:20250404T160000
DTEND;TZID=America/Detroit:20250404T170000
DTSTAMP:20260423T223949
CREATED:20250104T014832Z
LAST-MODIFIED:20250104T014832Z
UID:15407-1743782400-1743786000@sovereigngraceurc.org
SUMMARY:Mere Christianity Bible Study
DESCRIPTION:
URL:https://sovereigngraceurc.org/event/mere-christianity-bible-study-79
CATEGORIES:Bible Study
END:VEVENT
BEGIN:VEVENT
DTSTART;TZID=America/Detroit:20250328T160000
DTEND;TZID=America/Detroit:20250328T170000
DTSTAMP:20260423T223949
CREATED:20250104T014831Z
LAST-MODIFIED:20250104T014831Z
UID:15406-1743177600-1743181200@sovereigngraceurc.org
SUMMARY:Mere Christianity Bible Study
DESCRIPTION:
URL:https://sovereigngraceurc.org/event/mere-christianity-bible-study-78
CATEGORIES:Bible Study
END:VEVENT
BEGIN:VEVENT
DTSTART;TZID=America/Detroit:20250326T193000
DTEND;TZID=America/Detroit:20250326T210000
DTSTAMP:20260423T223949
CREATED:20250104T014741Z
LAST-MODIFIED:20250104T014741Z
UID:15394-1743017400-1743022800@sovereigngraceurc.org
SUMMARY:Wednessday Night Bible Study
DESCRIPTION:
URL:https://sovereigngraceurc.org/event/wednessday-night-bible-study-55
CATEGORIES:Bible Study
END:VEVENT
BEGIN:VEVENT
DTSTART;TZID=America/Detroit:20250321T160000
DTEND;TZID=America/Detroit:20250321T170000
DTSTAMP:20260423T223949
CREATED:20250104T014820Z
LAST-MODIFIED:20250104T014820Z
UID:15405-1742572800-1742576400@sovereigngraceurc.org
SUMMARY:Mere Christianity Bible Study
DESCRIPTION:
URL:https://sovereigngraceurc.org/event/mere-christianity-bible-study-77
CATEGORIES:Bible Study
END:VEVENT
BEGIN:VEVENT
DTSTART;TZID=America/Detroit:20250314T160000
DTEND;TZID=America/Detroit:20250314T170000
DTSTAMP:20260423T223949
CREATED:20250104T014820Z
LAST-MODIFIED:20250104T014820Z
UID:15404-1741968000-1741971600@sovereigngraceurc.org
SUMMARY:Mere Christianity Bible Study
DESCRIPTION:
URL:https://sovereigngraceurc.org/event/mere-christianity-bible-study-76
CATEGORIES:Bible Study
END:VEVENT
BEGIN:VEVENT
DTSTART;TZID=America/Detroit:20250307T160000
DTEND;TZID=America/Detroit:20250307T170000
DTSTAMP:20260423T223949
CREATED:20250104T014819Z
LAST-MODIFIED:20250104T014819Z
UID:15403-1741363200-1741366800@sovereigngraceurc.org
SUMMARY:Mere Christianity Bible Study
DESCRIPTION:
URL:https://sovereigngraceurc.org/event/mere-christianity-bible-study-74
CATEGORIES:Bible Study
END:VEVENT
BEGIN:VEVENT
DTSTART;TZID=America/Detroit:20250305T193000
DTEND;TZID=America/Detroit:20250305T210000
DTSTAMP:20260423T223949
CREATED:20250104T014741Z
LAST-MODIFIED:20250302T123921Z
UID:15393-1741203000-1741208400@sovereigngraceurc.org
SUMMARY:Wednessday Night Bible Study
DESCRIPTION:
URL:https://sovereigngraceurc.org/event/wednessday-night-bible-study-54
CATEGORIES:Bible Study
END:VEVENT
BEGIN:VEVENT
DTSTART;TZID=America/Detroit:20250228T160000
DTEND;TZID=America/Detroit:20250228T170000
DTSTAMP:20260423T223949
CREATED:20250104T014819Z
LAST-MODIFIED:20250104T014819Z
UID:15402-1740758400-1740762000@sovereigngraceurc.org
SUMMARY:Mere Christianity Bible Study
DESCRIPTION:
URL:https://sovereigngraceurc.org/event/mere-christianity-bible-study-62
CATEGORIES:Bible Study
END:VEVENT
BEGIN:VEVENT
DTSTART;TZID=America/Detroit:20250226T193000
DTEND;TZID=America/Detroit:20250226T210000
DTSTAMP:20260423T223949
CREATED:20250104T014740Z
LAST-MODIFIED:20250104T014740Z
UID:15392-1740598200-1740603600@sovereigngraceurc.org
SUMMARY:Wednessday Night Bible Study
DESCRIPTION:
URL:https://sovereigngraceurc.org/event/wednessday-night-bible-study-53
CATEGORIES:Bible Study
END:VEVENT
BEGIN:VEVENT
DTSTART;TZID=America/Detroit:20250221T160000
DTEND;TZID=America/Detroit:20250221T170000
DTSTAMP:20260423T223949
CREATED:20250104T014818Z
LAST-MODIFIED:20250104T014818Z
UID:15401-1740153600-1740157200@sovereigngraceurc.org
SUMMARY:Mere Christianity Bible Study
DESCRIPTION:
URL:https://sovereigngraceurc.org/event/mere-christianity-bible-study-48
CATEGORIES:Bible Study
END:VEVENT
BEGIN:VEVENT
DTSTART;TZID=America/Detroit:20250214T160000
DTEND;TZID=America/Detroit:20250214T170000
DTSTAMP:20260423T223949
CREATED:20250104T014758Z
LAST-MODIFIED:20250104T014758Z
UID:15400-1739548800-1739552400@sovereigngraceurc.org
SUMMARY:Mere Christianity Bible Study
DESCRIPTION:
URL:https://sovereigngraceurc.org/event/mere-christianity-bible-study-47
CATEGORIES:Bible Study
END:VEVENT
BEGIN:VEVENT
DTSTART;TZID=America/Detroit:20250212T193000
DTEND;TZID=America/Detroit:20250212T210000
DTSTAMP:20260423T223949
CREATED:20250104T014740Z
LAST-MODIFIED:20250104T014740Z
UID:15391-1739388600-1739394000@sovereigngraceurc.org
SUMMARY:Wednessday Night Bible Study
DESCRIPTION:
URL:https://sovereigngraceurc.org/event/wednessday-night-bible-study-52
CATEGORIES:Bible Study
END:VEVENT
BEGIN:VEVENT
DTSTART;TZID=America/Detroit:20250207T160000
DTEND;TZID=America/Detroit:20250207T170000
DTSTAMP:20260423T223949
CREATED:20250104T014757Z
LAST-MODIFIED:20250104T014757Z
UID:15399-1738944000-1738947600@sovereigngraceurc.org
SUMMARY:Mere Christianity Bible Study
DESCRIPTION:
URL:https://sovereigngraceurc.org/event/mere-christianity-bible-study-46
CATEGORIES:Bible Study
END:VEVENT
BEGIN:VEVENT
DTSTART;TZID=America/Detroit:20250131T160000
DTEND;TZID=America/Detroit:20250131T170000
DTSTAMP:20260423T223949
CREATED:20250104T014757Z
LAST-MODIFIED:20250104T014757Z
UID:15398-1738339200-1738342800@sovereigngraceurc.org
SUMMARY:Mere Christianity Bible Study
DESCRIPTION:
URL:https://sovereigngraceurc.org/event/mere-christianity-bible-study-45
CATEGORIES:Bible Study
END:VEVENT
BEGIN:VEVENT
DTSTART;TZID=America/Detroit:20250129T193000
DTEND;TZID=America/Detroit:20250129T210000
DTSTAMP:20260423T223949
CREATED:20250104T014737Z
LAST-MODIFIED:20250104T014737Z
UID:15390-1738179000-1738184400@sovereigngraceurc.org
SUMMARY:Wednessday Night Bible Study
DESCRIPTION:
URL:https://sovereigngraceurc.org/event/wednessday-night-bible-study-51
CATEGORIES:Bible Study
END:VEVENT
BEGIN:VEVENT
DTSTART;TZID=America/Detroit:20250124T160000
DTEND;TZID=America/Detroit:20250124T170000
DTSTAMP:20260423T223949
CREATED:20250104T014757Z
LAST-MODIFIED:20250104T014757Z
UID:15397-1737734400-1737738000@sovereigngraceurc.org
SUMMARY:Mere Christianity Bible Study
DESCRIPTION:
URL:https://sovereigngraceurc.org/event/mere-christianity-bible-study-44
CATEGORIES:Bible Study
END:VEVENT
BEGIN:VEVENT
DTSTART;TZID=America/Detroit:20250115T193000
DTEND;TZID=America/Detroit:20250115T210000
DTSTAMP:20260423T223949
CREATED:20250104T014737Z
LAST-MODIFIED:20250104T014737Z
UID:15389-1736969400-1736974800@sovereigngraceurc.org
SUMMARY:Wednessday Night Bible Study
DESCRIPTION:
URL:https://sovereigngraceurc.org/event/wednessday-night-bible-study-50
CATEGORIES:Bible Study
END:VEVENT
BEGIN:VEVENT
DTSTART;TZID=America/Detroit:20240419T160000
DTEND;TZID=America/Detroit:20240419T170000
DTSTAMP:20260423T223949
CREATED:20240102T031238Z
LAST-MODIFIED:20240102T031238Z
UID:14238-1713542400-1713546000@sovereigngraceurc.org
SUMMARY:Mere Christianity Bible Study
DESCRIPTION:
URL:https://sovereigngraceurc.org/event/mere-christianity-bible-study-42
CATEGORIES:Bible Study
END:VEVENT
BEGIN:VEVENT
DTSTART;TZID=America/Detroit:20240417T193000
DTEND;TZID=America/Detroit:20240417T210000
DTSTAMP:20260423T223949
CREATED:20240101T195256Z
LAST-MODIFIED:20240101T195256Z
UID:14221-1713382200-1713387600@sovereigngraceurc.org
SUMMARY:Wednessday Night Bible Study
DESCRIPTION:
URL:https://sovereigngraceurc.org/event/wednessday-night-bible-study-41
CATEGORIES:Bible Study
END:VEVENT
BEGIN:VEVENT
DTSTART;TZID=America/Detroit:20240412T160000
DTEND;TZID=America/Detroit:20240412T170000
DTSTAMP:20260423T223949
CREATED:20240102T031238Z
LAST-MODIFIED:20240102T031238Z
UID:14237-1712937600-1712941200@sovereigngraceurc.org
SUMMARY:Mere Christianity Bible Study
DESCRIPTION:
URL:https://sovereigngraceurc.org/event/mere-christianity-bible-study-41
CATEGORIES:Bible Study
END:VEVENT
BEGIN:VEVENT
DTSTART;TZID=America/Detroit:20240405T160000
DTEND;TZID=America/Detroit:20240405T170000
DTSTAMP:20260423T223949
CREATED:20240102T031238Z
LAST-MODIFIED:20240102T031238Z
UID:14236-1712332800-1712336400@sovereigngraceurc.org
SUMMARY:Mere Christianity Bible Study
DESCRIPTION:
URL:https://sovereigngraceurc.org/event/mere-christianity-bible-study-40
CATEGORIES:Bible Study
END:VEVENT
BEGIN:VEVENT
DTSTART;TZID=America/Detroit:20240403T193000
DTEND;TZID=America/Detroit:20240403T210000
DTSTAMP:20260423T223949
CREATED:20240101T195057Z
LAST-MODIFIED:20240101T195057Z
UID:14220-1712172600-1712178000@sovereigngraceurc.org
SUMMARY:Wednessday Night Bible Study
DESCRIPTION:
URL:https://sovereigngraceurc.org/event/wednessday-night-bible-study-40
CATEGORIES:Bible Study
END:VEVENT
BEGIN:VEVENT
DTSTART;TZID=America/Detroit:20240322T160000
DTEND;TZID=America/Detroit:20240322T170000
DTSTAMP:20260423T223949
CREATED:20240102T031237Z
LAST-MODIFIED:20240102T031237Z
UID:14234-1711123200-1711126800@sovereigngraceurc.org
SUMMARY:Mere Christianity Bible Study
DESCRIPTION:
URL:https://sovereigngraceurc.org/event/mere-christianity-bible-study-38
CATEGORIES:Bible Study
END:VEVENT
BEGIN:VEVENT
DTSTART;TZID=America/Detroit:20240320T193000
DTEND;TZID=America/Detroit:20240320T210000
DTSTAMP:20260423T223949
CREATED:20240101T195057Z
LAST-MODIFIED:20240101T195057Z
UID:14219-1710963000-1710968400@sovereigngraceurc.org
SUMMARY:Wednessday Night Bible Study
DESCRIPTION:
URL:https://sovereigngraceurc.org/event/wednessday-night-bible-study-39
CATEGORIES:Bible Study
END:VEVENT
BEGIN:VEVENT
DTSTART;TZID=America/Detroit:20240315T160000
DTEND;TZID=America/Detroit:20240315T170000
DTSTAMP:20260423T223949
CREATED:20240102T031235Z
LAST-MODIFIED:20240102T031235Z
UID:14233-1710518400-1710522000@sovereigngraceurc.org
SUMMARY:Mere Christianity Bible Study
DESCRIPTION:
URL:https://sovereigngraceurc.org/event/mere-christianity-bible-study-37
CATEGORIES:Bible Study
END:VEVENT
BEGIN:VEVENT
DTSTART;TZID=America/Detroit:20240306T193000
DTEND;TZID=America/Detroit:20240306T210000
DTSTAMP:20260423T223949
CREATED:20240101T195056Z
LAST-MODIFIED:20240101T195056Z
UID:14218-1709753400-1709758800@sovereigngraceurc.org
SUMMARY:Wednessday Night Bible Study
DESCRIPTION:
URL:https://sovereigngraceurc.org/event/wednessday-night-bible-study-38
CATEGORIES:Bible Study
END:VEVENT
END:VCALENDAR