BEGIN:VCALENDAR
VERSION:2.0
PRODID:-//Sovereign Grace URC - ECPv6.15.20//NONSGML v1.0//EN
CALSCALE:GREGORIAN
METHOD:PUBLISH
X-WR-CALNAME:Sovereign Grace URC
X-ORIGINAL-URL:https://sovereigngraceurc.org
X-WR-CALDESC:Events for Sovereign Grace URC
REFRESH-INTERVAL;VALUE=DURATION:PT1H
X-Robots-Tag:noindex
X-PUBLISHED-TTL:PT1H
BEGIN:VTIMEZONE
TZID:America/Detroit
BEGIN:DAYLIGHT
TZOFFSETFROM:-0500
TZOFFSETTO:-0400
TZNAME:EDT
DTSTART:20170312T070000
END:DAYLIGHT
BEGIN:STANDARD
TZOFFSETFROM:-0400
TZOFFSETTO:-0500
TZNAME:EST
DTSTART:20171105T060000
END:STANDARD
BEGIN:DAYLIGHT
TZOFFSETFROM:-0500
TZOFFSETTO:-0400
TZNAME:EDT
DTSTART:20180311T070000
END:DAYLIGHT
BEGIN:STANDARD
TZOFFSETFROM:-0400
TZOFFSETTO:-0500
TZNAME:EST
DTSTART:20181104T060000
END:STANDARD
BEGIN:DAYLIGHT
TZOFFSETFROM:-0500
TZOFFSETTO:-0400
TZNAME:EDT
DTSTART:20190310T070000
END:DAYLIGHT
BEGIN:STANDARD
TZOFFSETFROM:-0400
TZOFFSETTO:-0500
TZNAME:EST
DTSTART:20191103T060000
END:STANDARD
END:VTIMEZONE
BEGIN:VEVENT
DTSTART;TZID=America/Detroit:20180420T160000
DTEND;TZID=America/Detroit:20180420T170000
DTSTAMP:20260424T143115
CREATED:20180407T010246Z
LAST-MODIFIED:20180407T010349Z
UID:7808-1524240000-1524243600@sovereigngraceurc.org
SUMMARY:Mere Christianity Bible Study
DESCRIPTION:Calvin Bible Study meets this week in room 229 of the Calvin Fine Arts Center.  We continue our study at John 12\, Rev. Dick leading
URL:https://sovereigngraceurc.org/event/mere-christianity-bible-study-3
LOCATION:Calvin Hiemenga Hall\, 3201 Burton St SE\, Grand Rapids\, MI\, 49546\, United States
CATEGORIES:Bible Study
END:VEVENT
BEGIN:VEVENT
DTSTART;TZID=America/Detroit:20180419T190000
DTEND;TZID=America/Detroit:20180419T200000
DTSTAMP:20260424T143115
CREATED:20180412T231306Z
LAST-MODIFIED:20180412T231306Z
UID:7844-1524164400-1524168000@sovereigngraceurc.org
SUMMARY:Thursday Evening Doctrine Class
DESCRIPTION:Doctrine Class meets this week Thursday at 7 P.M. at room 252 in the Fine Arts Center of Calvin College.  Up for discussion: God’s Covenant\, Creation\, and Fall (II).   All welcome!
URL:https://sovereigngraceurc.org/event/thursday-evening-doctrine-class
LOCATION:Calvin Hiemenga Hall\, 3201 Burton St SE\, Grand Rapids\, MI\, 49546\, United States
CATEGORIES:Bible Study
END:VEVENT
BEGIN:VEVENT
DTSTART;TZID=America/Detroit:20180413T040000
DTEND;TZID=America/Detroit:20180413T170000
DTSTAMP:20260424T143115
CREATED:20180407T010016Z
LAST-MODIFIED:20180407T011253Z
UID:7806-1523592000-1523638800@sovereigngraceurc.org
SUMMARY:Mere Christianity Bible Study
DESCRIPTION:Calvin Bible Study meets this week in room 229 of the Calvin Fine Arts Center.  We continue our study of John 11\, Rev. Vos leading.
URL:https://sovereigngraceurc.org/event/mere-christianity-bible-study-2
LOCATION:Calvin Hiemenga Hall\, 3201 Burton St SE\, Grand Rapids\, MI\, 49546\, United States
CATEGORIES:Bible Study
END:VEVENT
BEGIN:VEVENT
DTSTART;TZID=America/Detroit:20180411T193000
DTEND;TZID=America/Detroit:20180411T210000
DTSTAMP:20260424T143115
CREATED:20180407T005809Z
LAST-MODIFIED:20180407T005809Z
UID:7802-1523475000-1523480400@sovereigngraceurc.org
SUMMARY:Wednesday Night Bible Study
DESCRIPTION:Bible Study meets this week Wednesday at 7:30 P.M. at Pastor’s.  We continue our discussion of the crucifixion of Christ at John 19.  We are up to the Seven Words of Jesus on the cross.   Come on out to study God’s Word with us! \n 
URL:https://sovereigngraceurc.org/event/wednesday-night-bible-study-4
LOCATION:Rev. Dick’s House
CATEGORIES:Bible Study
END:VEVENT
BEGIN:VEVENT
DTSTART;TZID=America/Detroit:20180406T160000
DTEND;TZID=America/Detroit:20180406T170000
DTSTAMP:20260424T143115
CREATED:20180323T001529Z
LAST-MODIFIED:20180323T001606Z
UID:7781-1523030400-1523034000@sovereigngraceurc.org
SUMMARY:Mere Christianity College Bible Study
DESCRIPTION:Join us as we will continue our study on the book of John.
URL:https://sovereigngraceurc.org/event/mere-christianity-college-bible-study-2
LOCATION:Calvin Hiemenga Hall\, 3201 Burton St SE\, Grand Rapids\, MI\, 49546\, United States
CATEGORIES:Bible Study
END:VEVENT
BEGIN:VEVENT
DTSTART;TZID=America/Detroit:20180405T190000
DTEND;TZID=America/Detroit:20180405T200000
DTSTAMP:20260424T143115
CREATED:20180330T003035Z
LAST-MODIFIED:20180330T003035Z
UID:7789-1522954800-1522958400@sovereigngraceurc.org
SUMMARY:Thursday Night Doctrine Class
DESCRIPTION:Doctrine Class meets this week Thursday at 7 P.M. at room 252 in the Fine Arts Center of Calvin College.  Up for discussion: Predestination!
URL:https://sovereigngraceurc.org/event/thursday-night-doctrine-class
LOCATION:Calvin Hiemenga Hall\, 3201 Burton St SE\, Grand Rapids\, MI\, 49546\, United States
CATEGORIES:Bible Study
END:VEVENT
BEGIN:VEVENT
DTSTART;TZID=America/Detroit:20180329T190000
DTEND;TZID=America/Detroit:20180329T200000
DTSTAMP:20260424T143115
CREATED:20180323T001330Z
LAST-MODIFIED:20180323T001330Z
UID:7779-1522350000-1522353600@sovereigngraceurc.org
SUMMARY:Thursday Evening Doctrine Class
DESCRIPTION:Doctrine Class meets this week Thursday at 7 P.M. at room 252 in the Fine Arts Center of Calvin College. Up for discussion: Predestination! All welcome.
URL:https://sovereigngraceurc.org/event/doctrine-class-2
LOCATION:Calvin Hiemenga Hall\, 3201 Burton St SE\, Grand Rapids\, MI\, 49546\, United States
CATEGORIES:Bible Study
END:VEVENT
BEGIN:VEVENT
DTSTART;TZID=America/Detroit:20180328T193000
DTEND;TZID=America/Detroit:20180328T210000
DTSTAMP:20260424T143115
CREATED:20180323T001050Z
LAST-MODIFIED:20180323T001050Z
UID:7777-1522265400-1522270800@sovereigngraceurc.org
SUMMARY:Wednesday Night Bible Study
DESCRIPTION:Bible Study meets this week at 7:30 P.  M. at Pastor’s to discuss the crucifixion of Jesus (John 19 and related Scriptures).
URL:https://sovereigngraceurc.org/event/wednesday-night-bible-study-3
LOCATION:Rev. Dick’s House
CATEGORIES:Bible Study
END:VEVENT
BEGIN:VEVENT
DTSTART;TZID=America/Detroit:20180316T160000
DTEND;TZID=America/Detroit:20180316T170000
DTSTAMP:20260424T143115
CREATED:20180309T030846Z
LAST-MODIFIED:20180309T030846Z
UID:7750-1521216000-1521219600@sovereigngraceurc.org
SUMMARY:Mere Christianity College Bible Study
DESCRIPTION:Calvin Bible Study meets this Friday\, in Room 229 of the Fine Arts Center. We continue our study at John 10\, Rev. Dick leading
URL:https://sovereigngraceurc.org/event/mere-christianity-college-bible-study
LOCATION:Calvin Hiemenga Hall\, 3201 Burton St SE\, Grand Rapids\, MI\, 49546\, United States
CATEGORIES:Bible Study
END:VEVENT
BEGIN:VEVENT
DTSTART;TZID=America/Detroit:20180315T190000
DTEND;TZID=America/Detroit:20180315T190000
DTSTAMP:20260424T143115
CREATED:20180309T031206Z
LAST-MODIFIED:20180309T031206Z
UID:7754-1521140400-1521140400@sovereigngraceurc.org
SUMMARY:Doctrine Class
DESCRIPTION:Doctrine Class meets this week Thursday at 7 P.M. at Calvin College\, Room 252 of the Fine Arts Center.  We continue our discussion of GOD.  Next up: The Doctrine of Predestination.    This is an awesome\, controversial doctrine\, but comforting and a great inspiration to godliness and in our witness of the sovereign God!   We will consider questions such as “If we believe in predestination\, why pray?  Why do evangelism?  Why work?  What are different views on predestination in the church world\, and among Reformed churches?  What difference does it make what we believe on this matter?  All welcome\, singles\, couples\, and families—and those even who have not come yet.  Please consider taking this opportunity for you and your children\, if you so desire\, to have a doctrine night together.  Couples\, if you need an incentive for a “date night\,” why not consider a “dinner and doctrine night” for your date?!
URL:https://sovereigngraceurc.org/event/doctrine-class
LOCATION:Calvin Hiemenga Hall\, 3201 Burton St SE\, Grand Rapids\, MI\, 49546\, United States
CATEGORIES:Bible Study
END:VEVENT
BEGIN:VEVENT
DTSTART;TZID=America/Detroit:20180309T160000
DTEND;TZID=America/Detroit:20180309T170000
DTSTAMP:20260424T143115
CREATED:20180309T030649Z
LAST-MODIFIED:20180309T030721Z
UID:7747-1520611200-1520614800@sovereigngraceurc.org
SUMMARY:Mere Christianity Bible Study
DESCRIPTION:Calvin Bible Study meets this Friday\, in Room 229 of the Fine Arts Center. We continue our study at John 10\, Rev. Dick leading
URL:https://sovereigngraceurc.org/event/mere-christianity-bible-study
LOCATION:Calvin Hiemenga Hall\, 3201 Burton St SE\, Grand Rapids\, MI\, 49546\, United States
CATEGORIES:Bible Study
END:VEVENT
END:VCALENDAR