BEGIN:VCALENDAR
VERSION:2.0
PRODID:-//Sovereign Grace URC - ECPv6.15.20//NONSGML v1.0//EN
CALSCALE:GREGORIAN
METHOD:PUBLISH
X-WR-CALNAME:Sovereign Grace URC
X-ORIGINAL-URL:https://sovereigngraceurc.org
X-WR-CALDESC:Events for Sovereign Grace URC
REFRESH-INTERVAL;VALUE=DURATION:PT1H
X-Robots-Tag:noindex
X-PUBLISHED-TTL:PT1H
BEGIN:VTIMEZONE
TZID:America/Detroit
BEGIN:DAYLIGHT
TZOFFSETFROM:-0500
TZOFFSETTO:-0400
TZNAME:EDT
DTSTART:20250309T070000
END:DAYLIGHT
BEGIN:STANDARD
TZOFFSETFROM:-0400
TZOFFSETTO:-0500
TZNAME:EST
DTSTART:20251102T060000
END:STANDARD
BEGIN:DAYLIGHT
TZOFFSETFROM:-0500
TZOFFSETTO:-0400
TZNAME:EDT
DTSTART:20260308T070000
END:DAYLIGHT
BEGIN:STANDARD
TZOFFSETFROM:-0400
TZOFFSETTO:-0500
TZNAME:EST
DTSTART:20261101T060000
END:STANDARD
BEGIN:DAYLIGHT
TZOFFSETFROM:-0500
TZOFFSETTO:-0400
TZNAME:EDT
DTSTART:20270314T070000
END:DAYLIGHT
BEGIN:STANDARD
TZOFFSETFROM:-0400
TZOFFSETTO:-0500
TZNAME:EST
DTSTART:20271107T060000
END:STANDARD
END:VTIMEZONE
BEGIN:VEVENT
DTSTART;TZID=America/Detroit:20260306T160000
DTEND;TZID=America/Detroit:20260306T170000
DTSTAMP:20260423T161130
CREATED:20251130T162206Z
LAST-MODIFIED:20251130T162206Z
UID:16657-1772812800-1772816400@sovereigngraceurc.org
SUMMARY:Face It Bible Study
DESCRIPTION:
URL:https://sovereigngraceurc.org/event/face-it-bible-study-7
CATEGORIES:Bible Study
END:VEVENT
BEGIN:VEVENT
DTSTART;TZID=America/Detroit:20260311T193000
DTEND;TZID=America/Detroit:20260311T210000
DTSTAMP:20260423T161130
CREATED:20251130T162005Z
LAST-MODIFIED:20251130T162005Z
UID:16640-1773257400-1773262800@sovereigngraceurc.org
SUMMARY:Wednessday Night Bible Study
DESCRIPTION:
URL:https://sovereigngraceurc.org/event/wednessday-night-bible-study-62
CATEGORIES:Bible Study
END:VEVENT
BEGIN:VEVENT
DTSTART;TZID=America/Detroit:20260313T160000
DTEND;TZID=America/Detroit:20260313T170000
DTSTAMP:20260423T161130
CREATED:20251130T162206Z
LAST-MODIFIED:20251130T162206Z
UID:16658-1773417600-1773421200@sovereigngraceurc.org
SUMMARY:Face It Bible Study
DESCRIPTION:
URL:https://sovereigngraceurc.org/event/face-it-bible-study-8
CATEGORIES:Bible Study
END:VEVENT
BEGIN:VEVENT
DTSTART;TZID=America/Detroit:20260322T160000
DTEND;TZID=America/Detroit:20260322T170000
DTSTAMP:20260423T161130
CREATED:20251130T162206Z
LAST-MODIFIED:20251130T162206Z
UID:16659-1774195200-1774198800@sovereigngraceurc.org
SUMMARY:Face It Bible Study
DESCRIPTION:
URL:https://sovereigngraceurc.org/event/face-it-bible-study-9
CATEGORIES:Bible Study
END:VEVENT
BEGIN:VEVENT
DTSTART;TZID=America/Detroit:20260325T193000
DTEND;TZID=America/Detroit:20260325T210000
DTSTAMP:20260423T161130
CREATED:20251130T162005Z
LAST-MODIFIED:20251130T162005Z
UID:16641-1774467000-1774472400@sovereigngraceurc.org
SUMMARY:Wednessday Night Bible Study
DESCRIPTION:
URL:https://sovereigngraceurc.org/event/wednessday-night-bible-study-63
CATEGORIES:Bible Study
END:VEVENT
BEGIN:VEVENT
DTSTART;TZID=America/Detroit:20260327T160000
DTEND;TZID=America/Detroit:20260327T170000
DTSTAMP:20260423T161130
CREATED:20251130T162220Z
LAST-MODIFIED:20251130T162220Z
UID:16661-1774627200-1774630800@sovereigngraceurc.org
SUMMARY:Face It Bible Study
DESCRIPTION:
URL:https://sovereigngraceurc.org/event/face-it-bible-study-10
CATEGORIES:Bible Study
END:VEVENT
END:VCALENDAR