BEGIN:VCALENDAR
VERSION:2.0
PRODID:-//Sovereign Grace URC - ECPv6.15.20//NONSGML v1.0//EN
CALSCALE:GREGORIAN
METHOD:PUBLISH
X-ORIGINAL-URL:https://sovereigngraceurc.org
X-WR-CALDESC:Events for Sovereign Grace URC
REFRESH-INTERVAL;VALUE=DURATION:PT1H
X-Robots-Tag:noindex
X-PUBLISHED-TTL:PT1H
BEGIN:VTIMEZONE
TZID:America/Detroit
BEGIN:DAYLIGHT
TZOFFSETFROM:-0500
TZOFFSETTO:-0400
TZNAME:EDT
DTSTART:20250309T070000
END:DAYLIGHT
BEGIN:STANDARD
TZOFFSETFROM:-0400
TZOFFSETTO:-0500
TZNAME:EST
DTSTART:20251102T060000
END:STANDARD
BEGIN:DAYLIGHT
TZOFFSETFROM:-0500
TZOFFSETTO:-0400
TZNAME:EDT
DTSTART:20260308T070000
END:DAYLIGHT
BEGIN:STANDARD
TZOFFSETFROM:-0400
TZOFFSETTO:-0500
TZNAME:EST
DTSTART:20261101T060000
END:STANDARD
BEGIN:DAYLIGHT
TZOFFSETFROM:-0500
TZOFFSETTO:-0400
TZNAME:EDT
DTSTART:20270314T070000
END:DAYLIGHT
BEGIN:STANDARD
TZOFFSETFROM:-0400
TZOFFSETTO:-0500
TZNAME:EST
DTSTART:20271107T060000
END:STANDARD
END:VTIMEZONE
BEGIN:VEVENT
DTSTART;TZID=America/Detroit:20260204T193000
DTEND;TZID=America/Detroit:20260204T210000
DTSTAMP:20260423T174648
CREATED:20251130T162004Z
LAST-MODIFIED:20260103T192617Z
UID:16638-1770233400-1770238800@sovereigngraceurc.org
SUMMARY:Wednessday Night Bible Study
DESCRIPTION:
URL:https://sovereigngraceurc.org/event/wednessday-night-bible-study-60
CATEGORIES:Bible Study
END:VEVENT
BEGIN:VEVENT
DTSTART;TZID=America/Detroit:20260206T160000
DTEND;TZID=America/Detroit:20260206T170000
DTSTAMP:20260423T174648
CREATED:20251130T162017Z
LAST-MODIFIED:20251130T162017Z
UID:16646-1770393600-1770397200@sovereigngraceurc.org
SUMMARY:Face It Bible Study
DESCRIPTION:
URL:https://sovereigngraceurc.org/event/face-it-bible-study-3
CATEGORIES:Bible Study
END:VEVENT
BEGIN:VEVENT
DTSTART;TZID=America/Detroit:20260213T160000
DTEND;TZID=America/Detroit:20260213T170000
DTSTAMP:20260423T174648
CREATED:20251130T162017Z
LAST-MODIFIED:20251130T162017Z
UID:16647-1770998400-1771002000@sovereigngraceurc.org
SUMMARY:Face It Bible Study
DESCRIPTION:
URL:https://sovereigngraceurc.org/event/face-it-bible-study-4
CATEGORIES:Bible Study
END:VEVENT
BEGIN:VEVENT
DTSTART;TZID=America/Detroit:20260218T193000
DTEND;TZID=America/Detroit:20260218T210000
DTSTAMP:20260423T174648
CREATED:20251130T162005Z
LAST-MODIFIED:20260103T192624Z
UID:16639-1771443000-1771448400@sovereigngraceurc.org
SUMMARY:Wednessday Night Bible Study
DESCRIPTION:
URL:https://sovereigngraceurc.org/event/wednessday-night-bible-study-61
CATEGORIES:Bible Study
END:VEVENT
BEGIN:VEVENT
DTSTART;TZID=America/Detroit:20260220T160000
DTEND;TZID=America/Detroit:20260220T170000
DTSTAMP:20260423T174648
CREATED:20251130T162205Z
LAST-MODIFIED:20251130T162205Z
UID:16655-1771603200-1771606800@sovereigngraceurc.org
SUMMARY:Face It Bible Study
DESCRIPTION:
URL:https://sovereigngraceurc.org/event/face-it-bible-study-5
CATEGORIES:Bible Study
END:VEVENT
BEGIN:VEVENT
DTSTART;TZID=America/Detroit:20260227T160000
DTEND;TZID=America/Detroit:20260227T170000
DTSTAMP:20260423T174648
CREATED:20251130T162205Z
LAST-MODIFIED:20251130T162205Z
UID:16656-1772208000-1772211600@sovereigngraceurc.org
SUMMARY:Face It Bible Study
DESCRIPTION:
URL:https://sovereigngraceurc.org/event/face-it-bible-study-6
CATEGORIES:Bible Study
END:VEVENT
END:VCALENDAR