BEGIN:VCALENDAR
VERSION:2.0
PRODID:-//Sovereign Grace URC - ECPv6.15.20//NONSGML v1.0//EN
CALSCALE:GREGORIAN
METHOD:PUBLISH
X-ORIGINAL-URL:https://sovereigngraceurc.org
X-WR-CALDESC:Events for Sovereign Grace URC
REFRESH-INTERVAL;VALUE=DURATION:PT1H
X-Robots-Tag:noindex
X-PUBLISHED-TTL:PT1H
BEGIN:VTIMEZONE
TZID:America/Detroit
BEGIN:DAYLIGHT
TZOFFSETFROM:-0500
TZOFFSETTO:-0400
TZNAME:EDT
DTSTART:20250309T070000
END:DAYLIGHT
BEGIN:STANDARD
TZOFFSETFROM:-0400
TZOFFSETTO:-0500
TZNAME:EST
DTSTART:20251102T060000
END:STANDARD
BEGIN:DAYLIGHT
TZOFFSETFROM:-0500
TZOFFSETTO:-0400
TZNAME:EDT
DTSTART:20260308T070000
END:DAYLIGHT
BEGIN:STANDARD
TZOFFSETFROM:-0400
TZOFFSETTO:-0500
TZNAME:EST
DTSTART:20261101T060000
END:STANDARD
BEGIN:DAYLIGHT
TZOFFSETFROM:-0500
TZOFFSETTO:-0400
TZNAME:EDT
DTSTART:20270314T070000
END:DAYLIGHT
BEGIN:STANDARD
TZOFFSETFROM:-0400
TZOFFSETTO:-0500
TZNAME:EST
DTSTART:20271107T060000
END:STANDARD
END:VTIMEZONE
BEGIN:VEVENT
DTSTART;TZID=America/Detroit:20260107T193000
DTEND;TZID=America/Detroit:20260107T210000
DTSTAMP:20260423T192223
CREATED:20251130T162003Z
LAST-MODIFIED:20260103T192536Z
UID:16636-1767814200-1767819600@sovereigngraceurc.org
SUMMARY:Wednessday Night Bible Study
DESCRIPTION:
URL:https://sovereigngraceurc.org/event/wednessday-night-bible-study-58
CATEGORIES:Bible Study
END:VEVENT
BEGIN:VEVENT
DTSTART;TZID=America/Detroit:20260121T193000
DTEND;TZID=America/Detroit:20260121T210000
DTSTAMP:20260423T192223
CREATED:20251130T162003Z
LAST-MODIFIED:20260103T192550Z
UID:16637-1769023800-1769029200@sovereigngraceurc.org
SUMMARY:Wednessday Night Bible Study
DESCRIPTION:
URL:https://sovereigngraceurc.org/event/wednessday-night-bible-study-59
CATEGORIES:Bible Study
END:VEVENT
BEGIN:VEVENT
DTSTART;TZID=America/Detroit:20260123T160000
DTEND;TZID=America/Detroit:20260123T170000
DTSTAMP:20260423T192223
CREATED:20251130T162017Z
LAST-MODIFIED:20251130T162017Z
UID:16644-1769184000-1769187600@sovereigngraceurc.org
SUMMARY:Face It Bible Study
DESCRIPTION:
URL:https://sovereigngraceurc.org/event/face-it-bible-study
CATEGORIES:Bible Study
END:VEVENT
BEGIN:VEVENT
DTSTART;TZID=America/Detroit:20260130T160000
DTEND;TZID=America/Detroit:20260130T170000
DTSTAMP:20260423T192223
CREATED:20251130T162017Z
LAST-MODIFIED:20251130T162017Z
UID:16645-1769788800-1769792400@sovereigngraceurc.org
SUMMARY:Face It Bible Study
DESCRIPTION:
URL:https://sovereigngraceurc.org/event/face-it-bible-study-2
CATEGORIES:Bible Study
END:VEVENT
END:VCALENDAR